Workbook

Sheet 入力方法等
B3: R8本県給料表と国の俸給表等の対応関係
B5: 本県の給料表 | C5: 国の俸給表 | D5: 全人連モデル給料表 | E5: 備考
B6: 行政職給料表 | C6: 行政職俸給表（一） | E6: ８級・９級で県独自分割
B7: 公安職給料表 | C7: 公安職俸給表（一） | E7: ５級独自増設、９級で県独自分割
B8: 研究職給料表 | C8: 研究職俸給表 | E8: ４、５級で一部独自
B9: 医療職給料表（一） | C9: 医療職俸給表（一） | E9: ５級独自分割
B10: 医療職給料表（二） | C10: 医療職俸給表（二） | E10: 特５級本県独自、６級独自増設
B11: 医療職給料表（三） | C11: 医療職俸給表（三） | E11: 特５級本県独自
B12: 大学学長職給料表 | C12: 指定職俸給表 | E12: 【H30削除】
B13: 大学教育職給料表 | D13: 旧教育職俸給表（一） | E13: 再任用なし【H30削除】
B14: 福祉職給料表 | C14: 福祉職俸給表
B15: 高等学校等教育職給料表 | D15: 旧教育職俸給表（二） | E15: ２、３、４級独自増設
B16: 小学校中学校教育職給料表 | D16: 旧教育職俸給表（三） | E16: ２、３、４級独自増設
B17: 栄養職給料表 | E17: 本県医（二）／特５級まで
B18: 事務職給料表 | E18: 本県行政／７級まで
B19: 任期付き等 | C19: 任期付き等
B21: ※本県独自部分の作成については、「給料表の作成方法（構造）」を参照のこと。
B24: 当ファイルの構成
B26: 入力シート・・「入力（行一）」、「入力（公一）」、「入力（研究）」などのシート
B27: 国の俸給表及び全人連モデル給料表を入力（コピペ）するシート
B29: 計算式シート・・「行政」、「公安」、「研究」などのシート
B30: 計算式により本県の給料表を表示するシート
B33: 当ファイルの作成方法
B35: １ 国の俸給表をコピペする。
B36: 該当する国の俸給表のシートを該当する入力シートにコピペする。
B37: コピーの際には、該当シートを『全選択』してコピーする。
B38: あるいは、俸給表内の黄色セル部分のみコピーするのでも良い。
B39: 貼り付けは、そのまま貼り付けて構わない（すべて貼り付け）。
... B69: 一つの俸給表のコピペに10～20回コピペをしていた。

Sheet 入力（行一）
A1: 別記第１
A2: 行 政 職 俸 給 表
A3: イ 行政職俸給表(一)
A4: 職員の区分 | C4: 職務 の級 | D4: 1 | E4: 2 | F4: 3 | G4: 4 | H4: 5 | I4: 6 | J4: 7 | K4: 8 | L4: 9 | M4: 10
B5: 号俸 | D5: 俸給月額 | E5: 俸給月額 | F5: 俸給月額 | G5: 俸給月額 | H5: 俸給月額 | I5: 俸給月額 | J5: 俸給月額 | K5: 俸給月額 | L5: 俸給月額 | M5: 俸給月額
A6: 定年前再任用短時間勤務職員以外の職員 | D6: 円 | E6: 円 | F6: 円 | G6: 円 | H6: 円 | I6: 円 | J6: 円 | K6: 円 | L6: 円 | M6: 円
B7: 1 | D7: 205300 | E7: 251500 | F7: 286200 | G7: 320700 | H7: 344400 | I7: 379500 | J7: 434300 | K7: 486700 | L7: 541700 | M7: 584700
B8: 2 | D8: 206400 | E8: 252800 | F8: 287200 | G8: 322200 | H8: 346200 | I8: 381200 | J8: 436200 | K8: 492000 | L8: 548400 | M8: 591700
B9: 3 | D9: 207600 | E9: 254200 | F9: 288200 | G9: 323600 | H9: 348000 | I9: 382800 | J9: 438100 | K9: 496900 | L9: 553500 | M9: 597600
B10: 4 | D10: 208700 | E10: 255600 | F10: 289200 | G10: 325000 | H10: 349800 | I10: 384400 | J10: 439900 | K10: 501500 | L10: 557700 | M10: 602400
B11: 5 | D11: 209800 | E11: 257000 | F11: 290200 | G11: 326400 | H11: 351500 | I11: 386000 | J11: 441800 | K11: 505500 | L11: 561100 | M11: 606400
B12: 6 | D12: 211500 | E12: 258400 | F12: 291200 | G12: 327600 | H12: 353300 | I12: 387800 | J12: 443600 | K12: 508900 | L12: 564300 | M12: 609300
B13: 7 | D13: 213100 | E13: 259800 | F13: 292200 | G13: 328700 | H13: 355100 | I13: 389300 | J13: 445400 | K13: 511800 | L13: 567200 | M13: 611700
B14: 8 | D14: 214700 | E14: 261200 | F14: 293200 | G14: 329900 | H14: 356700 | I14: 390900 | J14: 447200 | K14: 514300 | L14: 569700 | M14: 613600
B15: 9 | D15: 216200 | E15: 262600 | F15: 294200 | G15: 331200 | H15: 358300 | I15: 392200 | J15: 448800 | K15: 516300 | L15: 571700
B16: 10 | D16: 217900 | E16: 263800 | F16: 295300 | G16: 332800 | H16: 360000 | I16: 393800 | J16: 450300
B17: 11 | D17: 219500 | E17: 265100 | F17: 296300 | G17: 334500 | H17: 361700 | I17: 395400 | J17: 451800
B18: 12 | D18: 221100 | E18: 266400 | F18: 297300 | G18: 336100 | H18: 363400 | I18: 396900 | J18: 453300
B19: 13 | D19: 222600 | E19: 267600 | F19: 298300 | G19: 337600 | H19: 364900 | I19: 398800 | J19: 454800
B20: 14 | D20: 224300 | E20: 268800 | F20: 299600 | G20: 339200 | H20: 366500 | I20: 400700 | J20: 456100
B21: 15 | D21: 226000 | E21: 270100 | F21: 300900 | G21: 340900 | H21: 368100 | I21: 402600 | J21: 457400
B22: 16 | D22: 227700 | E22: 271300 | F22: 302100 | G22: 342500 | H22: 369600 | I22: 404400 | J22: 458600
B23: 17 | D23: 228900 | E23: 272400 | F23: 303400 | G23: 344000 | H23: 370900 | I23: 405900 | J23: 459800
B24: 18 | D24: 230500 | E24: 273500 | F24: 304700 | G24: 345700 | H24: 372600 | I24: 407700 | J24: 461100
B25: 19 | D25: 232100 | E25: 274600 | F25: 306000 | G25: 347400 | H25: 374200 | I25: 409400 | J25: 462400
B26: 20 | D26: 233600 | E26: 275700 | F26: 307200 | G26: 349000 | H26: 375800 | I26: 411000 | J26: 463600
B27: 21 | D27: 235100 | E27: 276600 | F27: 308300 | G27: 350400 | H27: 376900 | I27: 412700 | J27: 464800
... B51: 45 | D51: 261100 | E51: 295900 | F51: 337500 | G51: 386000 | H51: 404700 | I51: 432500 | J51: 476700
B52: 46 | D52: 261700 | E52: 296600 | F52: 338700 | G52: 387100 | H52: 405400 | I52: 432800
B53: 47 | D53: 262300 | E53: 297300 | F53: 339900 | G53: 388000 | H53: 406100 | I53: 433100
B54: 48 | D54: 262900 | E54: 297900 | F54: 341200 | G54: 389000 | H54: 406800 | I54: 433400
B55: 49 | D55: 263400 | E55: 298600 | F55: 342300 | G55: 389900 | H55: 407300 | I55: 433600
B56: 50 | D56: 264000 | E56: 299300 | F56: 343500 | G56: 390600 | H56: 407900 | I56: 433900
B57: 51 | D57: 264600 | E57: 300000 | F57: 344700 | G57: 391300 | H57: 408500 | I57: 434100
B58: 52 | D58: 265100 | E58: 300700 | F58: 345900 | G58: 391900 | H58: 409200 | I58: 434400
B59: 53 | D59: 265500 | E59: 301200 | F59: 347200 | G59: 392300 | H59: 409600 | I59: 434600
B60: 54 | D60: 265900 | E60: 301900 | F60: 348200 | G60: 392900 | H60: 410200 | I60: 434900
B61: 55 | D61: 266200 | E61: 302500 | F61: 349300 | G61: 393500 | H61: 410800 | I61: 435200
B62: 56 | D62: 266500 | E62: 303200 | F62: 350400 | G62: 394200 | H62: 411300 | I62: 435500
B63: 57 | D63: 266800 | E63: 303800 | F63: 351100 | G63: 394500 | H63: 411700 | I63: 435700
... B79: 73 | D79: 271600 | E79: 311900 | F79: 361200 | G79: 403200 | H79: 418100 | I79: 439700
B80: 74 | D80: 271900 | E80: 312300 | F80: 361700 | G80: 403800 | H80: 418400
B81: 75 | D81: 272200 | E81: 312600 | F81: 362000 | G81: 404200 | H81: 418700
B82: 76 | D82: 272500 | E82: 312900 | F82: 362400 | G82: 404500 | H82: 418900
B83: 77 | D83: 272800 | E83: 313100 | F83: 362800 | G83: 404900 | H83: 419100
B84: 78 | D84: 273100 | E84: 313400 | F84: 363300 | G84: 405400 | H84: 419400
B85: 79 | D85: 273400 | E85: 313600 | F85: 363800 | G85: 405800 | H85: 419700
B86: 80 | D86: 273700 | E86: 313900 | F86: 364300 | G86: 406200 | H86: 419900
B87: 81 | D87: 274000 | E87: 314100 | F87: 364600 | G87: 406600 | H87: 420100
B88: 82 | D88: 274300 | E88: 314300 | F88: 365000 | G88: 407100 | H88: 420400
B89: 83 | D89: 274600 | E89: 314600 | F89: 365400 | G89: 407500 | H89: 420700
B90: 84 | D90: 274900 | E90: 314800 | F90: 365800 | G90: 407900 | H90: 420900
B91: 85 | D91: 275200 | E91: 315100 | F91: 366100 | G91: 408200 | H91: 421100
B92: 86 | D92: 275500 | E92: 315300 | F92: 366500
B93: 87 | D93: 275800 | E93: 315600 | F93: 366900
B94: 88 | D94: 276100 | E94: 315900 | F94: 367300
B95: 89 | D95: 276400 | E95: 316200 | F95: 367500
B96: 90 | D96: 276700 | E96: 316500 | F96: 367900
B97: 91 | D97: 277000 | E97: 316800 | F97: 368300
B98: 92 | D98: 277300 | E98: 317100 | F98: 368700
B99: 93 | D99: 277600 | E99: 317300 | F99: 368900
B100: 94 | E100: 317500 | F100: 369200
B101: 95 | E101: 317800 | F101: 369600
B102: 96 | E102: 318200 | F102: 369900
B103: 97 | E103: 318400 | F103: 370200
B104: 98 | E104: 318700 | F104: 370600
B105: 99 | E105: 319000 | F105: 371000
B106: 100 | E106: 319400 | F106: 371400
B107: 101 | E107: 319600 | F107: 371900
B108: 102 | E108: 319900 | F108: 372300
B109: 103 | E109: 320200 | F109: 372700
B110: 104 | E110: 320500 | F110: 373100
B111: 105 | E111: 320700 | F111: 373600
... B115: 109 | E115: 321800 | F115: 375000
B116: 110 | E116: 322100
B117: 111 | E117: 322500
B118: 112 | E118: 322800
B119: 113 | E119: 323000
B120: 114 | E120: 323200
B121: 115 | E121: 323500
B122: 116 | E122: 323900
B123: 117 | E123: 324100
B124: 118 | E124: 324300
B125: 119 | E125: 324600
B126: 120 | E126: 324900
B127: 121 | E127: 325200
... B131: 125 | E131: 326300
A132: 定年前再任用短時間勤務職員 | D132: 基 準 俸給月額 | E132: 基 準 俸給月額 | F132: 基 準 俸給月額 | G132: 基 準 俸給月額 | H132: 基 準 俸給月額 | I132: 基 準 俸給月額 | J132: 基 準 俸給月額 | K132: 基 準 俸給月額 | L132: 基 準 俸給月額 | M132: 基 準 俸給月額
D133: 円 | E133: 円 | F133: 円 | G133: 円 | H133: 円 | I133: 円 | J133: 円 | K133: 円 | L133: 円 | M133: 円
D134: 218800 | E134: 247600 | F134: 292400 | G134: 314800 | H134: 331600 | I134: 359500 | J134: 405400 | K134: 442400 | L134: 499600 | M134: 586200
A136: 備考 この表は、他の俸給表の適用を受けない全ての職員に適用する。ただし、第二十二条及び附則第三項に規定 する職員を除く。

Sheet 入力（公一）
A2: 公 安 職 俸 給 表
A3: イ 公安職俸給表(一)
A4: 職員の区分 | C4: 職務 の級 | D4: 1 | E4: 2 | F4: 3 | G4: 4 | H4: 5 | I4: 6 | J4: 7 | K4: 8 | L4: 9 | M4: 10 | N4: 11
B5: 号俸 | D5: 俸給月額 | E5: 俸給月額 | F5: 俸給月額 | G5: 俸給月額 | H5: 俸給月額 | I5: 俸給月額 | J5: 俸給月額 | K5: 俸給月額 | L5: 俸給月額 | M5: 俸給月額 | N5: 俸給月額
A6: 定年前再任用短時間勤務職員以外の職員 | D6: 円 | E6: 円 | F6: 円 | G6: 円 | H6: 円 | I6: 円 | J6: 円 | K6: 円 | L6: 円 | M6: 円 | N6: 円
B7: 1 | D7: 236300 | E7: 257600 | F7: 280600 | G7: 319500 | H7: 356200 | I7: 378600 | J7: 410400 | K7: 447100 | L7: 494900 | M7: 541700 | N7: 584700
B8: 2 | D8: 238800 | E8: 259800 | F8: 282500 | G8: 320500 | H8: 357700 | I8: 380400 | J8: 412100 | K8: 448700 | L8: 500900 | M8: 548400 | N8: 591700
B9: 3 | D9: 241200 | E9: 262000 | F9: 284600 | G9: 321400 | H9: 359100 | I9: 382100 | J9: 413700 | K9: 450200 | L9: 505800 | M9: 553500 | N9: 597600
B10: 4 | D10: 243600 | E10: 264200 | F10: 286700 | G10: 322300 | H10: 360600 | I10: 383800 | J10: 415400 | K10: 451700 | L10: 510000 | M10: 557700 | N10: 602400
B11: 5 | D11: 245900 | E11: 266400 | F11: 288700 | G11: 322900 | H11: 362100 | I11: 385400 | J11: 416900 | K11: 453200 | L11: 514000 | M11: 561100 | N11: 606400
B12: 6 | D12: 248300 | E12: 268400 | F12: 290000 | G12: 323600 | H12: 363600 | I12: 387100 | J12: 418500 | K12: 454800 | L12: 517400 | M12: 564300 | N12: 609300
B13: 7 | D13: 250700 | E13: 270400 | F13: 291300 | G13: 324200 | H13: 365000 | I13: 388800 | J13: 420100 | K13: 456200 | L13: 520300 | M13: 567200 | N13: 611700
B14: 8 | D14: 252900 | E14: 272200 | F14: 292600 | G14: 324900 | H14: 366400 | I14: 390400 | J14: 421700 | K14: 457600 | L14: 522800 | M14: 569700 | N14: 613600
B15: 9 | D15: 255100 | E15: 274000 | F15: 293900 | G15: 325500 | H15: 367800 | I15: 391900 | J15: 423200 | K15: 458700 | L15: 525000 | M15: 571700
B16: 10 | D16: 257200 | E16: 275700 | F16: 295200 | G16: 326200 | H16: 369400 | I16: 393500 | J16: 424800 | K16: 460100
B17: 11 | D17: 259300 | E17: 277400 | F17: 296400 | G17: 326900 | H17: 371100 | I17: 395100 | J17: 426400 | K17: 461600
B18: 12 | D18: 261300 | E18: 278800 | F18: 297600 | G18: 327500 | H18: 372700 | I18: 396700 | J18: 428000 | K18: 463100
B19: 13 | D19: 263200 | E19: 280200 | F19: 298800 | G19: 328200 | H19: 374100 | I19: 398300 | J19: 429500 | K19: 464400
B20: 14 | D20: 265200 | E20: 282000 | F20: 299800 | G20: 328900 | H20: 375700 | I20: 399900 | J20: 431500 | K20: 466100
B21: 15 | D21: 267200 | E21: 283300 | F21: 300800 | G21: 329500 | H21: 377300 | I21: 401500 | J21: 433500 | K21: 467700
B22: 16 | D22: 268800 | E22: 284700 | F22: 302200 | G22: 330300 | H22: 378800 | I22: 403100 | J22: 435500 | K22: 469300
B23: 17 | D23: 270400 | E23: 286100 | F23: 303300 | G23: 331000 | H23: 380400 | I23: 404600 | J23: 437000 | K23: 470700
B24: 18 | D24: 271900 | E24: 287300 | F24: 304400 | G24: 331800 | H24: 382000 | I24: 406200 | J24: 438700 | K24: 472400
B25: 19 | D25: 273400 | E25: 288500 | F25: 305500 | G25: 332800 | H25: 383600 | I25: 407800 | J25: 440300 | K25: 474100
B26: 20 | D26: 274900 | E26: 289600 | F26: 306600 | G26: 333600 | H26: 385100 | I26: 409400 | J26: 442000 | K26: 475700
B27: 21 | D27: 276400 | E27: 290900 | F27: 307800 | G27: 334500 | H27: 386600 | I27: 410900 | J27: 443600 | K27: 477100
... B51: 45 | D51: 303000 | E51: 310900 | F51: 320800 | G51: 363500 | H51: 423400 | I51: 441300 | J51: 464900 | K51: 487400
B52: 46 | D52: 303500 | E52: 311400 | F52: 321600 | G52: 364800 | H52: 424500 | I52: 442000 | J52: 465200
B53: 47 | D53: 304000 | E53: 311900 | F53: 322400 | G53: 366000 | H53: 425600 | I53: 442700 | J53: 465500
B54: 48 | D54: 304500 | E54: 312400 | F54: 323100 | G54: 367200 | H54: 426700 | I54: 443300 | J54: 465700
B55: 49 | D55: 304900 | E55: 312900 | F55: 323900 | G55: 368500 | H55: 428000 | I55: 444000 | J55: 466000
B56: 50 | D56: 305400 | E56: 313400 | F56: 324900 | G56: 369800 | H56: 428800 | I56: 444400 | J56: 466300
B57: 51 | D57: 305900 | E57: 314000 | F57: 325900 | G57: 371000 | H57: 429600 | I57: 445000 | J57: 466600
B58: 52 | D58: 306400 | E58: 314500 | F58: 326900 | G58: 372300 | H58: 430200 | I58: 445600 | J58: 466900
B59: 53 | D59: 306900 | E59: 315100 | F59: 328000 | G59: 373200 | H59: 430700 | I59: 446000 | J59: 467100
B60: 54 | D60: 307500 | E60: 315700 | F60: 329100 | G60: 374500 | H60: 431400 | I60: 446400 | J60: 467400
B61: 55 | D61: 307900 | E61: 316400 | F61: 330100 | G61: 375700 | H61: 432000 | I61: 446900 | J61: 467600
B62: 56 | D62: 308300 | E62: 317000 | F62: 331100 | G62: 376900 | H62: 432700 | I62: 447400 | J62: 467900
B63: 57 | D63: 308800 | E63: 317600 | F63: 332200 | G63: 378000 | H63: 433000 | I63: 447900 | J63: 468100
... B79: 73 | D79: 316100 | E79: 330700 | F79: 349500 | G79: 399100 | H79: 441100 | I79: 452700 | J79: 472400
B80: 74 | D80: 316600 | E80: 331600 | F80: 350800 | G80: 400300 | H80: 441700 | I80: 453000
B81: 75 | D81: 317200 | E81: 332500 | F81: 352100 | G81: 401500 | H81: 442100 | I81: 453300
B82: 76 | D82: 317600 | E82: 333300 | F82: 353400 | G82: 402600 | H82: 442300 | I82: 453500
B83: 77 | D83: 318100 | E83: 334000 | F83: 354600 | G83: 403700 | H83: 442600 | I83: 453700
B84: 78 | D84: 318600 | E84: 334900 | F84: 356000 | G84: 404900 | H84: 443100 | I84: 454000
B85: 79 | D85: 319200 | E85: 335800 | F85: 357400 | G85: 406000 | H85: 443400 | I85: 454300
B86: 80 | D86: 319800 | E86: 336800 | F86: 358800 | G86: 407200 | H86: 443700 | I86: 454500
B87: 81 | D87: 320300 | E87: 337700 | F87: 360100 | G87: 408300 | H87: 444000 | I87: 454700
B88: 82 | D88: 320900 | E88: 338600 | F88: 361700 | G88: 408900 | H88: 444400 | I88: 455000
B89: 83 | D89: 321600 | E89: 339500 | F89: 363200 | G89: 409400 | H89: 444800 | I89: 455300
B90: 84 | D90: 322200 | E90: 340500 | F90: 364700 | G90: 409900 | H90: 445200 | I90: 455500
B91: 85 | D91: 322800 | E91: 341400 | F91: 366100 | G91: 410500 | H91: 445500 | I91: 455700
B92: 86 | D92: 323400 | E92: 342400 | F92: 367600 | G92: 411100
B93: 87 | D93: 324100 | E93: 343400 | F93: 369100 | G93: 411700
B94: 88 | D94: 324800 | E94: 344400 | F94: 370500 | G94: 412300
B95: 89 | D95: 325500 | E95: 345300 | F95: 371800 | G95: 412600
B96: 90 | D96: 326100 | E96: 346600 | F96: 373000 | G96: 413100
B97: 91 | D97: 326800 | E97: 347800 | F97: 374200 | G97: 413600
B98: 92 | D98: 327500 | E98: 349000 | F98: 375500 | G98: 414100
B99: 93 | D99: 328000 | E99: 350200 | F99: 376800 | G99: 414500
B100: 94 | D100: 328700 | E100: 351500 | F100: 378300 | G100: 414900
B101: 95 | D101: 329600 | E101: 352700 | F101: 379800 | G101: 415400
B102: 96 | D102: 330400 | E102: 353900 | F102: 381200 | G102: 415900
B103: 97 | D103: 331100 | E103: 355100 | F103: 382500 | G103: 416300
... B127: 121 | D127: 347800 | E127: 378100 | F127: 399300 | G127: 426700
B128: 122 | D128: 348100 | E128: 378500 | F128: 399800
B129: 123 | D129: 348600 | E129: 378900 | F129: 400300
B130: 124 | D130: 349100 | E130: 379300 | F130: 400700
B131: 125 | D131: 349400 | E131: 379700 | F131: 401200
B132: 126 | E132: 380100 | F132: 401700
B133: 127 | E133: 380500 | F133: 402200
B134: 128 | E134: 380900 | F134: 402700
B135: 129 | E135: 381300 | F135: 403000
B136: 130 | E136: 381700 | F136: 403500
B137: 131 | E137: 382100 | F137: 404000
B138: 132 | E138: 382500 | F138: 404500
B139: 133 | E139: 382700 | F139: 404800
B140: 134 | E140: 383200 | F140: 405300
B141: 135 | E141: 383500 | F141: 405700
B142: 136 | E142: 383800 | F142: 406100
B143: 137 | E143: 384100 | F143: 406400
... B147: 141 | E147: 385800 | F147: 408100
B148: 142 | E148: 386300
B149: 143 | E149: 386800
B150: 144 | E150: 387300
B151: 145 | E151: 387600
A152: 定年前再任用短時間勤務職員 | D152: 基 準 俸給月額 | E152: 基 準 俸給月額 | F152: 基 準 俸給月額 | G152: 基 準 俸給月額 | H152: 基 準 俸給月額 | I152: 基 準 俸給月額 | J152: 基 準 俸給月額 | K152: 基 準 俸給月額 | L152: 基 準 俸給月額 | M152: 基 準 俸給月額 | N152: 基 準 俸給月額
D153: 円 | E153: 円 | F153: 円 | G153: 円 | H153: 円 | I153: 円 | J153: 円 | K153: 円 | L153: 円 | M153: 円 | N153: 円
D154: 277300 | E154: 290300 | F154: 295200 | G154: 330500 | H154: 349300 | I154: 365000 | J154: 390700 | K154: 429400 | L154: 464800 | M154: 511600 | N154: 586200
A156: 備考 この表は、警察官、皇宮護衛官、入国警備官及び刑務所等に勤務する職員で人事院規則で定めるものに適用する。

Sheet 入力（研究）
A2: 研 究 職 俸 給 表
A4: 職員の区分 | C4: 職務 の級 | D4: 1 | E4: 2 | F4: 3 | G4: 4 | H4: 5 | I4: 6
B5: 号俸 | D5: 俸給月額 | E5: 俸給月額 | F5: 俸給月額 | G5: 俸給月額 | H5: 俸給月額 | I5: 俸給月額
A6: 定年前再任用短時間勤務職員以外の職員 | D6: 円 | E6: 円 | F6: 円 | G6: 円 | H6: 円 | I6: 円
B7: 1 | D7: 205800 | E7: 257000 | F7: 350800 | G7: 402100 | H7: 476600 | I7: 586600
B8: 2 | D8: 206900 | E8: 261300 | F8: 352800 | G8: 403500 | H8: 486800 | I8: 593500
B9: 3 | D9: 208100 | E9: 264100 | F9: 354800 | G9: 404900 | H9: 496500 | I9: 598600
B10: 4 | D10: 209200 | E10: 266900 | F10: 356700 | G10: 406300 | H10: 506400 | I10: 602900
B11: 5 | D11: 210300 | E11: 269500 | F11: 358700 | G11: 407700 | H11: 516300 | I11: 606800
B12: 6 | D12: 212500 | E12: 271300 | F12: 360700 | G12: 409100 | H12: 526300 | I12: 609800
B13: 7 | D13: 214600 | E13: 272800 | F13: 362700 | G13: 410400 | H13: 535000 | I13: 611900
B14: 8 | D14: 216700 | E14: 274300 | F14: 364600 | G14: 411800 | H14: 542900 | I14: 613900
B15: 9 | D15: 218800 | E15: 275800 | F15: 366500 | G15: 413200 | H15: 550700
B16: 10 | D16: 220900 | E16: 277800 | F16: 368100 | G16: 414700 | H16: 557800
B17: 11 | D17: 222900 | E17: 279800 | F17: 369700 | G17: 416100 | H17: 563100
B18: 12 | D18: 224900 | E18: 281700 | F18: 371300 | G18: 417500 | H18: 567600
B19: 13 | D19: 226900 | E19: 283700 | F19: 372900 | G19: 418700 | H19: 570600
B20: 14 | D20: 228800 | E20: 285900 | F20: 374000 | G20: 420200 | H20: 572600
B21: 15 | D21: 230700 | E21: 288100 | F21: 375000 | G21: 421700
B22: 16 | D22: 232500 | E22: 290300 | F22: 376000 | G22: 423200
B23: 17 | D23: 234200 | E23: 292500 | F23: 377300 | G23: 424700
B24: 18 | D24: 236000 | E24: 294800 | F24: 378500 | G24: 426300
B25: 19 | D25: 237800 | E25: 297200 | F25: 379700 | G25: 427900
B26: 20 | D26: 239600 | E26: 299600 | F26: 380900 | G26: 429600
B27: 21 | D27: 241500 | E27: 301900 | F27: 382100 | G27: 430800
B28: 22 | D28: 243300 | E28: 304100 | F28: 383300 | G28: 432200
B29: 23 | D29: 245000 | E29: 306200 | F29: 384400 | G29: 433600
B30: 24 | D30: 246700 | E30: 308300 | F30: 385400 | G30: 434900
B31: 25 | D31: 248400 | E31: 310400 | F31: 386500 | G31: 436200
B32: 26 | D32: 250500 | E32: 312300 | F32: 387500 | G32: 437500
... B63: 57 | D63: 291500 | E63: 340300 | F63: 411800 | G63: 471100
B64: 58 | D64: 292200 | E64: 340600 | F64: 412600
B65: 59 | D65: 292700 | E65: 341000 | F65: 413300
B66: 60 | D66: 293300 | E66: 341400 | F66: 414000
B67: 61 | D67: 293900 | E67: 341800 | F67: 414600
B68: 62 | D68: 294500 | E68: 342300 | F68: 415300
B69: 63 | D69: 295100 | E69: 342900 | F69: 415900
B70: 64 | D70: 295700 | E70: 343400 | F70: 416600
B71: 65 | D71: 296300 | E71: 343800 | F71: 417300
B72: 66 | D72: 296800 | E72: 344400 | F72: 417900
B73: 67 | D73: 297400 | E73: 344900 | F73: 418500
B74: 68 | D74: 297900 | E74: 345500 | F74: 419200
B75: 69 | D75: 298500 | E75: 346000 | F75: 419900
... B87: 81 | D87: 306200 | E87: 352800 | F87: 426400
B88: 82 | D88: 306900 | E88: 353500
B89: 83 | D89: 307600 | E89: 354100
B90: 84 | D90: 308200 | E90: 354700
B91: 85 | D91: 308700 | E91: 355200
B92: 86 | D92: 309400 | E92: 355700
B93: 87 | D93: 310100 | E93: 356100
B94: 88 | D94: 310700 | E94: 356400
B95: 89 | D95: 311200 | E95: 356700
B96: 90 | D96: 311800 | E96: 357200
B97: 91 | D97: 312500 | E97: 357500
B98: 92 | D98: 313100 | E98: 357900
B99: 93 | D99: 313700 | E99: 358200
... B127: 121 | D127: 323200 | E127: 370400
A128: 定年前再任用短時間勤務職員 | D128: 基 準 俸給月額 | E128: 基 準 俸給月額 | F128: 基 準 俸給月額 | G128: 基 準 俸給月額 | H128: 基 準 俸給月額 | I128: 基 準 俸給月額
D129: 円 | E129: 円 | F129: 円 | G129: 円 | H129: 円 | I129: 円
D130: 250200 | E130: 296600 | F130: 324600 | G130: 371700 | H130: 435900 | I130: 588000
A132: 備考 この表は、試験所、研究所等で人事院の指定するものに勤務し、試験研究又は調査研究業務に従事する職員 で人事院規則で定めるものに適用する。

Sheet 入力（医一）
A2: 医 療 職 俸 給 表
A3: イ 医療職俸給表(一)
A4: 職員の区分 | C4: 職務 の級 | D4: 1 | E4: 2 | F4: 3 | G4: 4 | H4: 5
B5: 号俸 | D5: 俸給月額 | E5: 俸給月額 | F5: 俸給月額 | G5: 俸給月額 | H5: 俸給月額
A6: 定年前再任用短時間勤務職員以外の職員 | D6: 円 | E6: 円 | F6: 円 | G6: 円 | H6: 円
B7: 1 | D7: 317300 | E7: 430100 | F7: 486900 | G7: 584000 | H7: 632700
B8: 2 | D8: 319700 | E8: 432800 | F8: 488900 | G8: 590100 | H8: 638500
B9: 3 | D9: 322000 | E9: 435500 | F9: 490800 | G9: 595200 | H9: 643500
B10: 4 | D10: 324200 | E10: 438100 | F10: 492700 | G10: 599900 | H10: 647800
B11: 5 | D11: 326400 | E11: 440600 | F11: 494200 | G11: 604200 | H11: 651800
B12: 6 | D12: 329900 | E12: 442800 | F12: 495900 | G12: 608500 | H12: 655200
B13: 7 | D13: 333400 | E13: 444800 | F13: 497700 | G13: 611900 | H13: 658100
B14: 8 | D14: 336900 | E14: 446900 | F14: 499500 | G14: 614800 | H14: 660800
B15: 9 | D15: 340500 | E15: 449000 | F15: 501300 | G15: 617300
B16: 10 | D16: 344000 | E16: 450600 | F16: 503000 | G16: 619600
B17: 11 | D17: 347500 | E17: 452200 | F17: 504800
B18: 12 | D18: 351000 | E18: 453800 | F18: 506600
B19: 13 | D19: 354500 | E19: 455400 | F19: 508400
B20: 14 | D20: 358000 | E20: 456900 | F20: 510100
B21: 15 | D21: 361500 | E21: 458400 | F21: 511900
B22: 16 | D22: 365000 | E22: 459800 | F22: 513700
B23: 17 | D23: 368400 | E23: 461200 | F23: 515500
B24: 18 | D24: 371600 | E24: 462700 | F24: 517400
B25: 19 | D25: 374900 | E25: 464200 | F25: 519300
B26: 20 | D26: 378100 | E26: 465600 | F26: 521200
B27: 21 | D27: 381400 | E27: 466900 | F27: 523100
B28: 22 | D28: 384700 | E28: 468400 | F28: 524800
... B71: 65 | D71: 433000 | E71: 511900 | F71: 572700
B72: 66 | E72: 512500 | F72: 573600
B73: 67 | E73: 513100 | F73: 574500
B74: 68 | E74: 513600 | F74: 575400
B75: 69 | E75: 514100 | F75: 576200
B76: 70 | E76: 514600 | F76: 577100
B77: 71 | E77: 515100 | F77: 578000
B78: 72 | E78: 515600 | F78: 578900
B79: 73 | E79: 516000 | F79: 579700
B80: 74 | E80: 516500
B81: 75 | E81: 516900
B82: 76 | E82: 517300
B83: 77 | E83: 517800
B84: 78 | E84: 518400
B85: 79 | E85: 518900
B86: 80 | E86: 519300
B87: 81 | E87: 519800
B88: 82 | E88: 520400
B89: 83 | E89: 521000
B90: 84 | E90: 521500
B91: 85 | E91: 522000
A92: 定年前再任用短時間勤務職員 | D92: 基 準 俸給月額 | E92: 基 準 俸給月額 | F92: 基 準 俸給月額 | G92: 基 準 俸給月額 | H92: 基 準 俸給月額
D93: 円 | E93: 円 | F93: 円 | G93: 円 | H93: 円
D94: 339500 | E94: 386200 | F94: 446500 | G94: 528200 | H94: 636200
A96: 備考 この表は、病院、療養所、診療所等に勤務する医師及び歯科医師で人事院規則で定めるものに適用する。

Sheet 入力（医二）
A3: ロ 医療職俸給表(二)
A4: 職員の区分 | C4: 職務 の級 | D4: 1 | E4: 2 | F4: 3 | G4: 4 | H4: 5 | I4: 6 | J4: 7 | K4: 8
B5: 号俸 | D5: 俸給月額 | E5: 俸給月額 | F5: 俸給月額 | G5: 俸給月額 | H5: 俸給月額 | I5: 俸給月額 | J5: 俸給月額 | K5: 俸給月額
A6: 定年前再任用短時間勤務職員以外の職員 | D6: 円 | E6: 円 | F6: 円 | G6: 円 | H6: 円 | I6: 円 | J6: 円 | K6: 円
B7: 1 | D7: 210500 | E7: 249600 | F7: 284500 | G7: 303700 | H7: 337600 | I7: 385000 | J7: 440600 | K7: 507500
B8: 2 | D8: 212700 | E8: 250900 | F8: 285300 | G8: 304500 | H8: 339100 | I8: 386700 | J8: 442600 | K8: 508900
B9: 3 | D9: 214800 | E9: 252200 | F9: 286000 | G9: 305200 | H9: 340600 | I9: 388300 | J9: 444600 | K9: 510200
B10: 4 | D10: 216900 | E10: 253500 | F10: 286800 | G10: 305900 | H10: 342000 | I10: 389900 | J10: 446500 | K10: 511500
B11: 5 | D11: 218900 | E11: 254700 | F11: 287600 | G11: 306700 | H11: 343500 | I11: 391400 | J11: 448300 | K11: 512800
B12: 6 | D12: 220900 | E12: 255800 | F12: 288400 | G12: 307400 | H12: 345100 | I12: 393000 | J12: 450000 | K12: 514200
B13: 7 | D13: 222900 | E13: 256800 | F13: 289200 | G13: 308100 | H13: 346700 | I13: 394600 | J13: 451600 | K13: 515600
B14: 8 | D14: 224800 | E14: 257700 | F14: 289900 | G14: 308800 | H14: 348200 | I14: 396200 | J14: 453100 | K14: 516800
B15: 9 | D15: 226600 | E15: 258800 | F15: 290600 | G15: 309600 | H15: 349700 | I15: 397800 | J15: 454600 | K15: 518200
B16: 10 | D16: 228500 | E16: 259900 | F16: 291400 | G16: 310300 | H16: 351300 | I16: 399800 | J16: 455900 | K16: 519500
B17: 11 | D17: 230400 | E17: 261000 | F17: 292200 | G17: 311100 | H17: 352900 | I17: 401800 | J17: 457200 | K17: 520900
B18: 12 | D18: 232500 | E18: 262200 | F18: 293000 | G18: 311700 | H18: 354400 | I18: 403800 | J18: 458500 | K18: 522300
... B27: 21 | D27: 246800 | E27: 272100 | F27: 300100 | G27: 321900 | H27: 368100 | I27: 417800 | J27: 469100 | K27: 531900
B28: 22 | D28: 247600 | E28: 273000 | F28: 301000 | G28: 323100 | H28: 369600 | I28: 419100 | J28: 469900
B29: 23 | D29: 248500 | E29: 273800 | F29: 301900 | G29: 324300 | H29: 371100 | I29: 420400 | J29: 470300
B30: 24 | D30: 249300 | E30: 274600 | F30: 302600 | G30: 325500 | H30: 372500 | I30: 421500 | J30: 471000
B31: 25 | D31: 250200 | E31: 275400 | F31: 303300 | G31: 326700 | H31: 373900 | I31: 422600 | J31: 471500
B32: 26 | D32: 251100 | E32: 276200 | F32: 304200 | G32: 327900 | H32: 375400 | I32: 423700 | J32: 471900
B33: 27 | D33: 252000 | E33: 277000 | F33: 305100 | G33: 329100 | H33: 376900 | I33: 424800 | J33: 472300
B34: 28 | D34: 252900 | E34: 277800 | F34: 305900 | G34: 330300 | H34: 378300 | I34: 425900 | J34: 472700
B35: 29 | D35: 253700 | E35: 278500 | F35: 306700 | G35: 331600 | H35: 379700 | I35: 426700 | J35: 473100
B36: 30 | D36: 254500 | E36: 279300 | F36: 307700 | G36: 332800 | H36: 381300 | I36: 427500 | J36: 473500
B37: 31 | D37: 255200 | E37: 280100 | F37: 308700 | G37: 334100 | H37: 382700 | I37: 428200 | J37: 473800
B38: 32 | D38: 256000 | E38: 280900 | F38: 309700 | G38: 335300 | H38: 384200 | I38: 429000 | J38: 474100
B39: 33 | D39: 256700 | E39: 281700 | F39: 310700 | G39: 336500 | H39: 385400 | I39: 429400 | J39: 474400
... B43: 37 | D43: 259300 | E43: 284800 | F43: 314800 | G43: 341300 | H43: 389800 | I43: 431300 | J43: 475600
B44: 38 | D44: 259900 | E44: 285600 | F44: 315900 | G44: 342500 | H44: 390600 | I44: 431500
B45: 39 | D45: 260500 | E45: 286400 | F45: 317000 | G45: 343700 | H45: 391500 | I45: 431800
B46: 40 | D46: 261000 | E46: 287100 | F46: 318000 | G46: 344800 | H46: 392600 | I46: 432100
B47: 41 | D47: 261500 | E47: 287800 | F47: 319000 | G47: 345700 | H47: 393600 | I47: 432400
B48: 42 | D48: 262100 | E48: 288600 | F48: 320200 | G48: 346900 | H48: 394600 | I48: 432700
B49: 43 | D49: 262700 | E49: 289400 | F49: 321400 | G49: 348000 | H49: 395600 | I49: 433000
B50: 44 | D50: 263200 | E50: 290100 | F50: 322500 | G50: 349100 | H50: 396500 | I50: 433300
B51: 45 | D51: 263600 | E51: 290800 | F51: 323500 | G51: 350000 | H51: 397300 | I51: 433500
B52: 46 | D52: 264200 | E52: 291600 | F52: 324600 | G52: 350900 | H52: 398100 | I52: 433800
B53: 47 | D53: 264600 | E53: 292400 | F53: 325700 | G53: 351900 | H53: 399000 | I53: 434100
B54: 48 | D54: 265000 | E54: 293100 | F54: 326800 | G54: 352800 | H54: 399800 | I54: 434400
B55: 49 | D55: 265400 | E55: 293800 | F55: 327900 | G55: 353700 | H55: 400300 | I55: 434600
... B59: 53 | D59: 267200 | E59: 296600 | F59: 332000 | G59: 357000 | H59: 403100 | I59: 435600
B60: 54 | D60: 267500 | E60: 297300 | F60: 332900 | G60: 357900 | H60: 403800
B61: 55 | D61: 267800 | E61: 298000 | F61: 333800 | G61: 358600 | H61: 404500
B62: 56 | D62: 268100 | E62: 298600 | F62: 334800 | G62: 359500 | H62: 405100
B63: 57 | D63: 268400 | E63: 299300 | F63: 335700 | G63: 360200 | H63: 405500
B64: 58 | D64: 268700 | E64: 300100 | F64: 336500 | G64: 360500 | H64: 406000
B65: 59 | D65: 269000 | E65: 300800 | F65: 337500 | G65: 360900 | H65: 406600
B66: 60 | D66: 269300 | E66: 301400 | F66: 338400 | G66: 361500 | H66: 407200
B67: 61 | D67: 269600 | E67: 301900 | F67: 339300 | G67: 362100 | H67: 407600
B68: 62 | D68: 269900 | E68: 302600 | F68: 340000 | G68: 362800 | H68: 408100
B69: 63 | D69: 270200 | E69: 303300 | F69: 340700 | G69: 363500 | H69: 408600
B70: 64 | D70: 270500 | E70: 303900 | F70: 341300 | G70: 364100 | H70: 409100
B71: 65 | D71: 270800 | E71: 304400 | F71: 341900 | G71: 364800 | H71: 409700
... B83: 77 | D83: 274000 | E83: 310500 | F83: 348100 | G83: 370400 | H83: 415200
B84: 78 | D84: 274300 | E84: 310800 | F84: 348600 | G84: 370700
B85: 79 | D85: 274600 | E85: 311000 | F85: 349000 | G85: 370900
B86: 80 | D86: 274800 | E86: 311300 | F86: 349500 | G86: 371200
B87: 81 | D87: 275000 | E87: 311600 | F87: 350000 | G87: 371700
B88: 82 | D88: 275300 | E88: 311800 | F88: 350300 | G88: 372000
B89: 83 | D89: 275600 | E89: 312100 | F89: 350500 | G89: 372300
B90: 84 | D90: 275800 | E90: 312400 | F90: 350800 | G90: 372600
B91: 85 | D91: 276000 | E91: 312600 | F91: 351200 | G91: 373000
B92: 86 | E92: 312800 | F92: 351600 | G92: 373300
B93: 87 | E93: 313000 | F93: 351900 | G93: 373600
B94: 88 | E94: 313200 | F94: 352200 | G94: 373900
B95: 89 | E95: 313600 | F95: 352500 | G95: 374300
B96: 90 | E96: 313800 | F96: 352700 | G96: 374600
B97: 91 | E97: 314000 | F97: 353100 | G97: 374800
B98: 92 | E98: 314200 | F98: 353400 | G98: 375100
B99: 93 | E99: 314600 | F99: 353600 | G99: 375400
B100: 94 | E100: 314800 | F100: 353900 | G100: 375800
B101: 95 | E101: 315000 | F101: 354200 | G101: 376200
B102: 96 | E102: 315300 | F102: 354400 | G102: 376600
B103: 97 | E103: 315600 | F103: 354600 | G103: 377100
... B107: 101 | E107: 316600 | F107: 355600 | G107: 378800
B108: 102 | E108: 316800 | F108: 355800
B109: 103 | E109: 317000 | F109: 356200
B110: 104 | E110: 317300 | F110: 356400
B111: 105 | E111: 317600 | F111: 356600
B112: 106 | F112: 356900
B113: 107 | F113: 357300
B114: 108 | F114: 357700
B115: 109 | F115: 357900
A116: 定年前再任用短時間勤務職員 | D116: 基 準 俸給月額 | E116: 基 準 俸給月額 | F116: 基 準 俸給月額 | G116: 基 準 俸給月額 | H116: 基 準 俸給月額 | I116: 基 準 俸給月額 | J116: 基 準 俸給月額 | K116: 基 準 俸給月額
D117: 円 | E117: 円 | F117: 円 | G117: 円 | H117: 円 | I117: 円 | J117: 円 | K117: 円
D118: 219900 | E118: 247700 | F118: 279200 | G118: 294400 | H118: 323100 | I118: 368700 | J118: 414700 | K118: 484100
A120: 備考 この表は、病院、療養所、診療所等に勤務する薬剤師、栄養士その他の職員で人事院規則で定めるものに適 用する。

Sheet 入力（医三）
A3: ハ 医療職俸給表(三)
A4: 職員の区分 | C4: 職務 の級 | D4: 1 | E4: 2 | F4: 3 | G4: 4 | H4: 5 | I4: 6 | J4: 7
B5: 号俸 | D5: 俸給月額 | E5: 俸給月額 | F5: 俸給月額 | G5: 俸給月額 | H5: 俸給月額 | I5: 俸給月額 | J5: 俸給月額
A6: 定年前再任用短時間勤務職員以外の職員 | D6: 円 | E6: 円 | F6: 円 | G6: 円 | H6: 円 | I6: 円 | J6: 円
B7: 1 | D7: 232500 | E7: 265700 | F7: 304700 | G7: 318200 | H7: 342300 | I7: 386200 | J7: 442400
B8: 2 | D8: 234400 | E8: 267800 | F8: 305200 | G8: 318700 | H8: 343300 | I8: 388000 | J8: 444600
B9: 3 | D9: 236200 | E9: 270000 | F9: 305700 | G9: 319200 | H9: 344300 | I9: 389700 | J9: 446800
B10: 4 | D10: 237900 | E10: 272200 | F10: 306200 | G10: 319700 | H10: 345300 | I10: 391500 | J10: 449000
B11: 5 | D11: 239600 | E11: 274400 | F11: 306600 | G11: 320200 | H11: 346400 | I11: 393400 | J11: 451000
B12: 6 | D12: 241500 | E12: 275400 | F12: 307100 | G12: 320700 | H12: 347600 | I12: 395400 | J12: 453000
B13: 7 | D13: 243400 | E13: 276200 | F13: 307600 | G13: 321300 | H13: 348800 | I13: 397500 | J13: 454800
B14: 8 | D14: 245100 | E14: 277100 | F14: 308000 | G14: 321700 | H14: 350000 | I14: 399600 | J14: 456700
B15: 9 | D15: 246800 | E15: 277900 | F15: 308400 | G15: 322200 | H15: 351000 | I15: 401300 | J15: 458400
B16: 10 | D16: 248700 | E16: 279000 | F16: 308900 | G16: 322700 | H16: 352200 | I16: 403400 | J16: 460000
B17: 11 | D17: 250600 | E17: 280100 | F17: 309400 | G17: 323300 | H17: 353400 | I17: 405500 | J17: 461800
B18: 12 | D18: 252500 | E18: 281000 | F18: 309900 | G18: 323800 | H18: 354500 | I18: 407500 | J18: 463400
... B47: 41 | D47: 285600 | E47: 302700 | F47: 327600 | G47: 350200 | H47: 390400 | I47: 452100 | J47: 493400
B48: 42 | D48: 286200 | E48: 303200 | F48: 328500 | G48: 351300 | H48: 391800 | I48: 453100
B49: 43 | D49: 286900 | E49: 303600 | F49: 329500 | G49: 352400 | H49: 393100 | I49: 454200
B50: 44 | D50: 287500 | E50: 304100 | F50: 330400 | G50: 353400 | H50: 394400 | I50: 455300
B51: 45 | D51: 288300 | E51: 304600 | F51: 331300 | G51: 354300 | H51: 395900 | I51: 456300
B52: 46 | D52: 289000 | E52: 305000 | F52: 332300 | G52: 355200 | H52: 397100 | I52: 456800
B53: 47 | D53: 289700 | E53: 305500 | F53: 333300 | G53: 356200 | H53: 398200 | I53: 457300
B54: 48 | D54: 290300 | E54: 305900 | F54: 334200 | G54: 357200 | H54: 399400 | I54: 457700
B55: 49 | D55: 290800 | E55: 306400 | F55: 335100 | G55: 358400 | H55: 400500 | I55: 458300
B56: 50 | D56: 291300 | E56: 306800 | F56: 336000 | G56: 359700 | H56: 401400 | I56: 458800
B57: 51 | D57: 291700 | E57: 307300 | F57: 337000 | G57: 360900 | H57: 402400 | I57: 459200
B58: 52 | D58: 292100 | E58: 307800 | F58: 338000 | G58: 362100 | H58: 403300 | I58: 459700
B59: 53 | D59: 292400 | E59: 308200 | F59: 338800 | G59: 363000 | H59: 403900 | I59: 460200
... B63: 57 | D63: 294100 | E63: 310000 | F63: 342500 | G63: 367600 | H63: 407000 | I63: 461600
B64: 58 | D64: 294500 | E64: 310700 | F64: 343400 | G64: 368500 | H64: 407700
B65: 59 | D65: 294800 | E65: 311400 | F65: 344400 | G65: 369600 | H65: 408400
B66: 60 | D66: 295100 | E66: 312100 | F66: 345300 | G66: 370800 | H66: 409000
B67: 61 | D67: 295500 | E67: 312800 | F67: 346200 | G67: 371900 | H67: 409600
B68: 62 | D68: 295900 | E68: 313700 | F68: 347300 | G68: 373100 | H68: 410200
B69: 63 | D69: 296300 | E69: 314600 | F69: 348500 | G69: 374300 | H69: 410900
B70: 64 | D70: 296600 | E70: 315300 | F70: 349700 | G70: 375300 | H70: 411500
B71: 65 | D71: 296900 | E71: 316000 | F71: 350400 | G71: 376300 | H71: 412200
B72: 66 | D72: 297300 | E72: 316900 | F72: 351500 | G72: 377300 | H72: 412700
B73: 67 | D73: 297700 | E73: 317700 | F73: 352600 | G73: 378400 | H73: 413300
B74: 68 | D74: 298000 | E74: 318500 | F74: 353500 | G74: 379500 | H74: 413800
B75: 69 | D75: 298400 | E75: 319200 | F75: 354600 | G75: 380300 | H75: 414200
... B91: 85 | D91: 305800 | E91: 332300 | F91: 371000 | G91: 391100 | H91: 420700
B92: 86 | D92: 306200 | E92: 333100 | F92: 371800 | G92: 391500
B93: 87 | D93: 306700 | E93: 334100 | F93: 372600 | G93: 392100
B94: 88 | D94: 307200 | E94: 335100 | F94: 373400 | G94: 392600
B95: 89 | D95: 307600 | E95: 336000 | F95: 374000 | G95: 392900
B96: 90 | D96: 308100 | E96: 337000 | F96: 374600 | G96: 393400
B97: 91 | D97: 308600 | E97: 338000 | F97: 375200 | G97: 393700
B98: 92 | D98: 309100 | E98: 339000 | F98: 375800 | G98: 394000
B99: 93 | D99: 309600 | E99: 339800 | F99: 376200 | G99: 394600
B100: 94 | D100: 309900 | E100: 340500 | F100: 376600 | G100: 395100
B101: 95 | D101: 310400 | E101: 341200 | F101: 377100 | G101: 395600
B102: 96 | D102: 310900 | E102: 341800 | F102: 377500 | G102: 396100
B103: 97 | D103: 311400 | E103: 342200 | F103: 378000 | G103: 396700
... B115: 109 | D115: 315800 | E115: 347900 | F115: 383100 | G115: 402800
B116: 110 | D116: 316100 | E116: 348200 | F116: 383600
B117: 111 | D117: 316300 | E117: 348500 | F117: 384100
B118: 112 | D118: 316600 | E118: 348800 | F118: 384500
B119: 113 | D119: 316900 | E119: 349100 | F119: 384900
B120: 114 | D120: 317100 | E120: 349500 | F120: 385300
B121: 115 | D121: 317400 | E121: 349800 | F121: 385800
B122: 116 | D122: 317600 | E122: 350100 | F122: 386300
B123: 117 | D123: 317900 | E123: 350300 | F123: 386700
B124: 118 | D124: 318100 | E124: 350600 | F124: 387200
B125: 119 | D125: 318400 | E125: 350900 | F125: 387700
B126: 120 | D126: 318700 | E126: 351100 | F126: 388200
B127: 121 | D127: 319000 | E127: 351300 | F127: 388500
B128: 122 | D128: 319300 | E128: 351600
B129: 123 | D129: 319600 | E129: 351900
B130: 124 | D130: 319900 | E130: 352200
B131: 125 | D131: 320100 | E131: 352400
B132: 126 | D132: 320300 | E132: 352700
B133: 127 | D133: 320600 | E133: 353000
B134: 128 | D134: 321000 | E134: 353200
B135: 129 | D135: 321200 | E135: 353400
B136: 130 | D136: 321500 | E136: 353600
B137: 131 | D137: 321800 | E137: 353900
B138: 132 | D138: 322200 | E138: 354100
B139: 133 | D139: 322400 | E139: 354400
... B159: 153 | D159: 328000 | E159: 361800
B160: 154 | D160: 328200
B161: 155 | D161: 328400
B162: 156 | D162: 328700
B163: 157 | D163: 329000
B164: 158 | D164: 329300
B165: 159 | D165: 329600
B166: 160 | D166: 329900
B167: 161 | D167: 330300
B168: 162 | D168: 330600
B169: 163 | D169: 330900
B170: 164 | D170: 331200
B171: 165 | D171: 331600
... B175: 169 | D175: 332900
A176: 定年前再任用短時間勤務職員 | D176: 基 準 俸給月額 | E176: 基 準 俸給月額 | F176: 基 準 俸給月額 | G176: 基 準 俸給月額 | H176: 基 準 俸給月額 | I176: 基 準 俸給月額 | J176: 基 準 俸給月額
D177: 円 | E177: 円 | F177: 円 | G177: 円 | H177: 円 | I177: 円 | J177: 円
D178: 270400 | E178: 292600 | F178: 300900 | G178: 312600 | H178: 331000 | I178: 372300 | J178: 420700
A180: 備考 この表は、病院、療養所、診療所等に勤務する保健師、助産師、看護師、准看護師その他の職員で人事院規 則で定めるものに適用する。

Sheet 入力（福祉）
A2: 福 祉 職 俸 給 表
A4: 職員の区分 | C4: 職務 の級 | D4: 1 | E4: 2 | F4: 3 | G4: 4 | H4: 5 | I4: 6
B5: 号俸 | D5: 俸給月額 | E5: 俸給月額 | F5: 俸給月額 | G5: 俸給月額 | H5: 俸給月額 | I5: 俸給月額
A6: 定年前再任用短時間勤務職員以外の職員 | D6: 円 | E6: 円 | F6: 円 | G6: 円 | H6: 円 | I6: 円
B7: 1 | D7: 222800 | E7: 278000 | F7: 310200 | G7: 337000 | H7: 379500 | I7: 434300
B8: 2 | D8: 224500 | E8: 279400 | F8: 311100 | G8: 338700 | H8: 381200 | I8: 436200
B9: 3 | D9: 226100 | E9: 280700 | F9: 311900 | G9: 340300 | H9: 382800 | I9: 438100
B10: 4 | D10: 227800 | E10: 282000 | F10: 312900 | G10: 341800 | H10: 384400 | I10: 439900
B11: 5 | D11: 229300 | E11: 283400 | F11: 313800 | G11: 343200 | H11: 386000 | I11: 441800
B12: 6 | D12: 230900 | E12: 284400 | F12: 314700 | G12: 344600 | H12: 387800 | I12: 443600
B13: 7 | D13: 232500 | E13: 285400 | F13: 315600 | G13: 345900 | H13: 389300 | I13: 445400
B14: 8 | D14: 234100 | E14: 286400 | F14: 316400 | G14: 347300 | H14: 390900 | I14: 447200
B15: 9 | D15: 235700 | E15: 287300 | F15: 317200 | G15: 348700 | H15: 392200 | I15: 448800
B16: 10 | D16: 237500 | E16: 288200 | F16: 318200 | G16: 350300 | H16: 393800 | I16: 450300
B17: 11 | D17: 239300 | E17: 289200 | F17: 319400 | G17: 351800 | H17: 395400 | I17: 451800
B18: 12 | D18: 240300 | E18: 290100 | F18: 320500 | G18: 353300 | H18: 396900 | I18: 453300
... B51: 45 | D51: 271000 | E51: 319300 | F51: 354100 | G51: 399500 | H51: 432500 | I51: 476700
B52: 46 | D52: 271500 | E52: 320300 | F52: 354700 | G52: 400100 | H52: 432800
B53: 47 | D53: 272000 | E53: 321200 | F53: 355300 | G53: 400700 | H53: 433100
B54: 48 | D54: 272400 | E54: 322000 | F54: 355900 | G54: 401400 | H54: 433400
B55: 49 | D55: 272800 | E55: 322900 | F55: 356500 | G55: 402200 | H55: 433600
B56: 50 | D56: 273400 | E56: 323800 | F56: 357100 | G56: 402900 | H56: 433900
B57: 51 | D57: 273900 | E57: 324700 | F57: 357600 | G57: 403700 | H57: 434100
B58: 52 | D58: 274400 | E58: 325500 | F58: 358100 | G58: 404400 | H58: 434400
B59: 53 | D59: 274800 | E59: 326500 | F59: 358700 | G59: 405200 | H59: 434600
B60: 54 | D60: 275300 | E60: 327400 | F60: 359200 | G60: 405900 | H60: 434900
B61: 55 | D61: 275700 | E61: 328400 | F61: 359700 | G61: 406600 | H61: 435200
B62: 56 | D62: 276100 | E62: 329300 | F62: 360100 | G62: 407200 | H62: 435500
B63: 57 | D63: 276600 | E63: 330200 | F63: 360500 | G63: 407500 | H63: 435700
... B71: 65 | D71: 279500 | E71: 336900 | F71: 363500 | G71: 412100 | H71: 437700
B72: 66 | D72: 279900 | E72: 337700 | F72: 364000 | G72: 412600
B73: 67 | D73: 280200 | E73: 338400 | F73: 364400 | G73: 413200
B74: 68 | D74: 280500 | E74: 339100 | F74: 364900 | G74: 413700
B75: 69 | D75: 280900 | E75: 339600 | F75: 365100 | G75: 414100
B76: 70 | D76: 281200 | E76: 340100 | F76: 365600 | G76: 414600
B77: 71 | D77: 281500 | E77: 340600 | F77: 366000 | G77: 415100
B78: 72 | D78: 281900 | E78: 341000 | F78: 366400 | G78: 415600
B79: 73 | D79: 282300 | E79: 341400 | F79: 366700 | G79: 416100
B80: 74 | D80: 282600 | E80: 341900 | F80: 367100 | G80: 416500
B81: 75 | D81: 283000 | E81: 342400 | F81: 367600 | G81: 416800
B82: 76 | D82: 283300 | E82: 342800 | F82: 368000 | G82: 417100
B83: 77 | D83: 283600 | E83: 343100 | F83: 368200 | G83: 417300
... B91: 85 | D91: 286100 | E91: 345500 | F91: 371000 | G91: 419300
B92: 86 | D92: 286400 | E92: 345900 | F92: 371400
B93: 87 | D93: 286800 | E93: 346200 | F93: 371800
B94: 88 | D94: 287100 | E94: 346400 | F94: 372000
B95: 89 | D95: 287400 | E95: 346900 | F95: 372300
B96: 90 | D96: 287600 | E96: 347300
B97: 91 | D97: 287900 | E97: 347500
B98: 92 | D98: 288200 | E98: 347800
B99: 93 | D99: 288500 | E99: 348200
B100: 94 | D100: 288800 | E100: 348600
B101: 95 | D101: 289200 | E101: 348900
B102: 96 | D102: 289500 | E102: 349200
B103: 97 | D103: 289700 | E103: 349400
B104: 98 | D104: 290000 | E104: 349700
B105: 99 | D105: 290300 | E105: 350000
B106: 100 | D106: 290600 | E106: 350300
B107: 101 | D107: 290900 | E107: 350700
... B123: 117 | D123: 295400 | E123: 355300
B124: 118 | D124: 295700
B125: 119 | D125: 296000
B126: 120 | D126: 296300
B127: 121 | D127: 296500
B128: 122 | D128: 296700
B129: 123 | D129: 297100
B130: 124 | D130: 297400
B131: 125 | D131: 297600
B132: 126 | D132: 297900
B133: 127 | D133: 298200
B134: 128 | D134: 298600
B135: 129 | D135: 298800
... B159: 153 | D159: 305500
A160: 定年前再任用短時間勤務職員 | D160: 基 準 俸給月額 | E160: 基 準 俸給月額 | F160: 基 準 俸給月額 | G160: 基 準 俸給月額 | H160: 基 準 俸給月額 | I160: 基 準 俸給月額
D161: 円 | E161: 円 | F161: 円 | G161: 円 | H161: 円 | I161: 円
D162: 233900 | E162: 276700 | F162: 292500 | G162: 330100 | H162: 359500 | I162: 405400
A164: 備考 この表は、障害者支援施設、児童福祉施設等で人事院の指定するものに勤務し、入所者の指導、保育、介護 等の業務に従事する職員で人事院規則で定めるものに適用する。

Sheet 入力（任期付）
A1: 別記第２
D2: 第６条第１項の俸給表
D3: 号俸 | F3: 俸 給 月 額
F4: 円
D5: 1 | F5: 442000
D6: 2 | F6: 507000
D7: 3 | F7: 575000
D8: 4 | F8: 663000
D9: 5 | F9: 771000
D10: 6 | F10: 879000
D12: 第６条第２項の俸給表
D13: 号俸 | F13: 俸 給 月 額
F14: 円
D15: 1 | F15: 370000
D16: 2 | F16: 408000
D17: 3 | F17: 438000
A19: 別記第３
D21: 号俸 | F21: 俸 給 月 額
F22: 円
D23: 1 | F23: 419000
D24: 2 | F24: 470000
D25: 3 | F25: 525000
D26: 4 | F26: 593000
D27: 5 | F27: 677000
D28: 6 | F28: 790000
D29: 7 | F29: 923000

Sheet 入力（旧教二）
A1: 別紙 ２
A2: モデル給料表（令和８年４月官民較差に基づく改定）
A3: 旧教育職俸給表(二)
A4: 職員 の 区分 | C4: 職務 の級 | D4: 1 | E4: 2 | F4: ３ 級 | G4: ４ 級 | H4: ５ 級 | I4: ６ 級
B5: 号俸 | D5: 俸給月額 | E5: 俸給月額 | F5: 俸給月額 | G5: 俸給月額 | H5: 俸給月額 | I5: 俸給月額
D6: 円 | E6: 円 | F6: 円 | G6: 円 | H6: 円 | I6: 円
B7: 1 | D7: 223000 | E7: 270400 | F7: 323600 | G7: 344100 | H7: 403000 | I7: 479200
B8: 2 | D8: 225400 | E8: 271800 | F8: 325500 | G8: 346000 | H8: 404500 | I8: 481000
B9: 3 | D9: 227800 | E9: 273200 | F9: 327400 | G9: 347900 | H9: 406000 | I9: 482800
B10: 4 | D10: 230100 | E10: 274600 | F10: 329100 | G10: 349700 | H10: 407500 | I10: 484600
B11: 5 | D11: 232300 | E11: 276000 | F11: 330800 | G11: 351400 | H11: 409000 | I11: 486300
B12: 6 | D12: 234700 | E12: 277200 | F12: 332600 | G12: 353300 | H12: 410400 | I12: 488000
B13: 7 | D13: 236900 | E13: 278400 | F13: 334400 | G13: 355200 | H13: 411900 | I13: 489900
B14: 8 | D14: 239100 | E14: 279600 | F14: 336100 | G14: 357000 | H14: 413300 | I14: 491700
B15: 9 | D15: 241300 | E15: 280900 | F15: 337800 | G15: 358900 | H15: 414600 | I15: 493400
B16: 10 | D16: 243500 | E16: 282000 | F16: 339700 | G16: 360900 | H16: 416000 | I16: 495000
B17: 11 | D17: 245700 | E17: 283100 | F17: 341500 | G17: 362800 | H17: 417500 | I17: 496700
B18: 12 | D18: 248000 | E18: 284300 | F18: 343300 | G18: 364600 | H18: 419000 | I18: 498200
A19: 定年前再任用短時間勤務職員以外の職員 | B19: 13 | D19: 250200 | E19: 285600 | F19: 344800 | G19: 366400 | H19: 420300 | I19: 499700
B20: 14 | D20: 252300 | E20: 287300 | F20: 346700 | G20: 368100 | H20: 421800 | I20: 501000
B21: 15 | D21: 254400 | E21: 289000 | F21: 348600 | G21: 369700 | H21: 423300 | I21: 502400
B22: 16 | D22: 256500 | E22: 290700 | F22: 350300 | G22: 371300 | H22: 424800 | I22: 503700
B23: 17 | D23: 258600 | E23: 292400 | F23: 352000 | G23: 372900 | H23: 426200 | I23: 504900
B24: 18 | D24: 260400 | E24: 294400 | F24: 354200 | G24: 374300 | H24: 427800 | I24: 505500
B25: 19 | D25: 262100 | E25: 296600 | F25: 356000 | G25: 375600 | H25: 429400 | I25: 506100
B26: 20 | D26: 263800 | E26: 298900 | F26: 357700 | G26: 376800 | H26: 430900 | I26: 506800
B27: 21 | D27: 265500 | E27: 301100 | F27: 359400 | G27: 378200 | H27: 432100 | I27: 507400
B28: 22 | D28: 266800 | E28: 303300 | F28: 361200 | G28: 379800 | H28: 433500
B29: 23 | D29: 268100 | E29: 305600 | F29: 362800 | G29: 381400 | H29: 434900
B30: 24 | D30: 269300 | E30: 307800 | F30: 364500 | G30: 382900 | H30: 436200
B31: 25 | D31: 270500 | E31: 309900 | F31: 366200 | G31: 384400 | H31: 437800
B32: 26 | D32: 271700 | E32: 311800 | F32: 367500 | G32: 386100 | H32: 439200
B33: 27 | D33: 272900 | E33: 313700 | F33: 368900 | G33: 387700 | H33: 440500
B34: 28 | D34: 274100 | E34: 315500 | F34: 370300 | G34: 389200 | H34: 441900
B35: 29 | D35: 275200 | E35: 317400 | F35: 371800 | G35: 390800 | H35: 443300
B36: 30 | D36: 276200 | E36: 319300 | F36: 373400 | G36: 392400 | H36: 444600
B37: 31 | D37: 277300 | E37: 321100 | F37: 374900 | G37: 394000 | H37: 446100
B38: 32 | D38: 278300 | E38: 322800 | F38: 376500 | G38: 395600 | H38: 447600
B39: 33 | D39: 279400 | E39: 324500 | F39: 378100 | G39: 397200 | H39: 449200
... B62: 56 | D62: 300900 | E62: 363700 | F62: 412500 | G62: 429700 | H62: 479900
A63: 定年前再任用短時間勤務職員以外の職員 | B63: 57 | D63: 301600 | E63: 365300 | F63: 413600 | G63: 431000 | H63: 481000
B64: 58 | D64: 302200 | E64: 366900 | F64: 415000 | G64: 432300 | H64: 481600
B65: 59 | D65: 303000 | E65: 368400 | F65: 416400 | G65: 433700 | H65: 482100
B66: 60 | D66: 303800 | E66: 370000 | F66: 417700 | G66: 434900 | H66: 482600
B67: 61 | D67: 304500 | E67: 371600 | F67: 418900 | G67: 436100 | H67: 483100
B68: 62 | D68: 305100 | E68: 373200 | F68: 420100 | G68: 437500
B69: 63 | D69: 305900 | E69: 374800 | F69: 421300 | G69: 438900
B70: 64 | D70: 306500 | E70: 376300 | F70: 422600 | G70: 440200
B71: 65 | D71: 307500 | E71: 377900 | F71: 423800 | G71: 441400
B72: 66 | D72: 308300 | E72: 379500 | F72: 425000 | G72: 442600
B73: 67 | D73: 309000 | E73: 381100 | F73: 426300 | G73: 443900
B74: 68 | D74: 309700 | E74: 382600 | F74: 427500 | G74: 445300
B75: 69 | D75: 310400 | E75: 384100 | F75: 428800 | G75: 446600
B76: 70 | D76: 311100 | E76: 385700 | F76: 430000 | G76: 447800
B77: 71 | D77: 311800 | E77: 387100 | F77: 431200 | G77: 448800
B78: 72 | D78: 312500 | E78: 388600 | F78: 432400 | G78: 450000
B79: 73 | D79: 313200 | E79: 390100 | F79: 433400 | G79: 451200
... B106: 100 | D106: 331500 | E106: 424600 | F106: 453400 | G106: 467100
A107: 定年前再任用短時間勤務職員以外の職員 | B107: 101 | D107: 332300 | E107: 425500 | F107: 453600 | G107: 467300
B108: 102 | D108: 333100 | E108: 426500 | F108: 453900 | G108: 467600
B109: 103 | D109: 334000 | E109: 427600 | F109: 454200 | G109: 467900
B110: 104 | D110: 334800 | E110: 428700 | F110: 454400 | G110: 468100
B111: 105 | D111: 335400 | E111: 429400 | F111: 454600 | G111: 468300
B112: 106 | D112: 336200 | E112: 430300 | F112: 454900
B113: 107 | D113: 337000 | E113: 431200 | F113: 455200
B114: 108 | D114: 337800 | E114: 432100 | F114: 455400
B115: 109 | D115: 338400 | E115: 432900 | F115: 455600
B116: 110 | D116: 338800 | E116: 433700 | F116: 455900
B117: 111 | D117: 339100 | E117: 434500 | F117: 456200
B118: 112 | D118: 339600 | E118: 435300 | F118: 456400
B119: 113 | D119: 340100 | E119: 435900 | F119: 456600
B120: 114 | D120: 340500 | E120: 436600
B121: 115 | D121: 340900 | E121: 437300
B122: 116 | D122: 341300 | E122: 438000
B123: 117 | D123: 341800 | E123: 438600
B124: 118 | D124: 342300 | E124: 439100
B125: 119 | D125: 342700 | E125: 439400
B126: 120 | D126: 343200 | E126: 439700
B127: 121 | D127: 343700 | E127: 440000
B128: 122 | D128: 344100 | E128: 440300
B129: 123 | D129: 344500 | E129: 440600
B130: 124 | D130: 345000 | E130: 440800
B131: 125 | D131: 345500 | E131: 441000
... B141: 135 | D141: 348000 | E141: 443600
A142: 定年前再任用短時間勤務職員以外の職員 | B142: 136 | D142: 348300 | E142: 443800
B143: 137 | D143: 348600 | E143: 444000
B144: 138 | D144: 348800 | E144: 444300
B145: 139 | D145: 349100 | E145: 444600
B146: 140 | D146: 349400 | E146: 444800
B147: 141 | D147: 349600 | E147: 445000
B148: 142 | D148: 349800 | E148: 445300
B149: 143 | D149: 350100 | E149: 445600
B150: 144 | D150: 350300 | E150: 445800
B151: 145 | D151: 350600 | E151: 446000
B152: 146 | D152: 350800
B153: 147 | D153: 351100
B154: 148 | D154: 351400
B155: 149 | D155: 351600
B156: 150 | D156: 351800
B157: 151 | D157: 352100
...

Sheet 入力（旧教三）
A1: 別紙 ３
A2: モデル給料表（令和８年４月官民較差に基づく改定）
A3: 旧教育職俸給表(三)
A4: 職員 の 区分 | C4: 職務 の級 | D4: 1 | E4: 2 | F4: ３ 級 | G4: ４ 級 | H4: ５ 級 | I4: ６ 級
B5: 号俸 | D5: 俸給月額 | E5: 俸給月額 | F5: 俸給月額 | G5: 俸給月額 | H5: 俸給月額 | I5: 俸給月額
D6: 円 | E6: 円 | F6: 円 | G6: 円 | H6: 円 | I6: 円
B7: 1 | D7: 223000 | E7: 244500 | F7: 323600 | G7: 344100 | H7: 374500 | I7: 461800
B8: 2 | D8: 225400 | E8: 246900 | F8: 325500 | G8: 346000 | H8: 376000 | I8: 463100
B9: 3 | D9: 227800 | E9: 249300 | F9: 327400 | G9: 347900 | H9: 377600 | I9: 464300
B10: 4 | D10: 230100 | E10: 251800 | F10: 329100 | G10: 349700 | H10: 379100 | I10: 465600
B11: 5 | D11: 232300 | E11: 254300 | F11: 330800 | G11: 351400 | H11: 380500 | I11: 466700
B12: 6 | D12: 234700 | E12: 256700 | F12: 332600 | G12: 353300 | H12: 381900 | I12: 467800
B13: 7 | D13: 236900 | E13: 259100 | F13: 334400 | G13: 355200 | H13: 383200 | I13: 469000
B14: 8 | D14: 239100 | E14: 261600 | F14: 336100 | G14: 357000 | H14: 384600 | I14: 470300
B15: 9 | D15: 241300 | E15: 264000 | F15: 337800 | G15: 358900 | H15: 386100 | I15: 471600
B16: 10 | D16: 243500 | E16: 265600 | F16: 339700 | G16: 360900 | H16: 387400 | I16: 472800
B17: 11 | D17: 245700 | E17: 267200 | F17: 341500 | G17: 362800 | H17: 388800 | I17: 473900
B18: 12 | D18: 248000 | E18: 268800 | F18: 343300 | G18: 364600 | H18: 390100 | I18: 475000
A19: 定年前再任用短時間勤務職員以外の職員 | B19: 13 | D19: 250200 | E19: 270400 | F19: 344800 | G19: 366400 | H19: 391500 | I19: 476200
B20: 14 | D20: 252300 | E20: 271800 | F20: 346700 | G20: 368100 | H20: 392800 | I20: 477000
B21: 15 | D21: 254400 | E21: 273200 | F21: 348600 | G21: 369700 | H21: 394000 | I21: 477800
B22: 16 | D22: 256500 | E22: 274600 | F22: 350300 | G22: 371300 | H22: 395200 | I22: 478700
B23: 17 | D23: 258600 | E23: 276000 | F23: 352000 | G23: 372900 | H23: 396200 | I23: 479600
B24: 18 | D24: 260400 | E24: 277200 | F24: 354200 | G24: 374300 | H24: 397500 | I24: 480000
B25: 19 | D25: 262100 | E25: 278400 | F25: 356000 | G25: 375600 | H25: 398800 | I25: 480500
B26: 20 | D26: 263800 | E26: 279600 | F26: 357700 | G26: 376800 | H26: 399900 | I26: 481000
B27: 21 | D27: 265500 | E27: 280900 | F27: 359400 | G27: 378200 | H27: 400900 | I27: 481500
B28: 22 | D28: 266800 | E28: 282000 | F28: 361200 | G28: 379600 | H28: 402100
B29: 23 | D29: 268100 | E29: 283100 | F29: 362800 | G29: 381000 | H29: 403300
B30: 24 | D30: 269300 | E30: 284300 | F30: 364500 | G30: 382300 | H30: 404400
B31: 25 | D31: 270500 | E31: 285600 | F31: 366200 | G31: 383600 | H31: 405400
B32: 26 | D32: 271600 | E32: 287300 | F32: 367500 | G32: 385100 | H32: 406500
B33: 27 | D33: 272700 | E33: 289000 | F33: 368900 | G33: 386500 | H33: 407600
B34: 28 | D34: 273800 | E34: 290700 | F34: 370300 | G34: 387800 | H34: 408700
B35: 29 | D35: 275000 | E35: 292400 | F35: 371800 | G35: 389000 | H35: 409800
B36: 30 | D36: 276100 | E36: 294400 | F36: 373200 | G36: 390400 | H36: 411000
B37: 31 | D37: 277200 | E37: 296600 | F37: 374700 | G37: 391700 | H37: 412100
B38: 32 | D38: 278200 | E38: 298900 | F38: 376100 | G38: 393000 | H38: 413200
B39: 33 | D39: 279300 | E39: 301100 | F39: 377400 | G39: 394300 | H39: 414200
... B62: 56 | D62: 300100 | E62: 343500 | F62: 405600 | G62: 419500 | H62: 440700
A63: 定年前再任用短時間勤務職員以外の職員 | B63: 57 | D63: 300800 | E63: 345300 | F63: 406600 | G63: 420600 | H63: 441700
B64: 58 | D64: 301600 | E64: 347200 | F64: 407700 | G64: 421600 | H64: 442900
B65: 59 | D65: 302400 | E65: 348900 | F65: 408600 | G65: 422700 | H65: 444100
B66: 60 | D66: 303000 | E66: 350700 | F66: 409600 | G66: 423800 | H66: 445300
B67: 61 | D67: 303600 | E67: 352500 | F67: 410400 | G67: 424800 | H67: 445900
B68: 62 | D68: 304300 | E68: 354300 | F68: 411500 | G68: 425900 | H68: 446700
B69: 63 | D69: 305000 | E69: 356000 | F69: 412400 | G69: 427000 | H69: 447400
B70: 64 | D70: 305500 | E70: 357700 | F70: 413300 | G70: 428000 | H70: 447900
B71: 65 | D71: 306200 | E71: 359400 | F71: 414300 | G71: 428900 | H71: 448200
B72: 66 | D72: 306900 | E72: 360800 | F72: 415200 | G72: 429800 | H72: 448500
B73: 67 | D73: 307500 | E73: 362200 | F73: 416200 | G73: 430800 | H73: 448900
B74: 68 | D74: 308100 | E74: 363700 | F74: 417200 | G74: 431800 | H74: 449300
B75: 69 | D75: 308800 | E75: 365300 | F75: 418100 | G75: 432600 | H75: 449600
... B87: 81 | D87: 316200 | E87: 383000 | F87: 428400 | G87: 440400 | H87: 453000
B88: 82 | D88: 316800 | E88: 384300 | F88: 429100 | G88: 440800
B89: 83 | D89: 317400 | E89: 385600 | F89: 429800 | G89: 441100
B90: 84 | D90: 318000 | E90: 386800 | F90: 430400 | G90: 441300
B91: 85 | D91: 318400 | E91: 387900 | F91: 431000 | G91: 441500
B92: 86 | D92: 318800 | E92: 389100 | F92: 431700 | G92: 441800
B93: 87 | D93: 319300 | E93: 390100 | F93: 432200 | G93: 442100
B94: 88 | D94: 319800 | E94: 391200 | F94: 432800 | G94: 442300
B95: 89 | D95: 320200 | E95: 392200 | F95: 433300 | G95: 442500
B96: 90 | D96: 320600 | E96: 393300 | F96: 433800 | G96: 442800
B97: 91 | D97: 321000 | E97: 394400 | F97: 434200 | G97: 443100
B98: 92 | D98: 321400 | E98: 395400 | F98: 434600 | G98: 443300
B99: 93 | D99: 321700 | E99: 396500 | F99: 434800 | G99: 443500
... B106: 100 | D106: 324100 | E106: 403500 | F106: 436700 | G106: 445300
A107: 定年前再任用短時間勤務職員以外の職員 | B107: 101 | D107: 324500 | E107: 404300 | F107: 437000 | G107: 445500
B108: 102 | D108: 324800 | E108: 405300 | F108: 437300 | G108: 445800
B109: 103 | D109: 325100 | E109: 406100 | F109: 437600 | G109: 446100
B110: 104 | D110: 325400 | E110: 407000 | F110: 437800 | G110: 446300
B111: 105 | D111: 325600 | E111: 407800 | F111: 438000 | G111: 446500
B112: 106 | D112: 325900 | E112: 408700 | F112: 438300
B113: 107 | D113: 326200 | E113: 409600 | F113: 438600
B114: 108 | D114: 326400 | E114: 410500 | F114: 438800
B115: 109 | D115: 326600 | E115: 411300 | F115: 439000
B116: 110 | D116: 326800 | E116: 412300 | F116: 439300
B117: 111 | D117: 327100 | E117: 413200 | F117: 439600
B118: 112 | D118: 327400 | E118: 414100 | F118: 439800
B119: 113 | D119: 327600 | E119: 414700 | F119: 440000
B120: 114 | D120: 327800 | E120: 415600
B121: 115 | D121: 328000 | E121: 416500
B122: 116 | D122: 328300 | E122: 417400
B123: 117 | D123: 328600 | E123: 418200
B124: 118 | D124: 328800 | E124: 418900
B125: 119 | D125: 329100 | E125: 419700
B126: 120 | D126: 329400 | E126: 420500
B127: 121 | D127: 329600 | E127: 421100
B128: 122 | D128: 329800 | E128: 421800
B129: 123 | D129: 330000 | E129: 422500
B130: 124 | D130: 330300 | E130: 423100
B131: 125 | D131: 330600 | E131: 423700
B132: 126 | E132: 424400
B133: 127 | E133: 424900
B134: 128 | E134: 425500
B135: 129 | E135: 426100
B136: 130 | E136: 426700
B137: 131 | E137: 427200
B138: 132 | E138: 427700
B139: 133 | E139: 428000
...

Sheet 行政
A1: 別記第１
A2: 行 政 職 給 料 表
A4: 職員の区分 | C4: 職務 の級 | D4: 1 | E4: 2 | F4: 3 | G4: 4 | H4: 5 | I4: 6 | J4: 7 | K4: 8 | L4: 9
B5: 号給 | D5: 給料月額 | E5: 給料月額 | F5: 給料月額 | G5: 給料月額 | H5: 給料月額 | I5: 給料月額 | J5: 給料月額 | K5: 給料月額 | L5: 給料月額
A6: 定年前再任用短時間勤務職員以外の職員 | D6: 円 | E6: 円 | F6: 円 | G6: 円 | H6: 円 | I6: 円 | J6: 円 | K6: 円 | L6: 円
B7: 1 | D7: ='入力（行一）'!D7 -> 205300 | E7: ='入力（行一）'!E7 -> 251500 | F7: ='入力（行一）'!F7 -> 286200 | G7: ='入力（行一）'!G7 -> 320700 | H7: ='入力（行一）'!H7 -> 344400 | I7: ='入力（行一）'!I7 -> 379500 | J7: ='入力（行一）'!J7 -> 434300 | K7: ='入力（行一）'!K7 -> 486700 | L7: ='入力（行一）'!L7 -> 541700
B8: 2 | D8: ='入力（行一）'!D8 -> 206400 | E8: ='入力（行一）'!E8 -> 252800 | F8: ='入力（行一）'!F8 -> 287200 | G8: ='入力（行一）'!G8 -> 322200 | H8: ='入力（行一）'!H8 -> 346200 | I8: ='入力（行一）'!I8 -> 381200 | J8: ='入力（行一）'!J8 -> 436200 | K8: ='入力（行一）'!K8 -> 492000 | L8: ='入力（行一）'!L8 -> 548400
B9: 3 | D9: ='入力（行一）'!D9 -> 207600 | E9: ='入力（行一）'!E9 -> 254200 | F9: ='入力（行一）'!F9 -> 288200 | G9: ='入力（行一）'!G9 -> 323600 | H9: ='入力（行一）'!H9 -> 348000 | I9: ='入力（行一）'!I9 -> 382800 | J9: ='入力（行一）'!J9 -> 438100 | K9: ='入力（行一）'!K9 -> 496900 | L9: ='入力（行一）'!L9 -> 553500
B10: 4 | D10: ='入力（行一）'!D10 -> 208700 | E10: ='入力（行一）'!E10 -> 255600 | F10: ='入力（行一）'!F10 -> 289200 | G10: ='入力（行一）'!G10 -> 325000 | H10: ='入力（行一）'!H10 -> 349800 | I10: ='入力（行一）'!I10 -> 384400 | J10: ='入力（行一）'!J10 -> 439900 | K10: ='入力（行一）'!K10 -> 501500 | L10: ='入力（行一）'!L10 -> 557700
B11: 5 | D11: ='入力（行一）'!D11 -> 209800 | E11: ='入力（行一）'!E11 -> 257000 | F11: ='入力（行一）'!F11 -> 290200 | G11: ='入力（行一）'!G11 -> 326400 | H11: ='入力（行一）'!H11 -> 351500 | I11: ='入力（行一）'!I11 -> 386000 | J11: ='入力（行一）'!J11 -> 441800 | K11: ='入力（行一）'!K11 -> 505500 | L11: ='入力（行一）'!L11 -> 561100
B12: 6 | D12: ='入力（行一）'!D12 -> 211500 | E12: ='入力（行一）'!E12 -> 258400 | F12: ='入力（行一）'!F12 -> 291200 | G12: ='入力（行一）'!G12 -> 327600 | H12: ='入力（行一）'!H12 -> 353300 | I12: ='入力（行一）'!I12 -> 387800 | J12: ='入力（行一）'!J12 -> 443600 | K12: ='入力（行一）'!K12 -> 508900 | L12: ='入力（行一）'!L12 -> 564300
B13: 7 | D13: ='入力（行一）'!D13 -> 213100 | E13: ='入力（行一）'!E13 -> 259800 | F13: ='入力（行一）'!F13 -> 292200 | G13: ='入力（行一）'!G13 -> 328700 | H13: ='入力（行一）'!H13 -> 355100 | I13: ='入力（行一）'!I13 -> 389300 | J13: ='入力（行一）'!J13 -> 445400 | K13: ='入力（行一）'!K13 -> 511800 | L13: ='入力（行一）'!L13 -> 567200
B14: 8 | D14: ='入力（行一）'!D14 -> 214700 | E14: ='入力（行一）'!E14 -> 261200 | F14: ='入力（行一）'!F14 -> 293200 | G14: ='入力（行一）'!G14 -> 329900 | H14: ='入力（行一）'!H14 -> 356700 | I14: ='入力（行一）'!I14 -> 390900 | J14: ='入力（行一）'!J14 -> 447200 | K14: ='入力（行一）'!K14 -> 514300 | L14: ='入力（行一）'!L14 -> 569700
B15: 9 | D15: ='入力（行一）'!D15 -> 216200 | E15: ='入力（行一）'!E15 -> 262600 | F15: ='入力（行一）'!F15 -> 294200 | G15: ='入力（行一）'!G15 -> 331200 | H15: ='入力（行一）'!H15 -> 358300 | I15: ='入力（行一）'!I15 -> 392200 | J15: ='入力（行一）'!J15 -> 448800 | K15: ='入力（行一）'!K15 -> 516300 | L15: ='入力（行一）'!L15 -> 571700
B16: 10 | D16: ='入力（行一）'!D16 -> 217900 | E16: ='入力（行一）'!E16 -> 263800 | F16: ='入力（行一）'!F16 -> 295300 | G16: ='入力（行一）'!G16 -> 332800 | H16: ='入力（行一）'!H16 -> 360000 | I16: ='入力（行一）'!I16 -> 393800 | J16: ='入力（行一）'!J16 -> 450300 | K16: ='入力（行一）'!K16 -> 0 | L16: ='入力（行一）'!L16 -> 0
B17: 11 | D17: ='入力（行一）'!D17 -> 219500 | E17: ='入力（行一）'!E17 -> 265100 | F17: ='入力（行一）'!F17 -> 296300 | G17: ='入力（行一）'!G17 -> 334500 | H17: ='入力（行一）'!H17 -> 361700 | I17: ='入力（行一）'!I17 -> 395400 | J17: ='入力（行一）'!J17 -> 451800 | K17: ='入力（行一）'!K17 -> 0 | L17: ='入力（行一）'!L17 -> 0
B18: 12 | D18: ='入力（行一）'!D18 -> 221100 | E18: ='入力（行一）'!E18 -> 266400 | F18: ='入力（行一）'!F18 -> 297300 | G18: ='入力（行一）'!G18 -> 336100 | H18: ='入力（行一）'!H18 -> 363400 | I18: ='入力（行一）'!I18 -> 396900 | J18: ='入力（行一）'!J18 -> 453300 | K18: ='入力（行一）'!K18 -> 0 | L18: ='入力（行一）'!L18 -> 0
B19: 13 | D19: ='入力（行一）'!D19 -> 222600 | E19: ='入力（行一）'!E19 -> 267600 | F19: ='入力（行一）'!F19 -> 298300 | G19: ='入力（行一）'!G19 -> 337600 | H19: ='入力（行一）'!H19 -> 364900 | I19: ='入力（行一）'!I19 -> 398800 | J19: ='入力（行一）'!J19 -> 454800
B20: 14 | D20: ='入力（行一）'!D20 -> 224300 | E20: ='入力（行一）'!E20 -> 268800 | F20: ='入力（行一）'!F20 -> 299600 | G20: ='入力（行一）'!G20 -> 339200 | H20: ='入力（行一）'!H20 -> 366500 | I20: ='入力（行一）'!I20 -> 400700 | J20: ='入力（行一）'!J20 -> 456100
B21: 15 | D21: ='入力（行一）'!D21 -> 226000 | E21: ='入力（行一）'!E21 -> 270100 | F21: ='入力（行一）'!F21 -> 300900 | G21: ='入力（行一）'!G21 -> 340900 | H21: ='入力（行一）'!H21 -> 368100 | I21: ='入力（行一）'!I21 -> 402600 | J21: ='入力（行一）'!J21 -> 457400
B22: 16 | D22: ='入力（行一）'!D22 -> 227700 | E22: ='入力（行一）'!E22 -> 271300 | F22: ='入力（行一）'!F22 -> 302100 | G22: ='入力（行一）'!G22 -> 342500 | H22: ='入力（行一）'!H22 -> 369600 | I22: ='入力（行一）'!I22 -> 404400 | J22: ='入力（行一）'!J22 -> 458600
B23: 17 | D23: ='入力（行一）'!D23 -> 228900 | E23: ='入力（行一）'!E23 -> 272400 | F23: ='入力（行一）'!F23 -> 303400 | G23: ='入力（行一）'!G23 -> 344000 | H23: ='入力（行一）'!H23 -> 370900 | I23: ='入力（行一）'!I23 -> 405900 | J23: ='入力（行一）'!J23 -> 459800
B24: 18 | D24: ='入力（行一）'!D24 -> 230500 | E24: ='入力（行一）'!E24 -> 273500 | F24: ='入力（行一）'!F24 -> 304700 | G24: ='入力（行一）'!G24 -> 345700 | H24: ='入力（行一）'!H24 -> 372600 | I24: ='入力（行一）'!I24 -> 407700 | J24: ='入力（行一）'!J24 -> 461100
B25: 19 | D25: ='入力（行一）'!D25 -> 232100 | E25: ='入力（行一）'!E25 -> 274600 | F25: ='入力（行一）'!F25 -> 306000 | G25: ='入力（行一）'!G25 -> 347400 | H25: ='入力（行一）'!H25 -> 374200 | I25: ='入力（行一）'!I25 -> 409400 | J25: ='入力（行一）'!J25 -> 462400
B26: 20 | D26: ='入力（行一）'!D26 -> 233600 | E26: ='入力（行一）'!E26 -> 275700 | F26: ='入力（行一）'!F26 -> 307200 | G26: ='入力（行一）'!G26 -> 349000 | H26: ='入力（行一）'!H26 -> 375800 | I26: ='入力（行一）'!I26 -> 411000 | J26: ='入力（行一）'!J26 -> 463600
B27: 21 | D27: ='入力（行一）'!D27 -> 235100 | E27: ='入力（行一）'!E27 -> 276600 | F27: ='入力（行一）'!F27 -> 308300 | G27: ='入力（行一）'!G27 -> 350400 | H27: ='入力（行一）'!H27 -> 376900 | I27: ='入力（行一）'!I27 -> 412700 | J27: ='入力（行一）'!J27 -> 464800
B28: 22 | D28: ='入力（行一）'!D28 -> 236700 | E28: ='入力（行一）'!E28 -> 277600 | F28: ='入力（行一）'!F28 -> 309500 | G28: ='入力（行一）'!G28 -> 352100 | H28: ='入力（行一）'!H28 -> 378400 | I28: ='入力（行一）'!I28 -> 414100 | J28: ='入力（行一）'!J28 -> 465600
B29: 23 | D29: ='入力（行一）'!D29 -> 238300 | E29: ='入力（行一）'!E29 -> 278600 | F29: ='入力（行一）'!F29 -> 310800 | G29: ='入力（行一）'!G29 -> 353800 | H29: ='入力（行一）'!H29 -> 379900 | I29: ='入力（行一）'!I29 -> 415500 | J29: ='入力（行一）'!J29 -> 466400
B30: 24 | D30: ='入力（行一）'!D30 -> 239900 | E30: ='入力（行一）'!E30 -> 279600 | F30: ='入力（行一）'!F30 -> 312100 | G30: ='入力（行一）'!G30 -> 355400 | H30: ='入力（行一）'!H30 -> 381400 | I30: ='入力（行一）'!I30 -> 416900 | J30: ='入力（行一）'!J30 -> 467200
... B64: 58 | D64: ='入力（行一）'!D64 -> 267100 | E64: ='入力（行一）'!E64 -> 304400 | F64: ='入力（行一）'!F64 -> 352000 | G64: ='入力（行一）'!G64 -> 395200 | H64: ='入力（行一）'!H64 -> 412300 | I64: ='入力（行一）'!I64 -> 436000 | J64: ='入力（行一）'!J64 -> 0
B65: 59 | D65: ='入力（行一）'!D65 -> 267400 | E65: ='入力（行一）'!E65 -> 305000 | F65: ='入力（行一）'!F65 -> 352700 | G65: ='入力（行一）'!G65 -> 395900 | H65: ='入力（行一）'!H65 -> 412900 | I65: ='入力（行一）'!I65 -> 436300 | J65: ='入力（行一）'!J65 -> 0 | K65: ='入力（行一）'!K65 -> 0
B66: 60 | D66: ='入力（行一）'!D66 -> 267700 | E66: ='入力（行一）'!E66 -> 305800 | F66: ='入力（行一）'!F66 -> 353500 | G66: ='入力（行一）'!G66 -> 396500 | H66: ='入力（行一）'!H66 -> 413400 | I66: ='入力（行一）'!I66 -> 436500 | J66: ='入力（行一）'!J66 -> 0 | K66: ='入力（行一）'!K66 -> 0
B67: 61 | D67: ='入力（行一）'!D67 -> 268000 | E67: ='入力（行一）'!E67 -> 306400 | F67: ='入力（行一）'!F67 -> 354300 | G67: ='入力（行一）'!G67 -> 396800 | H67: ='入力（行一）'!H67 -> 413800 | I67: ='入力（行一）'!I67 -> 436700 | J67: ='入力（行一）'!J67 -> 0 | K67: ='入力（行一）'!K67 -> 0
B68: 62 | D68: ='入力（行一）'!D68 -> 268300 | E68: ='入力（行一）'!E68 -> 306900 | F68: ='入力（行一）'!F68 -> 354700 | G68: ='入力（行一）'!G68 -> 397300 | H68: ='入力（行一）'!H68 -> 414300 | I68: ='入力（行一）'!I68 -> 437000 | K68: ='入力（行一）'!K68 -> 0
B69: 63 | D69: ='入力（行一）'!D69 -> 268600 | E69: ='入力（行一）'!E69 -> 307400 | F69: ='入力（行一）'!F69 -> 355200 | G69: ='入力（行一）'!G69 -> 397900 | H69: ='入力（行一）'!H69 -> 414800 | I69: ='入力（行一）'!I69 -> 437300 | K69: ='入力（行一）'!K69 -> 0
B70: 64 | D70: ='入力（行一）'!D70 -> 268900 | E70: ='入力（行一）'!E70 -> 307800 | F70: ='入力（行一）'!F70 -> 355900 | G70: ='入力（行一）'!G70 -> 398500 | H70: ='入力（行一）'!H70 -> 415400 | I70: ='入力（行一）'!I70 -> 437500 | K70: ='入力（行一）'!K70 -> 0
B71: 65 | D71: ='入力（行一）'!D71 -> 269200 | E71: ='入力（行一）'!E71 -> 308300 | F71: ='入力（行一）'!F71 -> 356700 | G71: ='入力（行一）'!G71 -> 398800 | H71: ='入力（行一）'!H71 -> 415700 | I71: ='入力（行一）'!I71 -> 437700 | K71: ='入力（行一）'!K71 -> 0
B72: 66 | D72: ='入力（行一）'!D72 -> 269500 | E72: ='入力（行一）'!E72 -> 308800 | F72: ='入力（行一）'!F72 -> 357400 | G72: ='入力（行一）'!G72 -> 399400 | H72: ='入力（行一）'!H72 -> 416100 | I72: ='入力（行一）'!I72 -> 438000
B73: 67 | D73: ='入力（行一）'!D73 -> 269800 | E73: ='入力（行一）'!E73 -> 309200 | F73: ='入力（行一）'!F73 -> 358100 | G73: ='入力（行一）'!G73 -> 400100 | H73: ='入力（行一）'!H73 -> 416400 | I73: ='入力（行一）'!I73 -> 438300
B74: 68 | D74: ='入力（行一）'!D74 -> 270100 | E74: ='入力（行一）'!E74 -> 309700 | F74: ='入力（行一）'!F74 -> 358700 | G74: ='入力（行一）'!G74 -> 400700 | H74: ='入力（行一）'!H74 -> 416800 | I74: ='入力（行一）'!I74 -> 438500
B75: 69 | D75: ='入力（行一）'!D75 -> 270400 | E75: ='入力（行一）'!E75 -> 310100 | F75: ='入力（行一）'!F75 -> 359200 | G75: ='入力（行一）'!G75 -> 401100 | H75: ='入力（行一）'!H75 -> 417100 | I75: ='入力（行一）'!I75 -> 438700
B76: 70 | D76: ='入力（行一）'!D76 -> 270700 | E76: ='入力（行一）'!E76 -> 310600 | F76: ='入力（行一）'!F76 -> 359800 | G76: ='入力（行一）'!G76 -> 401600 | H76: ='入力（行一）'!H76 -> 417400 | I76: ='入力（行一）'!I76 -> 439000
B77: 71 | D77: ='入力（行一）'!D77 -> 271000 | E77: ='入力（行一）'!E77 -> 311000 | F77: ='入力（行一）'!F77 -> 360300 | G77: ='入力（行一）'!G77 -> 402200 | H77: ='入力（行一）'!H77 -> 417700 | I77: ='入力（行一）'!I77 -> 439300
B78: 72 | D78: ='入力（行一）'!D78 -> 271300 | E78: ='入力（行一）'!E78 -> 311500 | F78: ='入力（行一）'!F78 -> 360900 | G78: ='入力（行一）'!G78 -> 402700 | H78: ='入力（行一）'!H78 -> 417900 | I78: ='入力（行一）'!I78 -> 439500
B79: 73 | D79: ='入力（行一）'!D79 -> 271600 | E79: ='入力（行一）'!E79 -> 311900 | F79: ='入力（行一）'!F79 -> 361200 | G79: ='入力（行一）'!G79 -> 403200 | H79: ='入力（行一）'!H79 -> 418100 | I79: ='入力（行一）'!I79 -> 439700
B80: 74 | D80: ='入力（行一）'!D80 -> 271900 | E80: ='入力（行一）'!E80 -> 312300 | F80: ='入力（行一）'!F80 -> 361700 | G80: ='入力（行一）'!G80 -> 403800 | H80: ='入力（行一）'!H80 -> 418400 | I80: ='入力（行一）'!I80 -> 0
B81: 75 | D81: ='入力（行一）'!D81 -> 272200 | E81: ='入力（行一）'!E81 -> 312600 | F81: ='入力（行一）'!F81 -> 362000 | G81: ='入力（行一）'!G81 -> 404200 | H81: ='入力（行一）'!H81 -> 418700 | I81: ='入力（行一）'!I81 -> 0
B82: 76 | D82: ='入力（行一）'!D82 -> 272500 | E82: ='入力（行一）'!E82 -> 312900 | F82: ='入力（行一）'!F82 -> 362400 | G82: ='入力（行一）'!G82 -> 404500 | H82: ='入力（行一）'!H82 -> 418900 | I82: ='入力（行一）'!I82 -> 0
B83: 77 | D83: ='入力（行一）'!D83 -> 272800 | E83: ='入力（行一）'!E83 -> 313100 | F83: ='入力（行一）'!F83 -> 362800 | G83: ='入力（行一）'!G83 -> 404900 | H83: ='入力（行一）'!H83 -> 419100 | I83: ='入力（行一）'!I83 -> 0
... B91: 85 | D91: ='入力（行一）'!D91 -> 275200 | E91: ='入力（行一）'!E91 -> 315100 | F91: ='入力（行一）'!F91 -> 366100 | G91: ='入力（行一）'!G91 -> 408200 | H91: ='入力（行一）'!H91 -> 421100 | I91: ='入力（行一）'!I91 -> 0
B92: 86 | D92: ='入力（行一）'!D92 -> 275500 | E92: ='入力（行一）'!E92 -> 315300 | F92: ='入力（行一）'!F92 -> 366500 | G92: ='入力（行一）'!G92 -> 0 | H92: ='入力（行一）'!H92 -> 0
B93: 87 | D93: ='入力（行一）'!D93 -> 275800 | E93: ='入力（行一）'!E93 -> 315600 | F93: ='入力（行一）'!F93 -> 366900 | G93: ='入力（行一）'!G93 -> 0 | H93: ='入力（行一）'!H93 -> 0
B94: 88 | D94: ='入力（行一）'!D94 -> 276100 | E94: ='入力（行一）'!E94 -> 315900 | F94: ='入力（行一）'!F94 -> 367300 | G94: ='入力（行一）'!G94 -> 0 | H94: ='入力（行一）'!H94 -> 0
B95: 89 | D95: ='入力（行一）'!D95 -> 276400 | E95: ='入力（行一）'!E95 -> 316200 | F95: ='入力（行一）'!F95 -> 367500 | G95: ='入力（行一）'!G95 -> 0 | H95: ='入力（行一）'!H95 -> 0
B96: 90 | D96: ='入力（行一）'!D96 -> 276700 | E96: ='入力（行一）'!E96 -> 316500 | F96: ='入力（行一）'!F96 -> 367900 | G96: ='入力（行一）'!G96 -> 0 | H96: ='入力（行一）'!H96 -> 0
B97: 91 | D97: ='入力（行一）'!D97 -> 277000 | E97: ='入力（行一）'!E97 -> 316800 | F97: ='入力（行一）'!F97 -> 368300 | G97: ='入力（行一）'!G97 -> 0 | H97: ='入力（行一）'!H97 -> 0
B98: 92 | D98: ='入力（行一）'!D98 -> 277300 | E98: ='入力（行一）'!E98 -> 317100 | F98: ='入力（行一）'!F98 -> 368700 | G98: ='入力（行一）'!G98 -> 0 | H98: ='入力（行一）'!H98 -> 0
B99: 93 | D99: ='入力（行一）'!D99 -> 277600 | E99: ='入力（行一）'!E99 -> 317300 | F99: ='入力（行一）'!F99 -> 368900 | G99: ='入力（行一）'!G99 -> 0 | H99: ='入力（行一）'!H99 -> 0
B100: 94 | E100: ='入力（行一）'!E100 -> 317500 | F100: ='入力（行一）'!F100 -> 369200
B101: 95 | E101: ='入力（行一）'!E101 -> 317800 | F101: ='入力（行一）'!F101 -> 369600
B102: 96 | E102: ='入力（行一）'!E102 -> 318200 | F102: ='入力（行一）'!F102 -> 369900
B103: 97 | E103: ='入力（行一）'!E103 -> 318400 | F103: ='入力（行一）'!F103 -> 370200
B104: 98 | E104: ='入力（行一）'!E104 -> 318700 | F104: ='入力（行一）'!F104 -> 370600
B105: 99 | E105: ='入力（行一）'!E105 -> 319000 | F105: ='入力（行一）'!F105 -> 371000
B106: 100 | E106: ='入力（行一）'!E106 -> 319400 | F106: ='入力（行一）'!F106 -> 371400
B107: 101 | E107: ='入力（行一）'!E107 -> 319600 | F107: ='入力（行一）'!F107 -> 371900
B108: 102 | E108: ='入力（行一）'!E108 -> 319900 | F108: ='入力（行一）'!F108 -> 372300
B109: 103 | E109: ='入力（行一）'!E109 -> 320200 | F109: ='入力（行一）'!F109 -> 372700
B110: 104 | E110: ='入力（行一）'!E110 -> 320500 | F110: ='入力（行一）'!F110 -> 373100
B111: 105 | E111: ='入力（行一）'!E111 -> 320700 | F111: ='入力（行一）'!F111 -> 373600
... B119: 113 | E119: ='入力（行一）'!E119 -> 323000 | F119: ='入力（行一）'!F119 -> 0
B120: 114 | E120: ='入力（行一）'!E120 -> 323200
B121: 115 | E121: ='入力（行一）'!E121 -> 323500
B122: 116 | E122: ='入力（行一）'!E122 -> 323900
B123: 117 | E123: ='入力（行一）'!E123 -> 324100
B124: 118 | E124: ='入力（行一）'!E124 -> 324300
B125: 119 | E125: ='入力（行一）'!E125 -> 324600
B126: 120 | E126: ='入力（行一）'!E126 -> 324900
B127: 121 | E127: ='入力（行一）'!E127 -> 325200
B128: 122 | E128: ='入力（行一）'!E128 -> 325400
B129: 123 | E129: ='入力（行一）'!E129 -> 325700
B130: 124 | E130: ='入力（行一）'!E130 -> 326000
B131: 125 | E131: ='入力（行一）'!E131 -> 326300
A132: 定年前再任用短時間勤務職員 | D132: 基 準 給料月額 | E132: 基 準 給料月額 | F132: 基 準 給料月額 | G132: 基 準 給料月額 | H132: 基 準 給料月額 | I132: 基 準 給料月額 | J132: 基 準 給料月額 | K132: 基 準 給料月額 | L132: 基 準 給料月額
D133: 円 | E133: 円 | F133: 円 | G133: 円 | H133: 円 | I133: 円 | J133: 円 | K133: 円 | L133: 円
D134: ='入力（行一）'!D134 -> 218800 | E134: ='入力（行一）'!E134 -> 247600 | F134: ='入力（行一）'!F134 -> 292400 | G134: ='入力（行一）'!G134 -> 314800 | H134: ='入力（行一）'!H134 -> 331600 | I134: ='入力（行一）'!I134 -> 359500 | J134: ='入力（行一）'!J134 -> 405400 | K134: ='入力（行一）'!K134 -> 442400 | L134: ='入力（行一）'!L134 -> 499600
A136: 備考 | B136: この表は、他の給料表の適用を受けない全ての職員に適用する。ただし、非常勤の職員には適用しない。

Sheet 公安
A2: 公 安 職 給 料 表
A4: 職員の区分 | C4: 職務 の級 | D4: 1 | E4: 2 | F4: 3 | G4: 4 | H4: 5 | I4: 6 | J4: 7 | K4: 8 | L4: 9
B5: 号給 | D5: 給料月額 | E5: 給料月額 | F5: 給料月額 | G5: 給料月額 | H5: 給料月額 | I5: 給料月額 | J5: 給料月額 | K5: 給料月額 | L5: 給料月額
A6: 定年前再任用短時間勤務職員以外の職員 | D6: 円 | E6: 円 | F6: 円 | G6: 円 | H6: 円 | I6: 円 | J6: 円 | K6: 円 | L6: 円
B7: 1 | D7: ='入力（公一）'!D7 -> 236300 | E7: ='入力（公一）'!E7 -> 257600 | F7: ='入力（公一）'!F7 -> 280600 | G7: ='入力（公一）'!G7 -> 319500 | H7: ='入力（公一）'!H7 -> 356200 | I7: ='入力（公一）'!I7 -> 378600 | J7: ='入力（公一）'!J7 -> 410400 | K7: ='入力（公一）'!K7 -> 447100 | L7: ='入力（公一）'!L7 -> 494900
B8: 2 | D8: ='入力（公一）'!D8 -> 238800 | E8: ='入力（公一）'!E8 -> 259800 | F8: ='入力（公一）'!F8 -> 282500 | G8: ='入力（公一）'!G8 -> 320500 | H8: ='入力（公一）'!H8 -> 357700 | I8: ='入力（公一）'!I8 -> 380400 | J8: ='入力（公一）'!J8 -> 412100 | K8: ='入力（公一）'!K8 -> 448700 | L8: ='入力（公一）'!L8 -> 500900
B9: 3 | D9: ='入力（公一）'!D9 -> 241200 | E9: ='入力（公一）'!E9 -> 262000 | F9: ='入力（公一）'!F9 -> 284600 | G9: ='入力（公一）'!G9 -> 321400 | H9: ='入力（公一）'!H9 -> 359100 | I9: ='入力（公一）'!I9 -> 382100 | J9: ='入力（公一）'!J9 -> 413700 | K9: ='入力（公一）'!K9 -> 450200 | L9: ='入力（公一）'!L9 -> 505800
B10: 4 | D10: ='入力（公一）'!D10 -> 243600 | E10: ='入力（公一）'!E10 -> 264200 | F10: ='入力（公一）'!F10 -> 286700 | G10: ='入力（公一）'!G10 -> 322300 | H10: ='入力（公一）'!H10 -> 360600 | I10: ='入力（公一）'!I10 -> 383800 | J10: ='入力（公一）'!J10 -> 415400 | K10: ='入力（公一）'!K10 -> 451700 | L10: ='入力（公一）'!L10 -> 510000
B11: 5 | D11: ='入力（公一）'!D11 -> 245900 | E11: ='入力（公一）'!E11 -> 266400 | F11: ='入力（公一）'!F11 -> 288700 | G11: ='入力（公一）'!G11 -> 322900 | H11: ='入力（公一）'!H11 -> 362100 | I11: ='入力（公一）'!I11 -> 385400 | J11: ='入力（公一）'!J11 -> 416900 | K11: ='入力（公一）'!K11 -> 453200 | L11: ='入力（公一）'!L11 -> 514000
B12: 6 | D12: ='入力（公一）'!D12 -> 248300 | E12: ='入力（公一）'!E12 -> 268400 | F12: ='入力（公一）'!F12 -> 290000 | G12: ='入力（公一）'!G12 -> 323600 | H12: ='入力（公一）'!H12 -> 363600 | I12: ='入力（公一）'!I12 -> 387100 | J12: ='入力（公一）'!J12 -> 418500 | K12: ='入力（公一）'!K12 -> 454800 | L12: ='入力（公一）'!L12 -> 517400
B13: 7 | D13: ='入力（公一）'!D13 -> 250700 | E13: ='入力（公一）'!E13 -> 270400 | F13: ='入力（公一）'!F13 -> 291300 | G13: ='入力（公一）'!G13 -> 324200 | H13: ='入力（公一）'!H13 -> 365000 | I13: ='入力（公一）'!I13 -> 388800 | J13: ='入力（公一）'!J13 -> 420100 | K13: ='入力（公一）'!K13 -> 456200 | L13: ='入力（公一）'!L13 -> 520300
B14: 8 | D14: ='入力（公一）'!D14 -> 252900 | E14: ='入力（公一）'!E14 -> 272200 | F14: ='入力（公一）'!F14 -> 292600 | G14: ='入力（公一）'!G14 -> 324900 | H14: ='入力（公一）'!H14 -> 366400 | I14: ='入力（公一）'!I14 -> 390400 | J14: ='入力（公一）'!J14 -> 421700 | K14: ='入力（公一）'!K14 -> 457600 | L14: ='入力（公一）'!L14 -> 522800
B15: 9 | D15: ='入力（公一）'!D15 -> 255100 | E15: ='入力（公一）'!E15 -> 274000 | F15: ='入力（公一）'!F15 -> 293900 | G15: ='入力（公一）'!G15 -> 325500 | H15: ='入力（公一）'!H15 -> 367800 | I15: ='入力（公一）'!I15 -> 391900 | J15: ='入力（公一）'!J15 -> 423200 | K15: ='入力（公一）'!K15 -> 458700 | L15: ='入力（公一）'!L15 -> 525000
B16: 10 | D16: ='入力（公一）'!D16 -> 257200 | E16: ='入力（公一）'!E16 -> 275700 | F16: ='入力（公一）'!F16 -> 295200 | G16: ='入力（公一）'!G16 -> 326200 | H16: ='入力（公一）'!H16 -> 369400 | I16: ='入力（公一）'!I16 -> 393500 | J16: ='入力（公一）'!J16 -> 424800 | K16: ='入力（公一）'!K16 -> 460100 | L16: ='入力（公一）'!L16 -> 0
B17: 11 | D17: ='入力（公一）'!D17 -> 259300 | E17: ='入力（公一）'!E17 -> 277400 | F17: ='入力（公一）'!F17 -> 296400 | G17: ='入力（公一）'!G17 -> 326900 | H17: ='入力（公一）'!H17 -> 371100 | I17: ='入力（公一）'!I17 -> 395100 | J17: ='入力（公一）'!J17 -> 426400 | K17: ='入力（公一）'!K17 -> 461600 | L17: ='入力（公一）'!L17 -> 0
B18: 12 | D18: ='入力（公一）'!D18 -> 261300 | E18: ='入力（公一）'!E18 -> 278800 | F18: ='入力（公一）'!F18 -> 297600 | G18: ='入力（公一）'!G18 -> 327500 | H18: ='入力（公一）'!H18 -> 372700 | I18: ='入力（公一）'!I18 -> 396700 | J18: ='入力（公一）'!J18 -> 428000 | K18: ='入力（公一）'!K18 -> 463100 | L18: ='入力（公一）'!L18 -> 0
... B51: 45 | D51: ='入力（公一）'!D51 -> 303000 | E51: ='入力（公一）'!E51 -> 310900 | F51: ='入力（公一）'!F51 -> 320800 | G51: ='入力（公一）'!G51 -> 363500 | H51: ='入力（公一）'!H51 -> 423400 | I51: ='入力（公一）'!I51 -> 441300 | J51: ='入力（公一）'!J51 -> 464900 | K51: ='入力（公一）'!K51 -> 487400 | L51: ='入力（公一）'!L51 -> 0
B52: 46 | D52: ='入力（公一）'!D52 -> 303500 | E52: ='入力（公一）'!E52 -> 311400 | F52: ='入力（公一）'!F52 -> 321600 | G52: ='入力（公一）'!G52 -> 364800 | H52: ='入力（公一）'!H52 -> 424500 | I52: ='入力（公一）'!I52 -> 442000 | J52: ='入力（公一）'!J52 -> 465200 | K52: ='入力（公一）'!K52 -> 0
B53: 47 | D53: ='入力（公一）'!D53 -> 304000 | E53: ='入力（公一）'!E53 -> 311900 | F53: ='入力（公一）'!F53 -> 322400 | G53: ='入力（公一）'!G53 -> 366000 | H53: ='入力（公一）'!H53 -> 425600 | I53: ='入力（公一）'!I53 -> 442700 | J53: ='入力（公一）'!J53 -> 465500 | K53: ='入力（公一）'!K53 -> 0
B54: 48 | D54: ='入力（公一）'!D54 -> 304500 | E54: ='入力（公一）'!E54 -> 312400 | F54: ='入力（公一）'!F54 -> 323100 | G54: ='入力（公一）'!G54 -> 367200 | H54: ='入力（公一）'!H54 -> 426700 | I54: ='入力（公一）'!I54 -> 443300 | J54: ='入力（公一）'!J54 -> 465700 | K54: ='入力（公一）'!K54 -> 0
B55: 49 | D55: ='入力（公一）'!D55 -> 304900 | E55: ='入力（公一）'!E55 -> 312900 | F55: ='入力（公一）'!F55 -> 323900 | G55: ='入力（公一）'!G55 -> 368500 | H55: ='入力（公一）'!H55 -> 428000 | I55: ='入力（公一）'!I55 -> 444000 | J55: ='入力（公一）'!J55 -> 466000 | K55: ='入力（公一）'!K55 -> 0
B56: 50 | D56: ='入力（公一）'!D56 -> 305400 | E56: ='入力（公一）'!E56 -> 313400 | F56: ='入力（公一）'!F56 -> 324900 | G56: ='入力（公一）'!G56 -> 369800 | H56: ='入力（公一）'!H56 -> 428800 | I56: ='入力（公一）'!I56 -> 444400 | J56: ='入力（公一）'!J56 -> 466300 | K56: ='入力（公一）'!K56 -> 0
B57: 51 | D57: ='入力（公一）'!D57 -> 305900 | E57: ='入力（公一）'!E57 -> 314000 | F57: ='入力（公一）'!F57 -> 325900 | G57: ='入力（公一）'!G57 -> 371000 | H57: ='入力（公一）'!H57 -> 429600 | I57: ='入力（公一）'!I57 -> 445000 | J57: ='入力（公一）'!J57 -> 466600 | K57: ='入力（公一）'!K57 -> 0
B58: 52 | D58: ='入力（公一）'!D58 -> 306400 | E58: ='入力（公一）'!E58 -> 314500 | F58: ='入力（公一）'!F58 -> 326900 | G58: ='入力（公一）'!G58 -> 372300 | H58: ='入力（公一）'!H58 -> 430200 | I58: ='入力（公一）'!I58 -> 445600 | J58: ='入力（公一）'!J58 -> 466900 | K58: ='入力（公一）'!K58 -> 0
B59: 53 | D59: ='入力（公一）'!D59 -> 306900 | E59: ='入力（公一）'!E59 -> 315100 | F59: ='入力（公一）'!F59 -> 328000 | G59: ='入力（公一）'!G59 -> 373200 | H59: ='入力（公一）'!H59 -> 430700 | I59: ='入力（公一）'!I59 -> 446000 | J59: ='入力（公一）'!J59 -> 467100 | K59: ='入力（公一）'!K59 -> 0
B60: 54 | D60: ='入力（公一）'!D60 -> 307500 | E60: ='入力（公一）'!E60 -> 315700 | F60: ='入力（公一）'!F60 -> 329100 | G60: ='入力（公一）'!G60 -> 374500 | H60: ='入力（公一）'!H60 -> 431400 | I60: ='入力（公一）'!I60 -> 446400 | J60: ='入力（公一）'!J60 -> 467400 | K60: ='入力（公一）'!K60 -> 0
B61: 55 | D61: ='入力（公一）'!D61 -> 307900 | E61: ='入力（公一）'!E61 -> 316400 | F61: ='入力（公一）'!F61 -> 330100 | G61: ='入力（公一）'!G61 -> 375700 | H61: ='入力（公一）'!H61 -> 432000 | I61: ='入力（公一）'!I61 -> 446900 | J61: ='入力（公一）'!J61 -> 467600 | K61: ='入力（公一）'!K61 -> 0
B62: 56 | D62: ='入力（公一）'!D62 -> 308300 | E62: ='入力（公一）'!E62 -> 317000 | F62: ='入力（公一）'!F62 -> 331100 | G62: ='入力（公一）'!G62 -> 376900 | H62: ='入力（公一）'!H62 -> 432700 | I62: ='入力（公一）'!I62 -> 447400 | J62: ='入力（公一）'!J62 -> 467900 | K62: ='入力（公一）'!K62 -> 0
B63: 57 | D63: ='入力（公一）'!D63 -> 308800 | E63: ='入力（公一）'!E63 -> 317600 | F63: ='入力（公一）'!F63 -> 332200 | G63: ='入力（公一）'!G63 -> 378000 | H63: ='入力（公一）'!H63 -> 433000 | I63: ='入力（公一）'!I63 -> 447900 | J63: ='入力（公一）'!J63 -> 468100 | K63: ='入力（公一）'!K63 -> 0
... B67: 61 | D67: ='入力（公一）'!D67 -> 310700 | E67: ='入力（公一）'!E67 -> 320700 | F67: ='入力（公一）'!F67 -> 336400 | G67: ='入力（公一）'!G67 -> 383400 | H67: ='入力（公一）'!H67 -> 435300 | I67: ='入力（公一）'!I67 -> 449600 | J67: ='入力（公一）'!J67 -> 469100 | K67: ='入力（公一）'!K67 -> 0
B68: 62 | D68: ='入力（公一）'!D68 -> 311100 | E68: ='入力（公一）'!E68 -> 321500 | F68: ='入力（公一）'!F68 -> 337600 | G68: ='入力（公一）'!G68 -> 384900 | H68: ='入力（公一）'!H68 -> 435700 | I68: ='入力（公一）'!I68 -> 449900 | J68: ='入力（公一）'!J68 -> 469400
B69: 63 | D69: ='入力（公一）'!D69 -> 311600 | E69: ='入力（公一）'!E69 -> 322300 | F69: ='入力（公一）'!F69 -> 338700 | G69: ='入力（公一）'!G69 -> 386400 | H69: ='入力（公一）'!H69 -> 436200 | I69: ='入力（公一）'!I69 -> 450200 | J69: ='入力（公一）'!J69 -> 469700
B70: 64 | D70: ='入力（公一）'!D70 -> 312000 | E70: ='入力（公一）'!E70 -> 323200 | F70: ='入力（公一）'!F70 -> 339800 | G70: ='入力（公一）'!G70 -> 387800 | H70: ='入力（公一）'!H70 -> 436700 | I70: ='入力（公一）'!I70 -> 450500 | J70: ='入力（公一）'!J70 -> 470000
B71: 65 | D71: ='入力（公一）'!D71 -> 312500 | E71: ='入力（公一）'!E71 -> 324000 | F71: ='入力（公一）'!F71 -> 340800 | G71: ='入力（公一）'!G71 -> 389000 | H71: ='入力（公一）'!H71 -> 437200 | I71: ='入力（公一）'!I71 -> 450700 | J71: ='入力（公一）'!J71 -> 470200
B72: 66 | D72: ='入力（公一）'!D72 -> 313000 | E72: ='入力（公一）'!E72 -> 324800 | F72: ='入力（公一）'!F72 -> 341900 | G72: ='入力（公一）'!G72 -> 390400 | H72: ='入力（公一）'!H72 -> 437600 | I72: ='入力（公一）'!I72 -> 451000 | J72: ='入力（公一）'!J72 -> 470500
B73: 67 | D73: ='入力（公一）'!D73 -> 313400 | E73: ='入力（公一）'!E73 -> 325600 | F73: ='入力（公一）'!F73 -> 343000 | G73: ='入力（公一）'!G73 -> 391700 | H73: ='入力（公一）'!H73 -> 438100 | I73: ='入力（公一）'!I73 -> 451300 | J73: ='入力（公一）'!J73 -> 470800
B74: 68 | D74: ='入力（公一）'!D74 -> 313800 | E74: ='入力（公一）'!E74 -> 326400 | F74: ='入力（公一）'!F74 -> 344200 | G74: ='入力（公一）'!G74 -> 393100 | H74: ='入力（公一）'!H74 -> 438600 | I74: ='入力（公一）'!I74 -> 451500 | J74: ='入力（公一）'!J74 -> 471100
B75: 69 | D75: ='入力（公一）'!D75 -> 314300 | E75: ='入力（公一）'!E75 -> 327300 | F75: ='入力（公一）'!F75 -> 345300 | G75: ='入力（公一）'!G75 -> 394200 | H75: ='入力（公一）'!H75 -> 439100 | I75: ='入力（公一）'!I75 -> 451700 | J75: ='入力（公一）'!J75 -> 471300
B76: 70 | D76: ='入力（公一）'!D76 -> 314700 | E76: ='入力（公一）'!E76 -> 328200 | F76: ='入力（公一）'!F76 -> 346400 | G76: ='入力（公一）'!G76 -> 395400 | H76: ='入力（公一）'!H76 -> 439600 | I76: ='入力（公一）'!I76 -> 452000 | J76: ='入力（公一）'!J76 -> 471600
B77: 71 | D77: ='入力（公一）'!D77 -> 315100 | E77: ='入力（公一）'!E77 -> 329100 | F77: ='入力（公一）'!F77 -> 347600 | G77: ='入力（公一）'!G77 -> 396600 | H77: ='入力（公一）'!H77 -> 440200 | I77: ='入力（公一）'!I77 -> 452300 | J77: ='入力（公一）'!J77 -> 471900
B78: 72 | D78: ='入力（公一）'!D78 -> 315600 | E78: ='入力（公一）'!E78 -> 330000 | F78: ='入力（公一）'!F78 -> 348800 | G78: ='入力（公一）'!G78 -> 397800 | H78: ='入力（公一）'!H78 -> 440700 | I78: ='入力（公一）'!I78 -> 452500 | J78: ='入力（公一）'!J78 -> 472200
B79: 73 | D79: ='入力（公一）'!D79 -> 316100 | E79: ='入力（公一）'!E79 -> 330700 | F79: ='入力（公一）'!F79 -> 349500 | G79: ='入力（公一）'!G79 -> 399100 | H79: ='入力（公一）'!H79 -> 441100 | I79: ='入力（公一）'!I79 -> 452700 | J79: ='入力（公一）'!J79 -> 472400
... B91: 85 | D91: ='入力（公一）'!D91 -> 322800 | E91: ='入力（公一）'!E91 -> 341400 | F91: ='入力（公一）'!F91 -> 366100 | G91: ='入力（公一）'!G91 -> 410500 | H91: ='入力（公一）'!H91 -> 445500 | I91: ='入力（公一）'!I91 -> 455700 | J91: ='入力（公一）'!J91 -> 0
B92: 86 | D92: ='入力（公一）'!D92 -> 323400 | E92: ='入力（公一）'!E92 -> 342400 | F92: ='入力（公一）'!F92 -> 367600 | G92: ='入力（公一）'!G92 -> 411100 | H92: =H91+H88-H87 -> 445900 | I92: ='入力（公一）'!I92 -> 0
B93: 87 | D93: ='入力（公一）'!D93 -> 324100 | E93: ='入力（公一）'!E93 -> 343400 | F93: ='入力（公一）'!F93 -> 369100 | G93: ='入力（公一）'!G93 -> 411700 | H93: =H92+H89-H88 -> 446300 | I93: ='入力（公一）'!I93 -> 0
B94: 88 | D94: ='入力（公一）'!D94 -> 324800 | E94: ='入力（公一）'!E94 -> 344400 | F94: ='入力（公一）'!F94 -> 370500 | G94: ='入力（公一）'!G94 -> 412300 | H94: =H93+H90-H89 -> 446700 | I94: ='入力（公一）'!I94 -> 0
B95: 89 | D95: ='入力（公一）'!D95 -> 325500 | E95: ='入力（公一）'!E95 -> 345300 | F95: ='入力（公一）'!F95 -> 371800 | G95: ='入力（公一）'!G95 -> 412600 | H95: =H94+H91-H90 -> 447000 | I95: ='入力（公一）'!I95 -> 0
B96: 90 | D96: ='入力（公一）'!D96 -> 326100 | E96: ='入力（公一）'!E96 -> 346600 | F96: ='入力（公一）'!F96 -> 373000 | G96: ='入力（公一）'!G96 -> 413100 | H96: ='入力（公一）'!H96 -> 0 | I96: ='入力（公一）'!I96 -> 0
B97: 91 | D97: ='入力（公一）'!D97 -> 326800 | E97: ='入力（公一）'!E97 -> 347800 | F97: ='入力（公一）'!F97 -> 374200 | G97: ='入力（公一）'!G97 -> 413600 | H97: ='入力（公一）'!H97 -> 0 | I97: ='入力（公一）'!I97 -> 0
B98: 92 | D98: ='入力（公一）'!D98 -> 327500 | E98: ='入力（公一）'!E98 -> 349000 | F98: ='入力（公一）'!F98 -> 375500 | G98: ='入力（公一）'!G98 -> 414100 | H98: ='入力（公一）'!H98 -> 0 | I98: ='入力（公一）'!I98 -> 0
B99: 93 | D99: ='入力（公一）'!D99 -> 328000 | E99: ='入力（公一）'!E99 -> 350200 | F99: ='入力（公一）'!F99 -> 376800 | G99: ='入力（公一）'!G99 -> 414500 | H99: ='入力（公一）'!H99 -> 0 | I99: ='入力（公一）'!I99 -> 0
B100: 94 | D100: ='入力（公一）'!D100 -> 328700 | E100: ='入力（公一）'!E100 -> 351500 | F100: ='入力（公一）'!F100 -> 378300 | G100: ='入力（公一）'!G100 -> 414900 | H100: ='入力（公一）'!H100 -> 0
B101: 95 | D101: ='入力（公一）'!D101 -> 329600 | E101: ='入力（公一）'!E101 -> 352700 | F101: ='入力（公一）'!F101 -> 379800 | G101: ='入力（公一）'!G101 -> 415400 | H101: ='入力（公一）'!H101 -> 0
B102: 96 | D102: ='入力（公一）'!D102 -> 330400 | E102: ='入力（公一）'!E102 -> 353900 | F102: ='入力（公一）'!F102 -> 381200 | G102: ='入力（公一）'!G102 -> 415900 | H102: ='入力（公一）'!H102 -> 0
B103: 97 | D103: ='入力（公一）'!D103 -> 331100 | E103: ='入力（公一）'!E103 -> 355100 | F103: ='入力（公一）'!F103 -> 382500 | G103: ='入力（公一）'!G103 -> 416300 | H103: ='入力（公一）'!H103 -> 0
B104: 98 | D104: ='入力（公一）'!D104 -> 331900 | E104: ='入力（公一）'!E104 -> 356400 | F104: ='入力（公一）'!F104 -> 383700 | G104: ='入力（公一）'!G104 -> 416800
B105: 99 | D105: ='入力（公一）'!D105 -> 332700 | E105: ='入力（公一）'!E105 -> 357600 | F105: ='入力（公一）'!F105 -> 384800 | G105: ='入力（公一）'!G105 -> 417300
B106: 100 | D106: ='入力（公一）'!D106 -> 333500 | E106: ='入力（公一）'!E106 -> 358800 | F106: ='入力（公一）'!F106 -> 386000 | G106: ='入力（公一）'!G106 -> 417700
B107: 101 | D107: ='入力（公一）'!D107 -> 334400 | E107: ='入力（公一）'!E107 -> 360200 | F107: ='入力（公一）'!F107 -> 387100 | G107: ='入力（公一）'!G107 -> 418000
B108: 102 | D108: ='入力（公一）'!D108 -> 335400 | E108: ='入力（公一）'!E108 -> 361100 | F108: ='入力（公一）'!F108 -> 388200 | G108: ='入力（公一）'!G108 -> 418400
B109: 103 | D109: ='入力（公一）'!D109 -> 336400 | E109: ='入力（公一）'!E109 -> 362100 | F109: ='入力（公一）'!F109 -> 389300 | G109: ='入力（公一）'!G109 -> 418800
B110: 104 | D110: ='入力（公一）'!D110 -> 337300 | E110: ='入力（公一）'!E110 -> 363200 | F110: ='入力（公一）'!F110 -> 390400 | G110: ='入力（公一）'!G110 -> 419100
B111: 105 | D111: ='入力（公一）'!D111 -> 338100 | E111: ='入力（公一）'!E111 -> 364300 | F111: ='入力（公一）'!F111 -> 391600 | G111: ='入力（公一）'!G111 -> 419400
B112: 106 | D112: ='入力（公一）'!D112 -> 338700 | E112: ='入力（公一）'!E112 -> 365400 | F112: ='入力（公一）'!F112 -> 392100 | G112: ='入力（公一）'!G112 -> 419900
B113: 107 | D113: ='入力（公一）'!D113 -> 339300 | E113: ='入力（公一）'!E113 -> 366400 | F113: ='入力（公一）'!F113 -> 392700 | G113: ='入力（公一）'!G113 -> 420400
B114: 108 | D114: ='入力（公一）'!D114 -> 339900 | E114: ='入力（公一）'!E114 -> 367400 | F114: ='入力（公一）'!F114 -> 393300 | G114: ='入力（公一）'!G114 -> 420900
B115: 109 | D115: ='入力（公一）'!D115 -> 340400 | E115: ='入力（公一）'!E115 -> 368600 | F115: ='入力（公一）'!F115 -> 393900 | G115: ='入力（公一）'!G115 -> 421200
... B131: 125 | D131: ='入力（公一）'!D131 -> 349400 | E131: ='入力（公一）'!E131 -> 379700 | F131: ='入力（公一）'!F131 -> 401200 | G131: ='入力（公一）'!G131 -> 0
B132: 126 | E132: ='入力（公一）'!E132 -> 380100 | F132: ='入力（公一）'!F132 -> 401700
B133: 127 | E133: ='入力（公一）'!E133 -> 380500 | F133: ='入力（公一）'!F133 -> 402200
B134: 128 | E134: ='入力（公一）'!E134 -> 380900 | F134: ='入力（公一）'!F134 -> 402700
B135: 129 | E135: ='入力（公一）'!E135 -> 381300 | F135: ='入力（公一）'!F135 -> 403000
B136: 130 | E136: ='入力（公一）'!E136 -> 381700 | F136: ='入力（公一）'!F136 -> 403500
B137: 131 | E137: ='入力（公一）'!E137 -> 382100 | F137: ='入力（公一）'!F137 -> 404000
B138: 132 | E138: ='入力（公一）'!E138 -> 382500 | F138: ='入力（公一）'!F138 -> 404500
B139: 133 | E139: ='入力（公一）'!E139 -> 382700 | F139: ='入力（公一）'!F139 -> 404800
B140: 134 | E140: ='入力（公一）'!E140 -> 383200 | F140: ='入力（公一）'!F140 -> 405300
B141: 135 | E141: ='入力（公一）'!E141 -> 383500 | F141: ='入力（公一）'!F141 -> 405700
B142: 136 | E142: ='入力（公一）'!E142 -> 383800 | F142: ='入力（公一）'!F142 -> 406100
B143: 137 | E143: ='入力（公一）'!E143 -> 384100 | F143: ='入力（公一）'!F143 -> 406400
... B147: 141 | E147: ='入力（公一）'!E147 -> 385800 | F147: ='入力（公一）'!F147 -> 408100
B148: 142 | E148: ='入力（公一）'!E148 -> 386300
B149: 143 | E149: ='入力（公一）'!E149 -> 386800
B150: 144 | E150: ='入力（公一）'!E150 -> 387300
B151: 145 | E151: ='入力（公一）'!E151 -> 387600
A152: 定年前再任用短時間勤務職員 | D152: 基 準 給料月額 | E152: 基 準 給料月額 | F152: 基 準 給料月額 | G152: 基 準 給料月額 | H152: 基 準 給料月額 | I152: 基 準 給料月額 | J152: 基 準 給料月額 | K152: 基 準 給料月額 | L152: 基 準 給料月額
D153: 円 | E153: 円 | F153: 円 | G153: 円 | H153: 円 | I153: 円 | J153: 円 | K153: 円 | L153: 円
D154: ='入力（公一）'!D154 -> 277300 | E154: ='入力（公一）'!E154 -> 290300 | F154: ='入力（公一）'!F154 -> 295200 | G154: ='入力（公一）'!G154 -> 330500 | H154: ='入力（公一）'!H154 -> 349300 | I154: ='入力（公一）'!I154 -> 365000 | J154: ='入力（公一）'!J154 -> 390700 | K154: ='入力（公一）'!K154 -> 429400 | L154: ='入力（公一）'!L154 -> 464800
A156: 備考 | C156: この表は、警察官に適用する。

Sheet 研究
A2: 研 究 職 給 料 表
A4: 職員の区分 | C4: 職務 の級 | D4: 1 | E4: 2 | F4: 3 | G4: 4 | H4: 5
B5: 号給 | D5: 給料月額 | E5: 給料月額 | F5: 給料月額 | G5: 給料月額 | H5: 給料月額
A6: 定年前再任用短時間勤務職員以外の職員 | D6: 円 | E6: 円 | F6: 円 | G6: 円 | H6: 円
B7: 1 | D7: ='入力（研究）'!D7 -> 205800 | E7: ='入力（研究）'!E7 -> 257000 | F7: ='入力（研究）'!F7 -> 350800 | G7: ='入力（研究）'!G7 -> 402100 | H7: ='入力（研究）'!H7 -> 476600
B8: 2 | D8: ='入力（研究）'!D8 -> 206900 | E8: ='入力（研究）'!E8 -> 261300 | F8: ='入力（研究）'!F8 -> 352800 | G8: ='入力（研究）'!G8 -> 403500 | H8: =H7+ROUND((H11-H7)/4,-2) -> 479200
B9: 3 | D9: ='入力（研究）'!D9 -> 208100 | E9: ='入力（研究）'!E9 -> 264100 | F9: ='入力（研究）'!F9 -> 354800 | G9: ='入力（研究）'!G9 -> 404900 | H9: =H7+ROUND((H11-H7)*2/4,-2) -> 481700
B10: 4 | D10: ='入力（研究）'!D10 -> 209200 | E10: ='入力（研究）'!E10 -> 266900 | F10: ='入力（研究）'!F10 -> 356700 | G10: ='入力（研究）'!G10 -> 406300 | H10: =H7+ROUND((H11-H7)*3/4,-2) -> 484300
B11: 5 | D11: ='入力（研究）'!D11 -> 210300 | E11: ='入力（研究）'!E11 -> 269500 | F11: ='入力（研究）'!F11 -> 358700 | G11: ='入力（研究）'!G11 -> 407700 | H11: ='入力（研究）'!H8 -> 486800
B12: 6 | D12: ='入力（研究）'!D12 -> 212500 | E12: ='入力（研究）'!E12 -> 271300 | F12: ='入力（研究）'!F12 -> 360700 | G12: ='入力（研究）'!G12 -> 409100 | H12: =H11+ROUND((H15-H11)/4,-2) -> 487100
B13: 7 | D13: ='入力（研究）'!D13 -> 214600 | E13: ='入力（研究）'!E13 -> 272800 | F13: ='入力（研究）'!F13 -> 362700 | G13: ='入力（研究）'!G13 -> 410400 | H13: =H11+ROUND((H15-H11)*2/4,-2) -> 487400
B14: 8 | D14: ='入力（研究）'!D14 -> 216700 | E14: ='入力（研究）'!E14 -> 274300 | F14: ='入力（研究）'!F14 -> 364600 | G14: ='入力（研究）'!G14 -> 411800 | H14: =H11+ROUND((H15-H11)*3/4,-2) -> 487700
B15: 9 | D15: ='入力（研究）'!D15 -> 218800 | E15: ='入力（研究）'!E15 -> 275800 | F15: ='入力（研究）'!F15 -> 366500 | G15: ='入力（研究）'!G15 -> 413200 | H15: =H11+行政!J$51-行政!J$47 -> 488000
B16: 10 | D16: ='入力（研究）'!D16 -> 220900 | E16: ='入力（研究）'!E16 -> 277800 | F16: ='入力（研究）'!F16 -> 368100 | G16: ='入力（研究）'!G16 -> 414700 | H16: =H15+ROUND((H19-H15)/4,-2) -> 488300
B17: 11 | D17: ='入力（研究）'!D17 -> 222900 | E17: ='入力（研究）'!E17 -> 279800 | F17: ='入力（研究）'!F17 -> 369700 | G17: ='入力（研究）'!G17 -> 416100 | H17: =H15+ROUND((H19-H15)*2/4,-2) -> 488600
B18: 12 | D18: ='入力（研究）'!D18 -> 224900 | E18: ='入力（研究）'!E18 -> 281700 | F18: ='入力（研究）'!F18 -> 371300 | G18: ='入力（研究）'!G18 -> 417500 | H18: =H15+ROUND((H19-H15)*3/4,-2) -> 488900
B19: 13 | D19: ='入力（研究）'!D19 -> 226900 | E19: ='入力（研究）'!E19 -> 283700 | F19: ='入力（研究）'!F19 -> 372900 | G19: ='入力（研究）'!G19 -> 418700 | H19: =H15+行政!J$51-行政!J$47 -> 489200
B20: 14 | D20: ='入力（研究）'!D20 -> 228800 | E20: ='入力（研究）'!E20 -> 285900 | F20: ='入力（研究）'!F20 -> 374000 | G20: ='入力（研究）'!G20 -> 420200 | H20: =H19+ROUND((H23-H19)/4,-2) -> 489500
B21: 15 | D21: ='入力（研究）'!D21 -> 230700 | E21: ='入力（研究）'!E21 -> 288100 | F21: ='入力（研究）'!F21 -> 375000 | G21: ='入力（研究）'!G21 -> 421700 | H21: =H19+ROUND((H23-H19)*2/4,-2) -> 489800
B22: 16 | D22: ='入力（研究）'!D22 -> 232500 | E22: ='入力（研究）'!E22 -> 290300 | F22: ='入力（研究）'!F22 -> 376000 | G22: ='入力（研究）'!G22 -> 423200 | H22: =H19+ROUND((H23-H19)*3/4,-2) -> 490100
B23: 17 | D23: ='入力（研究）'!D23 -> 234200 | E23: ='入力（研究）'!E23 -> 292500 | F23: ='入力（研究）'!F23 -> 377300 | G23: ='入力（研究）'!G23 -> 424700 | H23: =H19+行政!J$51-行政!J$47 -> 490400
B24: 18 | D24: ='入力（研究）'!D24 -> 236000 | E24: ='入力（研究）'!E24 -> 294800 | F24: ='入力（研究）'!F24 -> 378500 | G24: ='入力（研究）'!G24 -> 426300 | H24: =H23+ROUND((H27-H23)/4,-2) -> 490700
B25: 19 | D25: ='入力（研究）'!D25 -> 237800 | E25: ='入力（研究）'!E25 -> 297200 | F25: ='入力（研究）'!F25 -> 379700 | G25: ='入力（研究）'!G25 -> 427900 | H25: =H23+ROUND((H27-H23)*2/4,-2) -> 491000
B26: 20 | D26: ='入力（研究）'!D26 -> 239600 | E26: ='入力（研究）'!E26 -> 299600 | F26: ='入力（研究）'!F26 -> 380900 | G26: ='入力（研究）'!G26 -> 429600 | H26: =H23+ROUND((H27-H23)*3/4,-2) -> 491300
B27: 21 | D27: ='入力（研究）'!D27 -> 241500 | E27: ='入力（研究）'!E27 -> 301900 | F27: ='入力（研究）'!F27 -> 382100 | G27: ='入力（研究）'!G27 -> 430800 | H27: =H23+行政!J$51-行政!J$47 -> 491600
B28: 22 | D28: ='入力（研究）'!D28 -> 243300 | E28: ='入力（研究）'!E28 -> 304100 | F28: ='入力（研究）'!F28 -> 383300 | G28: ='入力（研究）'!G28 -> 432200 | H28: =H27+ROUND((H31-H27)/4,-2) -> 491900
B29: 23 | D29: ='入力（研究）'!D29 -> 245000 | E29: ='入力（研究）'!E29 -> 306200 | F29: ='入力（研究）'!F29 -> 384400 | G29: ='入力（研究）'!G29 -> 433600 | H29: =H27+ROUND((H31-H27)*2/4,-2) -> 492200
B30: 24 | D30: ='入力（研究）'!D30 -> 246700 | E30: ='入力（研究）'!E30 -> 308300 | F30: ='入力（研究）'!F30 -> 385400 | G30: ='入力（研究）'!G30 -> 434900 | H30: =H27+ROUND((H31-H27)*3/4,-2) -> 492500
B31: 25 | D31: ='入力（研究）'!D31 -> 248400 | E31: ='入力（研究）'!E31 -> 310400 | F31: ='入力（研究）'!F31 -> 386500 | G31: ='入力（研究）'!G31 -> 436200 | H31: =H27+行政!J$51-行政!J$47 -> 492800
B32: 26 | D32: ='入力（研究）'!D32 -> 250500 | E32: ='入力（研究）'!E32 -> 312300 | F32: ='入力（研究）'!F32 -> 387500 | G32: ='入力（研究）'!G32 -> 437500 | H32: =H31+ROUND((H35-H31)/4,-2) -> 493100
B33: 27 | D33: ='入力（研究）'!D33 -> 252400 | E33: ='入力（研究）'!E33 -> 314200 | F33: ='入力（研究）'!F33 -> 388400 | G33: ='入力（研究）'!G33 -> 439000 | H33: =H31+ROUND((H35-H31)*2/4,-2) -> 493400
B34: 28 | D34: ='入力（研究）'!D34 -> 254300 | E34: ='入力（研究）'!E34 -> 316100 | F34: ='入力（研究）'!F34 -> 389400 | G34: ='入力（研究）'!G34 -> 440500 | H34: =H31+ROUND((H35-H31)*3/4,-2) -> 493700
B35: 29 | D35: ='入力（研究）'!D35 -> 256200 | E35: ='入力（研究）'!E35 -> 318000 | F35: ='入力（研究）'!F35 -> 390300 | G35: ='入力（研究）'!G35 -> 441700 | H35: =H31+行政!J$51-行政!J$47 -> 494000
B36: 30 | D36: ='入力（研究）'!D36 -> 257400 | E36: ='入力（研究）'!E36 -> 319500 | F36: ='入力（研究）'!F36 -> 391000 | G36: ='入力（研究）'!G36 -> 442900 | H36: =H35+ROUND((H39-H35)/4,-2) -> 494300
B37: 31 | D37: ='入力（研究）'!D37 -> 258500 | E37: ='入力（研究）'!E37 -> 321100 | F37: ='入力（研究）'!F37 -> 391800 | G37: ='入力（研究）'!G37 -> 444500 | H37: =H35+ROUND((H39-H35)*2/4,-2) -> 494600
B38: 32 | D38: ='入力（研究）'!D38 -> 259600 | E38: ='入力（研究）'!E38 -> 322600 | F38: ='入力（研究）'!F38 -> 392500 | G38: ='入力（研究）'!G38 -> 446000 | H38: =H35+ROUND((H39-H35)*3/4,-2) -> 494900
B39: 33 | D39: ='入力（研究）'!D39 -> 261000 | E39: ='入力（研究）'!E39 -> 324100 | F39: ='入力（研究）'!F39 -> 393100 | G39: ='入力（研究）'!G39 -> 447300 | H39: =H35+行政!J$51-行政!J$47 -> 495200
B40: 34 | D40: ='入力（研究）'!D40 -> 262300 | E40: ='入力（研究）'!E40 -> 325600 | F40: ='入力（研究）'!F40 -> 393800 | G40: ='入力（研究）'!G40 -> 448700 | H40: =H39+ROUND((H43-H39)/4,-2) -> 495500
B41: 35 | D41: ='入力（研究）'!D41 -> 263700 | E41: ='入力（研究）'!E41 -> 327100 | F41: ='入力（研究）'!F41 -> 394500 | G41: ='入力（研究）'!G41 -> 450100 | H41: =H39+ROUND((H43-H39)*2/4,-2) -> 495800
B42: 36 | D42: ='入力（研究）'!D42 -> 265100 | E42: ='入力（研究）'!E42 -> 328600 | F42: ='入力（研究）'!F42 -> 395300 | G42: ='入力（研究）'!G42 -> 451500 | H42: =H39+ROUND((H43-H39)*3/4,-2) -> 496100
B43: 37 | D43: ='入力（研究）'!D43 -> 266500 | E43: ='入力（研究）'!E43 -> 330000 | F43: ='入力（研究）'!F43 -> 396000 | G43: =G42+行政!$I$71-行政!$I$70 -> 451700 | H43: =H39+行政!J$51-行政!J$47 -> 496400
B44: 38 | D44: ='入力（研究）'!D44 -> 268000 | E44: ='入力（研究）'!E44 -> 331000 | F44: ='入力（研究）'!F44 -> 396700 | G44: =G43+行政!$I$72-行政!$I$71 -> 452000 | H44: =H43+ROUND((H47-H43)/4,-2) -> 496700
B45: 39 | D45: ='入力（研究）'!D45 -> 269500 | E45: ='入力（研究）'!E45 -> 331900 | F45: ='入力（研究）'!F45 -> 397500 | G45: =G44+行政!$I$73-行政!$I$72 -> 452300 | H45: =H43+ROUND((H47-H43)*2/4,-2) -> 497000
B46: 40 | D46: ='入力（研究）'!D46 -> 271100 | E46: ='入力（研究）'!E46 -> 332700 | F46: ='入力（研究）'!F46 -> 398200 | G46: =G45+行政!$I$74-行政!$I$73 -> 452500 | H46: =H43+ROUND((H47-H43)*3/4,-2) -> 497300
B47: 41 | D47: ='入力（研究）'!D47 -> 272500 | E47: ='入力（研究）'!E47 -> 333400 | F47: ='入力（研究）'!F47 -> 399000 | G47: =G46+行政!$I$71-行政!$I$70 -> 452700 | H47: =H43+行政!J$51-行政!J$47 -> 497600
B48: 42 | D48: ='入力（研究）'!D48 -> 273800 | E48: ='入力（研究）'!E48 -> 333900 | F48: ='入力（研究）'!F48 -> 400100 | G48: =G47+行政!$I$72-行政!$I$71 -> 453000 | H48: =H47+ROUND((H51-H47)/4,-2) -> 497900
B49: 43 | D49: ='入力（研究）'!D49 -> 275200 | E49: ='入力（研究）'!E49 -> 334400 | F49: ='入力（研究）'!F49 -> 401300 | G49: =G48+行政!$I$73-行政!$I$72 -> 453300 | H49: =H47+ROUND((H51-H47)*2/4,-2) -> 498200
B50: 44 | D50: ='入力（研究）'!D50 -> 276600 | E50: ='入力（研究）'!E50 -> 334800 | F50: ='入力（研究）'!F50 -> 402500 | G50: =G49+行政!$I$74-行政!$I$73 -> 453500 | H50: =H47+ROUND((H51-H47)*3/4,-2) -> 498500
B51: 45 | D51: ='入力（研究）'!D51 -> 278100 | E51: ='入力（研究）'!E51 -> 335200 | F51: ='入力（研究）'!F51 -> 403200 | G51: =G50+行政!$I$71-行政!$I$70 -> 453700 | H51: =H47+行政!J$51-行政!J$47 -> 498800
B52: 46 | D52: ='入力（研究）'!D52 -> 279400 | E52: ='入力（研究）'!E52 -> 335700 | F52: ='入力（研究）'!F52 -> 404200 | G52: =G51+行政!$I$72-行政!$I$71 -> 454000 | H52: =H51+ROUND((H55-H51)/4,-2) -> 499100
B53: 47 | D53: ='入力（研究）'!D53 -> 280700 | E53: ='入力（研究）'!E53 -> 336200 | F53: ='入力（研究）'!F53 -> 405000 | G53: =G52+行政!$I$73-行政!$I$72 -> 454300 | H53: =H51+ROUND((H55-H51)*2/4,-2) -> 499400
B54: 48 | D54: ='入力（研究）'!D54 -> 281900 | E54: ='入力（研究）'!E54 -> 336600 | F54: ='入力（研究）'!F54 -> 405700 | G54: =G53+行政!$I$74-行政!$I$73 -> 454500 | H54: =H51+ROUND((H55-H51)*3/4,-2) -> 499700
B55: 49 | D55: ='入力（研究）'!D55 -> 283100 | E55: ='入力（研究）'!E55 -> 337000 | F55: ='入力（研究）'!F55 -> 406400 | G55: =G54+行政!$I$71-行政!$I$70 -> 454700 | H55: =H51+行政!J$51-行政!J$47 -> 500000
B56: 50 | D56: ='入力（研究）'!D56 -> 284200 | E56: ='入力（研究）'!E56 -> 337400 | F56: ='入力（研究）'!F56 -> 407100 | G56: =G55+行政!$I$72-行政!$I$71 -> 455000 | H56: =H55+ROUND((H59-H55)/4,-2) -> 500300
B57: 51 | D57: ='入力（研究）'!D57 -> 285300 | E57: ='入力（研究）'!E57 -> 337800 | F57: ='入力（研究）'!F57 -> 407700 | G57: =G56+行政!$I$73-行政!$I$72 -> 455300 | H57: =H55+ROUND((H59-H55)*2/4,-2) -> 500600
B58: 52 | D58: ='入力（研究）'!D58 -> 286400 | E58: ='入力（研究）'!E58 -> 338300 | F58: ='入力（研究）'!F58 -> 408300 | G58: =G57+行政!$I$74-行政!$I$73 -> 455500 | H58: =H55+ROUND((H59-H55)*3/4,-2) -> 500900
B59: 53 | D59: ='入力（研究）'!D59 -> 287400 | E59: ='入力（研究）'!E59 -> 338700 | F59: ='入力（研究）'!F59 -> 408900 | G59: =G58+行政!$I$71-行政!$I$70 -> 455700 | H59: =H55+行政!J$51-行政!J$47 -> 501200
B60: 54 | D60: ='入力（研究）'!D60 -> 288500 | E60: ='入力（研究）'!E60 -> 339100 | F60: ='入力（研究）'!F60 -> 409600 | G60: =G59+行政!$I$72-行政!$I$71 -> 456000 | H60: =H59+300 -> 501500
B61: 55 | D61: ='入力（研究）'!D61 -> 289500 | E61: ='入力（研究）'!E61 -> 339500 | F61: ='入力（研究）'!F61 -> 410400 | G61: =G60+行政!$I$73-行政!$I$72 -> 456300
B62: 56 | D62: ='入力（研究）'!D62 -> 290500 | E62: ='入力（研究）'!E62 -> 339900 | F62: ='入力（研究）'!F62 -> 411200 | G62: =G61+行政!$I$74-行政!$I$73 -> 456500
B63: 57 | D63: ='入力（研究）'!D63 -> 291500 | E63: ='入力（研究）'!E63 -> 340300 | F63: ='入力（研究）'!F63 -> 411800 | G63: =G62+行政!$I$71-行政!$I$70 -> 456700
B64: 58 | D64: ='入力（研究）'!D64 -> 292200 | E64: ='入力（研究）'!E64 -> 340600 | F64: ='入力（研究）'!F64 -> 412600
B65: 59 | D65: ='入力（研究）'!D65 -> 292700 | E65: ='入力（研究）'!E65 -> 341000 | F65: ='入力（研究）'!F65 -> 413300
B66: 60 | D66: ='入力（研究）'!D66 -> 293300 | E66: ='入力（研究）'!E66 -> 341400 | F66: ='入力（研究）'!F66 -> 414000
B67: 61 | D67: ='入力（研究）'!D67 -> 293900 | E67: ='入力（研究）'!E67 -> 341800 | F67: ='入力（研究）'!F67 -> 414600
B68: 62 | D68: ='入力（研究）'!D68 -> 294500 | E68: ='入力（研究）'!E68 -> 342300 | F68: ='入力（研究）'!F68 -> 415300
B69: 63 | D69: ='入力（研究）'!D69 -> 295100 | E69: ='入力（研究）'!E69 -> 342900 | F69: ='入力（研究）'!F69 -> 415900
B70: 64 | D70: ='入力（研究）'!D70 -> 295700 | E70: ='入力（研究）'!E70 -> 343400 | F70: ='入力（研究）'!F70 -> 416600
B71: 65 | D71: ='入力（研究）'!D71 -> 296300 | E71: ='入力（研究）'!E71 -> 343800 | F71: ='入力（研究）'!F71 -> 417300
B72: 66 | D72: ='入力（研究）'!D72 -> 296800 | E72: ='入力（研究）'!E72 -> 344400 | F72: ='入力（研究）'!F72 -> 417900
B73: 67 | D73: ='入力（研究）'!D73 -> 297400 | E73: ='入力（研究）'!E73 -> 344900 | F73: ='入力（研究）'!F73 -> 418500
B74: 68 | D74: ='入力（研究）'!D74 -> 297900 | E74: ='入力（研究）'!E74 -> 345500 | F74: ='入力（研究）'!F74 -> 419200
B75: 69 | D75: ='入力（研究）'!D75 -> 298500 | E75: ='入力（研究）'!E75 -> 346000 | F75: ='入力（研究）'!F75 -> 419900
... B95: 89 | D95: ='入力（研究）'!D95 -> 311200 | E95: ='入力（研究）'!E95 -> 356700 | F95: ='入力（研究）'!F95 -> 0
B96: 90 | D96: ='入力（研究）'!D96 -> 311800 | E96: ='入力（研究）'!E96 -> 357200
B97: 91 | D97: ='入力（研究）'!D97 -> 312500 | E97: ='入力（研究）'!E97 -> 357500
B98: 92 | D98: ='入力（研究）'!D98 -> 313100 | E98: ='入力（研究）'!E98 -> 357900
B99: 93 | D99: ='入力（研究）'!D99 -> 313700 | E99: ='入力（研究）'!E99 -> 358200
B100: 94 | D100: ='入力（研究）'!D100 -> 314200 | E100: ='入力（研究）'!E100 -> 358500
B101: 95 | D101: ='入力（研究）'!D101 -> 314800 | E101: ='入力（研究）'!E101 -> 358900
B102: 96 | D102: ='入力（研究）'!D102 -> 315300 | E102: ='入力（研究）'!E102 -> 359300
B103: 97 | D103: ='入力（研究）'!D103 -> 315600 | E103: ='入力（研究）'!E103 -> 359800
B104: 98 | D104: ='入力（研究）'!D104 -> 316000 | E104: ='入力（研究）'!E104 -> 360300
B105: 99 | D105: ='入力（研究）'!D105 -> 316400 | E105: ='入力（研究）'!E105 -> 360800
B106: 100 | D106: ='入力（研究）'!D106 -> 316900 | E106: ='入力（研究）'!E106 -> 361300
B107: 101 | D107: ='入力（研究）'!D107 -> 317300 | E107: ='入力（研究）'!E107 -> 361800
... B127: 121 | D127: ='入力（研究）'!D127 -> 323200 | E127: ='入力（研究）'!E127 -> 370400
A128: 定年前再任用短時間勤務職員 | D128: 基 準 給料月額 | E128: 基 準 給料月額 | F128: 基 準 給料月額 | G128: 基 準 給料月額 | H128: 基 準 給料月額
D129: 円 | E129: 円 | F129: 円 | G129: 円 | H129: 円
D130: ='入力（研究）'!D130 -> 250200 | E130: ='入力（研究）'!E130 -> 296600 | F130: ='入力（研究）'!F130 -> 324600 | G130: ='入力（研究）'!G130 -> 371700 | H130: ='入力（研究）'!H130 -> 435900
A132: 備考 | B132: この表は、試験場、研究所等で人事委員会の指定するものに勤務し、本務として試験研究又は調査研究業務に従事する職員で、任命権者が人事委員会と協議して定めるものに適用する。

Sheet 医一
A2: 医 療 職 給 料 表
A3: イ 医療職給料表（一）
A4: 職員の区分 | C4: 職務 の級 | D4: 1 | E4: 2 | F4: 3 | G4: 4
B5: 号給 | D5: 給料月額 | E5: 給料月額 | F5: 給料月額 | G5: 給料月額
A6: 定年前再任用短時間勤務職員以外の職員 | D6: 円 | E6: 円 | F6: 円 | G6: 円
B7: 1 | D7: ='入力（医一）'!D7 -> 317300 | E7: ='入力（医一）'!E7 -> 430100 | F7: ='入力（医一）'!F7 -> 486900 | G7: ='入力（医一）'!G7 -> 584000
B8: 2 | D8: ='入力（医一）'!D8 -> 319700 | E8: ='入力（医一）'!E8 -> 432800 | F8: ='入力（医一）'!F8 -> 488900 | G8: ='入力（医一）'!G8 -> 590100 | H8: =G8-G7 -> 6100
B9: 3 | D9: ='入力（医一）'!D9 -> 322000 | E9: ='入力（医一）'!E9 -> 435500 | F9: ='入力（医一）'!F9 -> 490800 | G9: ='入力（医一）'!G9 -> 595200 | H9: =G9-G8 -> 5100
B10: 4 | D10: ='入力（医一）'!D10 -> 324200 | E10: ='入力（医一）'!E10 -> 438100 | F10: ='入力（医一）'!F10 -> 492700 | G10: ='入力（医一）'!G10 -> 599900 | H10: =G10-G9 -> 4700
B11: 5 | D11: ='入力（医一）'!D11 -> 326400 | E11: ='入力（医一）'!E11 -> 440600 | F11: ='入力（医一）'!F11 -> 494200 | G11: ='入力（医一）'!G11 -> 604200 | H11: =G11-G10 -> 4300
B12: 6 | D12: ='入力（医一）'!D12 -> 329900 | E12: ='入力（医一）'!E12 -> 442800 | F12: ='入力（医一）'!F12 -> 495900 | G12: ='入力（医一）'!G12 -> 608500 | H12: =G12-G11 -> 4300
B13: 7 | D13: ='入力（医一）'!D13 -> 333400 | E13: ='入力（医一）'!E13 -> 444800 | F13: ='入力（医一）'!F13 -> 497700 | G13: ='入力（医一）'!G13 -> 611900 | H13: =G13-G12 -> 3400
B14: 8 | D14: ='入力（医一）'!D14 -> 336900 | E14: ='入力（医一）'!E14 -> 446900 | F14: ='入力（医一）'!F14 -> 499500 | G14: ='入力（医一）'!G14 -> 614800 | H14: =G14-G13 -> 2900
B15: 9 | D15: ='入力（医一）'!D15 -> 340500 | E15: ='入力（医一）'!E15 -> 449000 | F15: ='入力（医一）'!F15 -> 501300 | G15: ='入力（医一）'!G15 -> 617300 | H15: =G15-G14 -> 2500
B16: 10 | D16: ='入力（医一）'!D16 -> 344000 | E16: ='入力（医一）'!E16 -> 450600 | F16: ='入力（医一）'!F16 -> 503000 | G16: ='入力（医一）'!G16 -> 619600 | H16: =G16-G15 -> 2300
B17: 11 | D17: ='入力（医一）'!D17 -> 347500 | E17: ='入力（医一）'!E17 -> 452200 | F17: ='入力（医一）'!F17 -> 504800 | G17: ='入力（医一）'!G17 -> 0 | H17: =G17-G16 -> -619600
B18: 12 | D18: ='入力（医一）'!D18 -> 351000 | E18: ='入力（医一）'!E18 -> 453800 | F18: ='入力（医一）'!F18 -> 506600 | G18: ='入力（医一）'!G18 -> 0 | H18: =G18-G17 -> 0
B19: 13 | D19: ='入力（医一）'!D19 -> 354500 | E19: ='入力（医一）'!E19 -> 455400 | F19: ='入力（医一）'!F19 -> 508400 | G19: ='入力（医一）'!G19 -> 0 | H19: =G19-G18 -> 0
... B34: 28 | D34: ='入力（医一）'!D34 -> 401200 | E34: ='入力（医一）'!E34 -> 476600 | F34: ='入力（医一）'!F34 -> 535100 | G34: ='入力（医一）'!G34 -> 0 | H34: =G34-G33 -> 0
B35: 29 | D35: ='入力（医一）'!D35 -> 403200 | E35: ='入力（医一）'!E35 -> 478000 | F35: ='入力（医一）'!F35 -> 536500 | H35: =G35-G34 -> 0
B36: 30 | D36: ='入力（医一）'!D36 -> 404900 | E36: ='入力（医一）'!E36 -> 479300 | F36: ='入力（医一）'!F36 -> 538200 | H36: =G36-G35 -> 0
B37: 31 | D37: ='入力（医一）'!D37 -> 406600 | E37: ='入力（医一）'!E37 -> 480700 | F37: ='入力（医一）'!F37 -> 540000 | H37: =G37-G36 -> 0
B38: 32 | D38: ='入力（医一）'!D38 -> 408400 | E38: ='入力（医一）'!E38 -> 482100 | F38: ='入力（医一）'!F38 -> 541700 | H38: =G38-G37 -> 0
B39: 33 | D39: ='入力（医一）'!D39 -> 410200 | E39: ='入力（医一）'!E39 -> 483400 | F39: ='入力（医一）'!F39 -> 543200 | H39: =G39-G38 -> 0
B40: 34 | D40: ='入力（医一）'!D40 -> 412000 | E40: ='入力（医一）'!E40 -> 484700 | F40: ='入力（医一）'!F40 -> 544500 | H40: =G40-G39 -> 0
B41: 35 | D41: ='入力（医一）'!D41 -> 413600 | E41: ='入力（医一）'!E41 -> 486000 | F41: ='入力（医一）'!F41 -> 545800 | H41: =G41-G40 -> 0
B42: 36 | D42: ='入力（医一）'!D42 -> 415100 | E42: ='入力（医一）'!E42 -> 487400 | F42: ='入力（医一）'!F42 -> 547100 | H42: =G42-G41 -> 0
B43: 37 | D43: ='入力（医一）'!D43 -> 416600 | E43: ='入力（医一）'!E43 -> 488800 | F43: ='入力（医一）'!F43 -> 548100 | H43: =G43-G42 -> 0
B44: 38 | D44: ='入力（医一）'!D44 -> 418000 | E44: ='入力（医一）'!E44 -> 490400 | F44: ='入力（医一）'!F44 -> 549400
B45: 39 | D45: ='入力（医一）'!D45 -> 419400 | E45: ='入力（医一）'!E45 -> 492000 | F45: ='入力（医一）'!F45 -> 550700
B46: 40 | D46: ='入力（医一）'!D46 -> 420800 | E46: ='入力（医一）'!E46 -> 493500 | F46: ='入力（医一）'!F46 -> 552000
B47: 41 | D47: ='入力（医一）'!D47 -> 422300 | E47: ='入力（医一）'!E47 -> 495100 | F47: ='入力（医一）'!F47 -> 553000
B48: 42 | D48: ='入力（医一）'!D48 -> 423100 | E48: ='入力（医一）'!E48 -> 496300 | F48: ='入力（医一）'!F48 -> 553800 | G48: ='入力（医一）'!G48 -> 0
B49: 43 | D49: ='入力（医一）'!D49 -> 423800 | E49: ='入力（医一）'!E49 -> 497300 | F49: ='入力（医一）'!F49 -> 554600 | G49: ='入力（医一）'!G49 -> 0
B50: 44 | D50: ='入力（医一）'!D50 -> 424500 | E50: ='入力（医一）'!E50 -> 498300 | F50: ='入力（医一）'!F50 -> 555400 | G50: ='入力（医一）'!G50 -> 0
B51: 45 | D51: ='入力（医一）'!D51 -> 425300 | E51: ='入力（医一）'!E51 -> 499100 | F51: ='入力（医一）'!F51 -> 556300 | G51: ='入力（医一）'!G51 -> 0
B52: 46 | D52: ='入力（医一）'!D52 -> 425900 | E52: ='入力（医一）'!E52 -> 500000 | F52: ='入力（医一）'!F52 -> 557100 | G52: ='入力（医一）'!G52 -> 0
B53: 47 | D53: ='入力（医一）'!D53 -> 426500 | E53: ='入力（医一）'!E53 -> 500900 | F53: ='入力（医一）'!F53 -> 557900 | G53: ='入力（医一）'!G53 -> 0
B54: 48 | D54: ='入力（医一）'!D54 -> 427000 | E54: ='入力（医一）'!E54 -> 501700 | F54: ='入力（医一）'!F54 -> 558600 | G54: ='入力（医一）'!G54 -> 0
B55: 49 | D55: ='入力（医一）'!D55 -> 427500 | E55: ='入力（医一）'!E55 -> 502400 | F55: ='入力（医一）'!F55 -> 559400 | G55: ='入力（医一）'!G55 -> 0
B56: 50 | D56: ='入力（医一）'!D56 -> 427900 | E56: ='入力（医一）'!E56 -> 503100 | F56: ='入力（医一）'!F56 -> 560200 | G56: ='入力（医一）'!G56 -> 0
B57: 51 | D57: ='入力（医一）'!D57 -> 428400 | E57: ='入力（医一）'!E57 -> 503800 | F57: ='入力（医一）'!F57 -> 560900 | G57: ='入力（医一）'!G57 -> 0
B58: 52 | D58: ='入力（医一）'!D58 -> 428800 | E58: ='入力（医一）'!E58 -> 504400 | F58: ='入力（医一）'!F58 -> 561800 | G58: ='入力（医一）'!G58 -> 0
B59: 53 | D59: ='入力（医一）'!D59 -> 429200 | E59: ='入力（医一）'!E59 -> 505000 | F59: ='入力（医一）'!F59 -> 562700 | G59: ='入力（医一）'!G59 -> 0
... B71: 65 | D71: ='入力（医一）'!D71 -> 433000 | E71: ='入力（医一）'!E71 -> 511900 | F71: ='入力（医一）'!F71 -> 572700 | G71: ='入力（医一）'!G71 -> 0
B72: 66 | E72: ='入力（医一）'!E72 -> 512500 | F72: ='入力（医一）'!F72 -> 573600
B73: 67 | E73: ='入力（医一）'!E73 -> 513100 | F73: ='入力（医一）'!F73 -> 574500
B74: 68 | E74: ='入力（医一）'!E74 -> 513600 | F74: ='入力（医一）'!F74 -> 575400
B75: 69 | E75: ='入力（医一）'!E75 -> 514100 | F75: ='入力（医一）'!F75 -> 576200
B76: 70 | E76: ='入力（医一）'!E76 -> 514600 | F76: ='入力（医一）'!F76 -> 577100
B77: 71 | E77: ='入力（医一）'!E77 -> 515100 | F77: ='入力（医一）'!F77 -> 578000
B78: 72 | E78: ='入力（医一）'!E78 -> 515600 | F78: ='入力（医一）'!F78 -> 578900
B79: 73 | E79: ='入力（医一）'!E79 -> 516000 | F79: ='入力（医一）'!F79 -> 579700
B80: 74 | E80: ='入力（医一）'!E80 -> 516500 | F80: ='入力（医一）'!F80 -> 0
B81: 75 | E81: ='入力（医一）'!E81 -> 516900 | F81: ='入力（医一）'!F81 -> 0
B82: 76 | E82: ='入力（医一）'!E82 -> 517300 | F82: ='入力（医一）'!F82 -> 0
B83: 77 | E83: ='入力（医一）'!E83 -> 517800 | F83: ='入力（医一）'!F83 -> 0
... B91: 85 | E91: ='入力（医一）'!E91 -> 522000 | F91: ='入力（医一）'!F91 -> 0
A92: 定年前再任用短時間勤務職員 | D92: 基 準 給料月額 | E92: 基 準 給料月額 | F92: 基 準 給料月額 | G92: 基 準 給料月額
D93: 円 | E93: 円 | F93: 円 | G93: 円
D94: ='入力（医一）'!D94 -> 339500 | E94: ='入力（医一）'!E94 -> 386200 | F94: ='入力（医一）'!F94 -> 446500 | G94: ='入力（医一）'!G94 -> 528200
A96: 備考 | B96: この表は、保健福祉事務所、衛生環境研究所等に勤務する医師及び歯科医師で人事委員会規則で定めるものに適用する。

Sheet 医二
A3: ロ 医療職給料表（二） | M3: ロ 医療職給料表（二）
A4: 職員の区分 | C4: 職務 の級 | D4: 1 | E4: 2 | F4: 3 | G4: 4 | H4: 5 | I4: 特 ５ 級 | J4: 6 | K4: 7 | M4: 職員の区分 | O4: 職務 の級 | P4: 1 | Q4: 2 | R4: 3 | S4: 4 | T4: 5 | U4: 特 ５ 級 | V4: 6 | W4: 7 | X4: 1 | Y4: 2 | Z4: 3 | AA4: 4 | AB4: 5 | AC4: 6 | AD4: 7 | AE4: 8
B5: 号給 | D5: 給料月額 | E5: 給料月額 | F5: 給料月額 | G5: 給料月額 | H5: 給料月額 | I5: 給料月額 | J5: 給料月額 | K5: 給料月額 | N5: 号給 | P5: 給料月額 | Q5: 給料月額 | R5: 給料月額 | S5: 給料月額 | T5: 給料月額 | U5: 給料月額 | V5: 給料月額 | W5: 給料月額
A6: 定年前再任用短時間勤務職員以外の職員 | D6: 円 | E6: 円 | F6: 円 | G6: 円 | H6: 円 | I6: 円 | J6: 円 | K6: 円 | M6: 定年前再任用短時間勤務職員以外の職員 | P6: 円 | Q6: 円 | R6: 円 | S6: 円 | T6: 円 | U6: 円 | V6: 円 | W6: 円
B7: 1 | D7: ='入力（医二）'!D7 -> 210500 | E7: ='入力（医二）'!E7 -> 249600 | F7: ='入力（医二）'!F7 -> 284500 | G7: ='入力（医二）'!G7 -> 303700 | H7: ='入力（医二）'!H7 -> 337600 | I7: =H11 -> 343500 | J7: ='入力（医二）'!I7 -> 385000 | K7: ='入力（医二）'!J7 -> 440600 | N7: 1 | P7: 188600 | Q7: 227400 | R7: 263000 | S7: 281800 | T7: 315000 | U7: 320600 | V7: 360700 | W7: 415000 | X7: =D7-P7 -> 21900 | Y7: =E7-Q7 -> 22200 | Z7: =F7-R7 -> 21500 | AA7: =G7-S7 -> 21900 | AB7: =H7-T7 -> 22600 | AC7: =I7-U7 -> 22900 | AD7: =J7-V7 -> 24300 | AE7: =K7-W7 -> 25600
B8: 2 | D8: ='入力（医二）'!D8 -> 212700 | E8: ='入力（医二）'!E8 -> 250900 | F8: ='入力（医二）'!F8 -> 285300 | G8: ='入力（医二）'!G8 -> 304500 | H8: ='入力（医二）'!H8 -> 339100 | I8: =H12 -> 345100 | J8: ='入力（医二）'!I8 -> 386700 | K8: ='入力（医二）'!J8 -> 442600 | N8: 2 | P8: 190700 | Q8: 228700 | R8: 263800 | S8: 282600 | T8: 316400 | U8: 322200 | V8: 362400 | W8: 416900 | X8: =D8-P8 -> 22000 | Y8: =E8-Q8 -> 22200 | Z8: =F8-R8 -> 21500 | AA8: =G8-S8 -> 21900 | AB8: =H8-T8 -> 22700 | AC8: =I8-U8 -> 22900 | AD8: =J8-V8 -> 24300 | AE8: =K8-W8 -> 25700
B9: 3 | D9: ='入力（医二）'!D9 -> 214800 | E9: ='入力（医二）'!E9 -> 252200 | F9: ='入力（医二）'!F9 -> 286000 | G9: ='入力（医二）'!G9 -> 305200 | H9: ='入力（医二）'!H9 -> 340600 | I9: =H13 -> 346700 | J9: ='入力（医二）'!I9 -> 388300 | K9: ='入力（医二）'!J9 -> 444600 | N9: 3 | P9: 192800 | Q9: 230000 | R9: 264600 | S9: 283400 | T9: 317800 | U9: 323700 | V9: 364000 | W9: 418800 | X9: =D9-P9 -> 22000 | Y9: =E9-Q9 -> 22200 | Z9: =F9-R9 -> 21400 | AA9: =G9-S9 -> 21800 | AB9: =H9-T9 -> 22800 | AC9: =I9-U9 -> 23000 | AD9: =J9-V9 -> 24300 | AE9: =K9-W9 -> 25800
B10: 4 | D10: ='入力（医二）'!D10 -> 216900 | E10: ='入力（医二）'!E10 -> 253500 | F10: ='入力（医二）'!F10 -> 286800 | G10: ='入力（医二）'!G10 -> 305900 | H10: ='入力（医二）'!H10 -> 342000 | I10: =H14 -> 348200 | J10: ='入力（医二）'!I10 -> 389900 | K10: ='入力（医二）'!J10 -> 446500 | N10: 4 | P10: 194900 | Q10: 231300 | R10: 265400 | S10: 284100 | T10: 319200 | U10: 325200 | V10: 365600 | W10: 420600 | X10: =D10-P10 -> 22000 | Y10: =E10-Q10 -> 22200 | Z10: =F10-R10 -> 21400 | AA10: =G10-S10 -> 21800 | AB10: =H10-T10 -> 22800 | AC10: =I10-U10 -> 23000 | AD10: =J10-V10 -> 24300 | AE10: =K10-W10 -> 25900
B11: 5 | D11: ='入力（医二）'!D11 -> 218900 | E11: ='入力（医二）'!E11 -> 254700 | F11: ='入力（医二）'!F11 -> 287600 | G11: ='入力（医二）'!G11 -> 306700 | H11: ='入力（医二）'!H11 -> 343500 | I11: =H15 -> 349700 | J11: ='入力（医二）'!I11 -> 391400 | K11: ='入力（医二）'!J11 -> 448300 | N11: 5 | P11: 196900 | Q11: 232500 | R11: 266200 | S11: 284800 | T11: 320600 | U11: 326700 | V11: 367200 | W11: 422400 | X11: =D11-P11 -> 22000 | Y11: =E11-Q11 -> 22200 | Z11: =F11-R11 -> 21400 | AA11: =G11-S11 -> 21900 | AB11: =H11-T11 -> 22900 | AC11: =I11-U11 -> 23000 | AD11: =J11-V11 -> 24200 | AE11: =K11-W11 -> 25900
B12: 6 | D12: ='入力（医二）'!D12 -> 220900 | E12: ='入力（医二）'!E12 -> 255800 | F12: ='入力（医二）'!F12 -> 288400 | G12: ='入力（医二）'!G12 -> 307400 | H12: ='入力（医二）'!H12 -> 345100 | I12: =H16 -> 351300 | J12: ='入力（医二）'!I12 -> 393000 | K12: ='入力（医二）'!J12 -> 450000 | N12: 6 | P12: 198900 | Q12: 233600 | R12: 267000 | S12: 285500 | T12: 322200 | U12: 328300 | V12: 368800 | W12: 424000 | X12: =D12-P12 -> 22000 | Y12: =E12-Q12 -> 22200 | Z12: =F12-R12 -> 21400 | AA12: =G12-S12 -> 21900 | AB12: =H12-T12 -> 22900 | AC12: =I12-U12 -> 23000 | AD12: =J12-V12 -> 24200 | AE12: =K12-W12 -> 26000
B13: 7 | D13: ='入力（医二）'!D13 -> 222900 | E13: ='入力（医二）'!E13 -> 256800 | F13: ='入力（医二）'!F13 -> 289200 | G13: ='入力（医二）'!G13 -> 308100 | H13: ='入力（医二）'!H13 -> 346700 | I13: =H17 -> 352900 | J13: ='入力（医二）'!I13 -> 394600 | K13: ='入力（医二）'!J13 -> 451600 | N13: 7 | P13: 200900 | Q13: 234600 | R13: 267800 | S13: 286200 | T13: 323700 | U13: 329800 | V13: 370400 | W13: 425600 | X13: =D13-P13 -> 22000 | Y13: =E13-Q13 -> 22200 | Z13: =F13-R13 -> 21400 | AA13: =G13-S13 -> 21900 | AB13: =H13-T13 -> 23000 | AC13: =I13-U13 -> 23100 | AD13: =J13-V13 -> 24200 | AE13: =K13-W13 -> 26000
B14: 8 | D14: ='入力（医二）'!D14 -> 224800 | E14: ='入力（医二）'!E14 -> 257700 | F14: ='入力（医二）'!F14 -> 289900 | G14: ='入力（医二）'!G14 -> 308800 | H14: ='入力（医二）'!H14 -> 348200 | I14: =H18 -> 354400 | J14: ='入力（医二）'!I14 -> 396200 | K14: ='入力（医二）'!J14 -> 453100 | N14: 8 | P14: 202700 | Q14: 235600 | R14: 268600 | S14: 287000 | T14: 325200 | U14: 331300 | V14: 372000 | W14: 427100 | X14: =D14-P14 -> 22100 | Y14: =E14-Q14 -> 22100 | Z14: =F14-R14 -> 21300 | AA14: =G14-S14 -> 21800 | AB14: =H14-T14 -> 23000 | AC14: =I14-U14 -> 23100 | AD14: =J14-V14 -> 24200 | AE14: =K14-W14 -> 26000
B15: 9 | D15: ='入力（医二）'!D15 -> 226600 | E15: ='入力（医二）'!E15 -> 258800 | F15: ='入力（医二）'!F15 -> 290600 | G15: ='入力（医二）'!G15 -> 309600 | H15: ='入力（医二）'!H15 -> 349700 | I15: =行政!H15 -> 358300 | J15: ='入力（医二）'!I15 -> 397800 | K15: ='入力（医二）'!J15 -> 454600 | N15: 9 | P15: 204500 | Q15: 236700 | R15: 269400 | S15: 287800 | T15: 326700 | U15: 335000 | V15: 373600 | W15: 428600 | X15: =D15-P15 -> 22100 | Y15: =E15-Q15 -> 22100 | Z15: =F15-R15 -> 21200 | AA15: =G15-S15 -> 21800 | AB15: =H15-T15 -> 23000 | AC15: =I15-U15 -> 23300 | AD15: =J15-V15 -> 24200 | AE15: =K15-W15 -> 26000
B16: 10 | D16: ='入力（医二）'!D16 -> 228500 | E16: ='入力（医二）'!E16 -> 259900 | F16: ='入力（医二）'!F16 -> 291400 | G16: ='入力（医二）'!G16 -> 310300 | H16: ='入力（医二）'!H16 -> 351300 | I16: =行政!H16 -> 360000 | J16: ='入力（医二）'!I16 -> 399800 | K16: ='入力（医二）'!J16 -> 455900 | N16: 10 | P16: 206400 | Q16: 237900 | R16: 270200 | S16: 288600 | T16: 328300 | U16: 336700 | V16: 375600 | W16: 429900 | X16: =D16-P16 -> 22100 | Y16: =E16-Q16 -> 22000 | Z16: =F16-R16 -> 21200 | AA16: =G16-S16 -> 21700 | AB16: =H16-T16 -> 23000 | AC16: =I16-U16 -> 23300 | AD16: =J16-V16 -> 24200 | AE16: =K16-W16 -> 26000
B17: 11 | D17: ='入力（医二）'!D17 -> 230400 | E17: ='入力（医二）'!E17 -> 261000 | F17: ='入力（医二）'!F17 -> 292200 | G17: ='入力（医二）'!G17 -> 311100 | H17: ='入力（医二）'!H17 -> 352900 | I17: =行政!H17 -> 361700 | J17: ='入力（医二）'!I17 -> 401800 | K17: ='入力（医二）'!J17 -> 457200 | N17: 11 | P17: 208300 | Q17: 239200 | R17: 271000 | S17: 289400 | T17: 329800 | U17: 338400 | V17: 377600 | W17: 431200 | X17: =D17-P17 -> 22100 | Y17: =E17-Q17 -> 21800 | Z17: =F17-R17 -> 21200 | AA17: =G17-S17 -> 21700 | AB17: =H17-T17 -> 23100 | AC17: =I17-U17 -> 23300 | AD17: =J17-V17 -> 24200 | AE17: =K17-W17 -> 26000
B18: 12 | D18: ='入力（医二）'!D18 -> 232500 | E18: ='入力（医二）'!E18 -> 262200 | F18: ='入力（医二）'!F18 -> 293000 | G18: ='入力（医二）'!G18 -> 311700 | H18: ='入力（医二）'!H18 -> 354400 | I18: =行政!H18 -> 363400 | J18: ='入力（医二）'!I18 -> 403800 | K18: ='入力（医二）'!J18 -> 458500 | N18: 12 | P18: 210400 | Q18: 240500 | R18: 271800 | S18: 290100 | T18: 331300 | U18: 340000 | V18: 379600 | W18: 432500 | X18: =D18-P18 -> 22100 | Y18: =E18-Q18 -> 21700 | Z18: =F18-R18 -> 21200 | AA18: =G18-S18 -> 21600 | AB18: =H18-T18 -> 23100 | AC18: =I18-U18 -> 23400 | AD18: =J18-V18 -> 24200 | AE18: =K18-W18 -> 26000
B19: 13 | D19: ='入力（医二）'!D19 -> 234200 | E19: ='入力（医二）'!E19 -> 263400 | F19: ='入力（医二）'!F19 -> 293800 | G19: ='入力（医二）'!G19 -> 312300 | H19: ='入力（医二）'!H19 -> 355900 | I19: =行政!H19 -> 364900 | J19: ='入力（医二）'!I19 -> 405200 | K19: ='入力（医二）'!J19 -> 459800 | N19: 13 | P19: 212100 | Q19: 241800 | R19: 272600 | S19: 290800 | T19: 332800 | U19: 341500 | V19: 381000 | W19: 433800 | X19: =D19-P19 -> 22100 | Y19: =E19-Q19 -> 21600 | Z19: =F19-R19 -> 21200 | AA19: =G19-S19 -> 21500 | AB19: =H19-T19 -> 23100 | AC19: =I19-U19 -> 23400 | AD19: =J19-V19 -> 24200 | AE19: =K19-W19 -> 26000
B20: 14 | D20: ='入力（医二）'!D20 -> 236200 | E20: ='入力（医二）'!E20 -> 264600 | F20: ='入力（医二）'!F20 -> 294600 | G20: ='入力（医二）'!G20 -> 313400 | H20: ='入力（医二）'!H20 -> 357500 | I20: =行政!H20 -> 366500 | J20: ='入力（医二）'!I20 -> 406900 | K20: ='入力（医二）'!J20 -> 461000 | N20: 14 | P20: 214100 | Q20: 243100 | R20: 273400 | S20: 291900 | T20: 334400 | U20: 343100 | V20: 382700 | W20: 435000 | X20: =D20-P20 -> 22100 | Y20: =E20-Q20 -> 21500 | Z20: =F20-R20 -> 21200 | AA20: =G20-S20 -> 21500 | AB20: =H20-T20 -> 23100 | AC20: =I20-U20 -> 23400 | AD20: =J20-V20 -> 24200 | AE20: =K20-W20 -> 26000
B21: 15 | D21: ='入力（医二）'!D21 -> 238400 | E21: ='入力（医二）'!E21 -> 265800 | F21: ='入力（医二）'!F21 -> 295300 | G21: ='入力（医二）'!G21 -> 314600 | H21: ='入力（医二）'!H21 -> 359100 | I21: =行政!H21 -> 368100 | J21: ='入力（医二）'!I21 -> 408600 | K21: ='入力（医二）'!J21 -> 462200 | N21: 15 | P21: 216300 | Q21: 244400 | R21: 274200 | S21: 293000 | T21: 335900 | U21: 344700 | V21: 384400 | W21: 436200 | X21: =D21-P21 -> 22100 | Y21: =E21-Q21 -> 21400 | Z21: =F21-R21 -> 21100 | AA21: =G21-S21 -> 21600 | AB21: =H21-T21 -> 23200 | AC21: =I21-U21 -> 23400 | AD21: =J21-V21 -> 24200 | AE21: =K21-W21 -> 26000
B22: 16 | D22: ='入力（医二）'!D22 -> 240500 | E22: ='入力（医二）'!E22 -> 266900 | F22: ='入力（医二）'!F22 -> 296100 | G22: ='入力（医二）'!G22 -> 315900 | H22: ='入力（医二）'!H22 -> 360700 | I22: =行政!H22 -> 369600 | J22: ='入力（医二）'!I22 -> 410300 | K22: ='入力（医二）'!J22 -> 463300 | N22: 16 | P22: 218400 | Q22: 245600 | R22: 275000 | S22: 294200 | T22: 337400 | U22: 346200 | V22: 386100 | W22: 437300 | X22: =D22-P22 -> 22100 | Y22: =E22-Q22 -> 21300 | Z22: =F22-R22 -> 21100 | AA22: =G22-S22 -> 21700 | AB22: =H22-T22 -> 23300 | AC22: =I22-U22 -> 23400 | AD22: =J22-V22 -> 24200 | AE22: =K22-W22 -> 26000
B23: 17 | D23: ='入力（医二）'!D23 -> 242600 | E23: ='入力（医二）'!E23 -> 267900 | F23: ='入力（医二）'!F23 -> 296900 | G23: ='入力（医二）'!G23 -> 317100 | H23: ='入力（医二）'!H23 -> 362200 | I23: =行政!H23 -> 370900 | J23: ='入力（医二）'!I23 -> 412000 | K23: ='入力（医二）'!J23 -> 464500 | N23: 17 | P23: 220500 | Q23: 246800 | R23: 275800 | S23: 295400 | T23: 338900 | U23: 347600 | V23: 387800 | W23: 438500 | X23: =D23-P23 -> 22100 | Y23: =E23-Q23 -> 21100 | Z23: =F23-R23 -> 21100 | AA23: =G23-S23 -> 21700 | AB23: =H23-T23 -> 23300 | AC23: =I23-U23 -> 23300 | AD23: =J23-V23 -> 24200 | AE23: =K23-W23 -> 26000
B24: 18 | D24: ='入力（医二）'!D24 -> 243700 | E24: ='入力（医二）'!E24 -> 268900 | F24: ='入力（医二）'!F24 -> 297800 | G24: ='入力（医二）'!G24 -> 318300 | H24: ='入力（医二）'!H24 -> 363700 | I24: =行政!H24 -> 372600 | J24: ='入力（医二）'!I24 -> 413500 | K24: ='入力（医二）'!J24 -> 465600 | N24: 18 | P24: 221600 | Q24: 248000 | R24: 276600 | S24: 296600 | T24: 340500 | U24: 349300 | V24: 389300 | W24: 439600 | X24: =D24-P24 -> 22100 | Y24: =E24-Q24 -> 20900 | Z24: =F24-R24 -> 21200 | AA24: =G24-S24 -> 21700 | AB24: =H24-T24 -> 23200 | AC24: =I24-U24 -> 23300 | AD24: =J24-V24 -> 24200 | AE24: =K24-W24 -> 26000
B25: 19 | D25: ='入力（医二）'!D25 -> 244700 | E25: ='入力（医二）'!E25 -> 270000 | F25: ='入力（医二）'!F25 -> 298600 | G25: ='入力（医二）'!G25 -> 319400 | H25: ='入力（医二）'!H25 -> 365300 | I25: =行政!H25 -> 374200 | J25: ='入力（医二）'!I25 -> 415000 | K25: ='入力（医二）'!J25 -> 466800 | N25: 19 | P25: 222700 | Q25: 249200 | R25: 277400 | S25: 297800 | T25: 342100 | U25: 350900 | V25: 390800 | W25: 440800 | X25: =D25-P25 -> 22000 | Y25: =E25-Q25 -> 20800 | Z25: =F25-R25 -> 21200 | AA25: =G25-S25 -> 21600 | AB25: =H25-T25 -> 23200 | AC25: =I25-U25 -> 23300 | AD25: =J25-V25 -> 24200 | AE25: =K25-W25 -> 26000
B26: 20 | D26: ='入力（医二）'!D26 -> 245700 | E26: ='入力（医二）'!E26 -> 271000 | F26: ='入力（医二）'!F26 -> 299300 | G26: ='入力（医二）'!G26 -> 320600 | H26: ='入力（医二）'!H26 -> 366800 | I26: =行政!H26 -> 375800 | J26: ='入力（医二）'!I26 -> 416500 | K26: ='入力（医二）'!J26 -> 468000 | N26: 20 | P26: 223800 | Q26: 250400 | R26: 278200 | S26: 299000 | T26: 343600 | U26: 352500 | V26: 392300 | W26: 442000 | X26: =D26-P26 -> 21900 | Y26: =E26-Q26 -> 20600 | Z26: =F26-R26 -> 21100 | AA26: =G26-S26 -> 21600 | AB26: =H26-T26 -> 23200 | AC26: =I26-U26 -> 23300 | AD26: =J26-V26 -> 24200 | AE26: =K26-W26 -> 26000
... B59: 53 | D59: ='入力（医二）'!D59 -> 267200 | E59: ='入力（医二）'!E59 -> 296600 | F59: ='入力（医二）'!F59 -> 332000 | G59: ='入力（医二）'!G59 -> 357000 | H59: ='入力（医二）'!H59 -> 403100 | I59: =行政!H59 -> 409600 | J59: ='入力（医二）'!I59 -> 435600 | K59: ='入力（医二）'!J59 -> 0 | N59: 53 | P59: 247700 | Q59: 276700 | R59: 311200 | S59: 335900 | T59: 380300 | U59: 386600 | V59: 411600 | W59: 0 | X59: =D59-P59 -> 19500 | Y59: =E59-Q59 -> 19900 | Z59: =F59-R59 -> 20800 | AA59: =G59-S59 -> 21100 | AB59: =H59-T59 -> 22800 | AC59: =I59-U59 -> 23000 | AD59: =J59-V59 -> 24000 | AE59: =K59-W59 -> 0
B60: 54 | D60: ='入力（医二）'!D60 -> 267500 | E60: ='入力（医二）'!E60 -> 297300 | F60: ='入力（医二）'!F60 -> 332900 | G60: ='入力（医二）'!G60 -> 357900 | H60: ='入力（医二）'!H60 -> 403800 | I60: =行政!H60 -> 410200 | J60: =J59+J56-J55 -> 435800 | N60: 54 | P60: 248000 | Q60: 277400 | R60: 312200 | S60: 336800 | T60: 381000 | U60: 387200 | V60: 411900 | X60: =D60-P60 -> 19500 | Y60: =E60-Q60 -> 19900 | Z60: =F60-R60 -> 20700 | AA60: =G60-S60 -> 21100 | AB60: =H60-T60 -> 22800 | AC60: =I60-U60 -> 23000 | AD60: =J60-V60 -> 23900 | AE60: =K60-W60 -> 0
B61: 55 | D61: ='入力（医二）'!D61 -> 267800 | E61: ='入力（医二）'!E61 -> 298000 | F61: ='入力（医二）'!F61 -> 333800 | G61: ='入力（医二）'!G61 -> 358600 | H61: ='入力（医二）'!H61 -> 404500 | I61: =行政!H61 -> 410800 | J61: =J60+J57-J56 -> 436100 | N61: 55 | P61: 248300 | Q61: 278100 | R61: 313200 | S61: 337500 | T61: 381700 | U61: 387800 | V61: 412200 | X61: =D61-P61 -> 19500 | Y61: =E61-Q61 -> 19900 | Z61: =F61-R61 -> 20600 | AA61: =G61-S61 -> 21100 | AB61: =H61-T61 -> 22800 | AC61: =I61-U61 -> 23000 | AD61: =J61-V61 -> 23900 | AE61: =K61-W61 -> 0
B62: 56 | D62: ='入力（医二）'!D62 -> 268100 | E62: ='入力（医二）'!E62 -> 298600 | F62: ='入力（医二）'!F62 -> 334800 | G62: ='入力（医二）'!G62 -> 359500 | H62: ='入力（医二）'!H62 -> 405100 | I62: =行政!H62 -> 411300 | J62: =J61+J58-J57 -> 436400 | N62: 56 | P62: 248600 | Q62: 278800 | R62: 314200 | S62: 338400 | T62: 382300 | U62: 388300 | V62: 412500 | X62: =D62-P62 -> 19500 | Y62: =E62-Q62 -> 19800 | Z62: =F62-R62 -> 20600 | AA62: =G62-S62 -> 21100 | AB62: =H62-T62 -> 22800 | AC62: =I62-U62 -> 23000 | AD62: =J62-V62 -> 23900 | AE62: =K62-W62 -> 0
B63: 57 | D63: ='入力（医二）'!D63 -> 268400 | E63: ='入力（医二）'!E63 -> 299300 | F63: ='入力（医二）'!F63 -> 335700 | G63: ='入力（医二）'!G63 -> 360200 | H63: ='入力（医二）'!H63 -> 405500 | I63: =行政!H63 -> 411700 | J63: =J62+J59-J58 -> 436600 | N63: 57 | P63: 248900 | Q63: 279500 | R63: 315200 | S63: 339100 | T63: 382700 | U63: 388700 | V63: 412700 | X63: =D63-P63 -> 19500 | Y63: =E63-Q63 -> 19800 | Z63: =F63-R63 -> 20500 | AA63: =G63-S63 -> 21100 | AB63: =H63-T63 -> 22800 | AC63: =I63-U63 -> 23000 | AD63: =J63-V63 -> 23900 | AE63: =K63-W63 -> 0
B64: 58 | D64: ='入力（医二）'!D64 -> 268700 | E64: ='入力（医二）'!E64 -> 300100 | F64: ='入力（医二）'!F64 -> 336500 | G64: ='入力（医二）'!G64 -> 360500 | H64: ='入力（医二）'!H64 -> 406000 | I64: =行政!H64 -> 412300 | J64: =J63+J60-J59 -> 436800 | N64: 58 | P64: 249200 | Q64: 280200 | R64: 316200 | S64: 339400 | T64: 383200 | U64: 389300 | V64: 413000 | X64: =D64-P64 -> 19500 | Y64: =E64-Q64 -> 19900 | Z64: =F64-R64 -> 20300 | AA64: =G64-S64 -> 21100 | AB64: =H64-T64 -> 22800 | AC64: =I64-U64 -> 23000 | AD64: =J64-V64 -> 23800 | AE64: =K64-W64 -> 0
B65: 59 | D65: ='入力（医二）'!D65 -> 269000 | E65: ='入力（医二）'!E65 -> 300800 | F65: ='入力（医二）'!F65 -> 337500 | G65: ='入力（医二）'!G65 -> 360900 | H65: ='入力（医二）'!H65 -> 406600 | I65: =行政!H65 -> 412900 | J65: =J64+J61-J60 -> 437100 | N65: 59 | P65: 249500 | Q65: 280900 | R65: 317200 | S65: 339900 | T65: 383800 | U65: 389900 | V65: 413300 | X65: =D65-P65 -> 19500 | Y65: =E65-Q65 -> 19900 | Z65: =F65-R65 -> 20300 | AA65: =G65-S65 -> 21000 | AB65: =H65-T65 -> 22800 | AC65: =I65-U65 -> 23000 | AD65: =J65-V65 -> 23800 | AE65: =K65-W65 -> 0
B66: 60 | D66: ='入力（医二）'!D66 -> 269300 | E66: ='入力（医二）'!E66 -> 301400 | F66: ='入力（医二）'!F66 -> 338400 | G66: ='入力（医二）'!G66 -> 361500 | H66: ='入力（医二）'!H66 -> 407200 | I66: =行政!H66 -> 413400 | J66: =J65+J62-J61 -> 437400 | N66: 60 | P66: 249800 | Q66: 281500 | R66: 318100 | S66: 340500 | T66: 384400 | U66: 390400 | V66: 413600 | X66: =D66-P66 -> 19500 | Y66: =E66-Q66 -> 19900 | Z66: =F66-R66 -> 20300 | AA66: =G66-S66 -> 21000 | AB66: =H66-T66 -> 22800 | AC66: =I66-U66 -> 23000 | AD66: =J66-V66 -> 23800 | AE66: =K66-W66 -> 0
B67: 61 | D67: ='入力（医二）'!D67 -> 269600 | E67: ='入力（医二）'!E67 -> 301900 | F67: ='入力（医二）'!F67 -> 339300 | G67: ='入力（医二）'!G67 -> 362100 | H67: ='入力（医二）'!H67 -> 407600 | I67: =行政!H67 -> 413800 | J67: =J66+J63-J62 -> 437600 | N67: 61 | P67: 250100 | Q67: 282100 | R67: 319000 | S67: 341100 | T67: 384800 | U67: 390800 | V67: 413800 | X67: =D67-P67 -> 19500 | Y67: =E67-Q67 -> 19800 | Z67: =F67-R67 -> 20300 | AA67: =G67-S67 -> 21000 | AB67: =H67-T67 -> 22800 | AC67: =I67-U67 -> 23000 | AD67: =J67-V67 -> 23800 | AE67: =K67-W67 -> 0
B68: 62 | D68: ='入力（医二）'!D68 -> 269900 | E68: ='入力（医二）'!E68 -> 302600 | F68: ='入力（医二）'!F68 -> 340000 | G68: ='入力（医二）'!G68 -> 362800 | H68: ='入力（医二）'!H68 -> 408100 | I68: =行政!H68 -> 414300 | N68: 62 | P68: 250400 | Q68: 282800 | R68: 319800 | S68: 341800 | T68: 385300 | U68: 391300 | X68: =D68-P68 -> 19500 | Y68: =E68-Q68 -> 19800 | Z68: =F68-R68 -> 20200 | AA68: =G68-S68 -> 21000 | AB68: =H68-T68 -> 22800 | AC68: =I68-U68 -> 23000 | AD68: =J68-V68 -> 0 | AE68: =K68-W68 -> 0
B69: 63 | D69: ='入力（医二）'!D69 -> 270200 | E69: ='入力（医二）'!E69 -> 303300 | F69: ='入力（医二）'!F69 -> 340700 | G69: ='入力（医二）'!G69 -> 363500 | H69: ='入力（医二）'!H69 -> 408600 | I69: =行政!H69 -> 414800 | N69: 63 | P69: 250700 | Q69: 283500 | R69: 320500 | S69: 342500 | T69: 385800 | U69: 391800 | X69: =D69-P69 -> 19500 | Y69: =E69-Q69 -> 19800 | Z69: =F69-R69 -> 20200 | AA69: =G69-S69 -> 21000 | AB69: =H69-T69 -> 22800 | AC69: =I69-U69 -> 23000 | AD69: =J69-V69 -> 0 | AE69: =K69-W69 -> 0
B70: 64 | D70: ='入力（医二）'!D70 -> 270500 | E70: ='入力（医二）'!E70 -> 303900 | F70: ='入力（医二）'!F70 -> 341300 | G70: ='入力（医二）'!G70 -> 364100 | H70: ='入力（医二）'!H70 -> 409100 | I70: =行政!H70 -> 415400 | N70: 64 | P70: 251000 | Q70: 284100 | R70: 321200 | S70: 343100 | T70: 386300 | U70: 392400 | X70: =D70-P70 -> 19500 | Y70: =E70-Q70 -> 19800 | Z70: =F70-R70 -> 20100 | AA70: =G70-S70 -> 21000 | AB70: =H70-T70 -> 22800 | AC70: =I70-U70 -> 23000 | AD70: =J70-V70 -> 0 | AE70: =K70-W70 -> 0
B71: 65 | D71: ='入力（医二）'!D71 -> 270800 | E71: ='入力（医二）'!E71 -> 304400 | F71: ='入力（医二）'!F71 -> 341900 | G71: ='入力（医二）'!G71 -> 364800 | H71: ='入力（医二）'!H71 -> 409700 | I71: =行政!H71 -> 415700 | N71: 65 | P71: 251300 | Q71: 284700 | R71: 321800 | S71: 343800 | T71: 386900 | U71: 392700 | X71: =D71-P71 -> 19500 | Y71: =E71-Q71 -> 19700 | Z71: =F71-R71 -> 20100 | AA71: =G71-S71 -> 21000 | AB71: =H71-T71 -> 22800 | AC71: =I71-U71 -> 23000 | AD71: =J71-V71 -> 0 | AE71: =K71-W71 -> 0
B72: 66 | D72: ='入力（医二）'!D72 -> 271100 | E72: ='入力（医二）'!E72 -> 305000 | F72: ='入力（医二）'!F72 -> 342600 | G72: ='入力（医二）'!G72 -> 365300 | H72: ='入力（医二）'!H72 -> 410200 | I72: =行政!H72 -> 416100 | N72: 66 | P72: 251600 | Q72: 285400 | R72: 322500 | S72: 344300 | T72: 387400 | U72: 393100 | X72: =D72-P72 -> 19500 | Y72: =E72-Q72 -> 19600 | Z72: =F72-R72 -> 20100 | AA72: =G72-S72 -> 21000 | AB72: =H72-T72 -> 22800 | AC72: =I72-U72 -> 23000 | AD72: =J72-V72 -> 0 | AE72: =K72-W72 -> 0
B73: 67 | D73: ='入力（医二）'!D73 -> 271400 | E73: ='入力（医二）'!E73 -> 305700 | F73: ='入力（医二）'!F73 -> 343200 | G73: ='入力（医二）'!G73 -> 365900 | H73: ='入力（医二）'!H73 -> 410800 | I73: =行政!H73 -> 416400 | N73: 67 | P73: 251900 | Q73: 286100 | R73: 323100 | S73: 344900 | T73: 388000 | U73: 393500 | X73: =D73-P73 -> 19500 | Y73: =E73-Q73 -> 19600 | Z73: =F73-R73 -> 20100 | AA73: =G73-S73 -> 21000 | AB73: =H73-T73 -> 22800 | AC73: =I73-U73 -> 22900 | AD73: =J73-V73 -> 0 | AE73: =K73-W73 -> 0
B74: 68 | D74: ='入力（医二）'!D74 -> 271700 | E74: ='入力（医二）'!E74 -> 306400 | F74: ='入力（医二）'!F74 -> 343800 | G74: ='入力（医二）'!G74 -> 366500 | H74: ='入力（医二）'!H74 -> 411400 | I74: =行政!H74 -> 416800 | N74: 68 | P74: 252200 | Q74: 286700 | R74: 323700 | S74: 345500 | T74: 388600 | U74: 393900 | X74: =D74-P74 -> 19500 | Y74: =E74-Q74 -> 19700 | Z74: =F74-R74 -> 20100 | AA74: =G74-S74 -> 21000 | AB74: =H74-T74 -> 22800 | AC74: =I74-U74 -> 22900 | AD74: =J74-V74 -> 0 | AE74: =K74-W74 -> 0
B75: 69 | D75: ='入力（医二）'!D75 -> 272000 | E75: ='入力（医二）'!E75 -> 307000 | F75: ='入力（医二）'!F75 -> 344400 | G75: ='入力（医二）'!G75 -> 366800 | H75: ='入力（医二）'!H75 -> 411900 | I75: =行政!H75 -> 417100 | N75: 69 | P75: 252500 | Q75: 287300 | R75: 324300 | S75: 345800 | T75: 389100 | U75: 394200 | X75: =D75-P75 -> 19500 | Y75: =E75-Q75 -> 19700 | Z75: =F75-R75 -> 20100 | AA75: =G75-S75 -> 21000 | AB75: =H75-T75 -> 22800 | AC75: =I75-U75 -> 22900 | AD75: =J75-V75 -> 0 | AE75: =K75-W75 -> 0
B76: 70 | D76: ='入力（医二）'!D76 -> 272300 | E76: ='入力（医二）'!E76 -> 307500 | F76: ='入力（医二）'!F76 -> 344600 | G76: ='入力（医二）'!G76 -> 367300 | H76: ='入力（医二）'!H76 -> 412400 | I76: =行政!H76 -> 417400 | N76: 70 | P76: 252800 | Q76: 288000 | R76: 324500 | S76: 346400 | T76: 389600 | U76: 394500 | X76: =D76-P76 -> 19500 | Y76: =E76-Q76 -> 19500 | Z76: =F76-R76 -> 20100 | AA76: =G76-S76 -> 20900 | AB76: =H76-T76 -> 22800 | AC76: =I76-U76 -> 22900 | AD76: =J76-V76 -> 0 | AE76: =K76-W76 -> 0
B77: 71 | D77: ='入力（医二）'!D77 -> 272600 | E77: ='入力（医二）'!E77 -> 308100 | F77: ='入力（医二）'!F77 -> 345000 | G77: ='入力（医二）'!G77 -> 367700 | H77: ='入力（医二）'!H77 -> 412800 | I77: =行政!H77 -> 417700 | N77: 71 | P77: 253100 | Q77: 288700 | R77: 325000 | S77: 346900 | T77: 390100 | U77: 394800 | X77: =D77-P77 -> 19500 | Y77: =E77-Q77 -> 19400 | Z77: =F77-R77 -> 20000 | AA77: =G77-S77 -> 20800 | AB77: =H77-T77 -> 22700 | AC77: =I77-U77 -> 22900 | AD77: =J77-V77 -> 0 | AE77: =K77-W77 -> 0
B78: 72 | D78: ='入力（医二）'!D78 -> 272800 | E78: ='入力（医二）'!E78 -> 308600 | F78: ='入力（医二）'!F78 -> 345500 | G78: ='入力（医二）'!G78 -> 368200 | H78: ='入力（医二）'!H78 -> 413200 | I78: =行政!H78 -> 417900 | N78: 72 | P78: 253300 | Q78: 289300 | R78: 325500 | S78: 347400 | T78: 390600 | U78: 395000 | X78: =D78-P78 -> 19500 | Y78: =E78-Q78 -> 19300 | Z78: =F78-R78 -> 20000 | AA78: =G78-S78 -> 20800 | AB78: =H78-T78 -> 22600 | AC78: =I78-U78 -> 22900 | AD78: =J78-V78 -> 0 | AE78: =K78-W78 -> 0
B79: 73 | D79: ='入力（医二）'!D79 -> 273000 | E79: ='入力（医二）'!E79 -> 309200 | F79: ='入力（医二）'!F79 -> 346100 | G79: ='入力（医二）'!G79 -> 368700 | H79: ='入力（医二）'!H79 -> 413500 | I79: =行政!H79 -> 418100 | N79: 73 | P79: 253500 | Q79: 289900 | R79: 326100 | S79: 347900 | T79: 390900 | U79: 395200 | X79: =D79-P79 -> 19500 | Y79: =E79-Q79 -> 19300 | Z79: =F79-R79 -> 20000 | AA79: =G79-S79 -> 20800 | AB79: =H79-T79 -> 22600 | AC79: =I79-U79 -> 22900 | AD79: =J79-V79 -> 0 | AE79: =K79-W79 -> 0
... B83: 77 | D83: ='入力（医二）'!D83 -> 274000 | E83: ='入力（医二）'!E83 -> 310500 | F83: ='入力（医二）'!F83 -> 348100 | G83: ='入力（医二）'!G83 -> 370400 | H83: ='入力（医二）'!H83 -> 415200 | I83: =行政!H83 -> 419100 | N83: 77 | P83: 254500 | Q83: 291600 | R83: 328100 | S83: 349600 | T83: 392600 | U83: 396200 | X83: =D83-P83 -> 19500 | Y83: =E83-Q83 -> 18900 | Z83: =F83-R83 -> 20000 | AA83: =G83-S83 -> 20800 | AB83: =H83-T83 -> 22600 | AC83: =I83-U83 -> 22900 | AD83: =J83-V83 -> 0 | AE83: =K83-W83 -> 0
B84: 78 | D84: ='入力（医二）'!D84 -> 274300 | E84: ='入力（医二）'!E84 -> 310800 | F84: ='入力（医二）'!F84 -> 348600 | G84: ='入力（医二）'!G84 -> 370700 | H84: ='入力（医二）'!H84 -> 0 | I84: =行政!H84 -> 419400 | N84: 78 | P84: 254800 | Q84: 291900 | R84: 328600 | S84: 349900 | U84: 396500 | X84: =D84-P84 -> 19500 | Y84: =E84-Q84 -> 18900 | Z84: =F84-R84 -> 20000 | AA84: =G84-S84 -> 20800 | AB84: =H84-T84 -> 0 | AC84: =I84-U84 -> 22900 | AD84: =J84-V84 -> 0 | AE84: =K84-W84 -> 0
B85: 79 | D85: ='入力（医二）'!D85 -> 274600 | E85: ='入力（医二）'!E85 -> 311000 | F85: ='入力（医二）'!F85 -> 349000 | G85: ='入力（医二）'!G85 -> 370900 | H85: ='入力（医二）'!H85 -> 0 | I85: =行政!H85 -> 419700 | N85: 79 | P85: 255100 | Q85: 292200 | R85: 329000 | S85: 350100 | U85: 396800 | X85: =D85-P85 -> 19500 | Y85: =E85-Q85 -> 18800 | Z85: =F85-R85 -> 20000 | AA85: =G85-S85 -> 20800 | AB85: =H85-T85 -> 0 | AC85: =I85-U85 -> 22900 | AD85: =J85-V85 -> 0 | AE85: =K85-W85 -> 0
B86: 80 | D86: ='入力（医二）'!D86 -> 274800 | E86: ='入力（医二）'!E86 -> 311300 | F86: ='入力（医二）'!F86 -> 349500 | G86: ='入力（医二）'!G86 -> 371200 | H86: ='入力（医二）'!H86 -> 0 | I86: =行政!H86 -> 419900 | N86: 80 | P86: 255300 | Q86: 292500 | R86: 329500 | S86: 350400 | U86: 397000 | X86: =D86-P86 -> 19500 | Y86: =E86-Q86 -> 18800 | Z86: =F86-R86 -> 20000 | AA86: =G86-S86 -> 20800 | AB86: =H86-T86 -> 0 | AC86: =I86-U86 -> 22900 | AD86: =J86-V86 -> 0 | AE86: =K86-W86 -> 0
B87: 81 | D87: ='入力（医二）'!D87 -> 275000 | E87: ='入力（医二）'!E87 -> 311600 | F87: ='入力（医二）'!F87 -> 350000 | G87: ='入力（医二）'!G87 -> 371700 | H87: ='入力（医二）'!H87 -> 0 | I87: =行政!H87 -> 420100 | N87: 81 | P87: 255500 | Q87: 292800 | R87: 330000 | S87: 350900 | U87: 397200 | X87: =D87-P87 -> 19500 | Y87: =E87-Q87 -> 18800 | Z87: =F87-R87 -> 20000 | AA87: =G87-S87 -> 20800 | AB87: =H87-T87 -> 0 | AC87: =I87-U87 -> 22900 | AD87: =J87-V87 -> 0 | AE87: =K87-W87 -> 0
B88: 82 | D88: ='入力（医二）'!D88 -> 275300 | E88: ='入力（医二）'!E88 -> 311800 | F88: ='入力（医二）'!F88 -> 350300 | G88: ='入力（医二）'!G88 -> 372000 | H88: ='入力（医二）'!H88 -> 0 | I88: =行政!H88 -> 420400 | N88: 82 | P88: 255800 | Q88: 293100 | R88: 330400 | S88: 351200 | U88: 397500 | X88: =D88-P88 -> 19500 | Y88: =E88-Q88 -> 18700 | Z88: =F88-R88 -> 19900 | AA88: =G88-S88 -> 20800 | AB88: =H88-T88 -> 0 | AC88: =I88-U88 -> 22900 | AD88: =J88-V88 -> 0 | AE88: =K88-W88 -> 0
B89: 83 | D89: ='入力（医二）'!D89 -> 275600 | E89: ='入力（医二）'!E89 -> 312100 | F89: ='入力（医二）'!F89 -> 350500 | G89: ='入力（医二）'!G89 -> 372300 | H89: ='入力（医二）'!H89 -> 0 | I89: =行政!H89 -> 420700 | N89: 83 | P89: 256100 | Q89: 293400 | R89: 330600 | S89: 351500 | U89: 397800 | X89: =D89-P89 -> 19500 | Y89: =E89-Q89 -> 18700 | Z89: =F89-R89 -> 19900 | AA89: =G89-S89 -> 20800 | AB89: =H89-T89 -> 0 | AC89: =I89-U89 -> 22900 | AD89: =J89-V89 -> 0 | AE89: =K89-W89 -> 0
B90: 84 | D90: ='入力（医二）'!D90 -> 275800 | E90: ='入力（医二）'!E90 -> 312400 | F90: ='入力（医二）'!F90 -> 350800 | G90: ='入力（医二）'!G90 -> 372600 | H90: ='入力（医二）'!H90 -> 0 | I90: =行政!H90 -> 420900 | N90: 84 | P90: 256300 | Q90: 293700 | R90: 330900 | S90: 351800 | U90: 398000 | X90: =D90-P90 -> 19500 | Y90: =E90-Q90 -> 18700 | Z90: =F90-R90 -> 19900 | AA90: =G90-S90 -> 20800 | AB90: =H90-T90 -> 0 | AC90: =I90-U90 -> 22900 | AD90: =J90-V90 -> 0 | AE90: =K90-W90 -> 0
B91: 85 | D91: ='入力（医二）'!D91 -> 276000 | E91: ='入力（医二）'!E91 -> 312600 | F91: ='入力（医二）'!F91 -> 351200 | G91: ='入力（医二）'!G91 -> 373000 | H91: ='入力（医二）'!H91 -> 0 | I91: =行政!H91 -> 421100 | N91: 85 | P91: 256500 | Q91: 293900 | R91: 331300 | S91: 352200 | U91: 398200 | X91: =D91-P91 -> 19500 | Y91: =E91-Q91 -> 18700 | Z91: =F91-R91 -> 19900 | AA91: =G91-S91 -> 20800 | AB91: =H91-T91 -> 0 | AC91: =I91-U91 -> 22900 | AD91: =J91-V91 -> 0 | AE91: =K91-W91 -> 0
B92: 86 | E92: ='入力（医二）'!E92 -> 312800 | F92: ='入力（医二）'!F92 -> 351600 | G92: ='入力（医二）'!G92 -> 373300 | I92: =行政!H92 -> 0 | N92: 86 | Q92: 294100 | R92: 331700 | S92: 352500 | X92: =D92-P92 -> 0 | Y92: =E92-Q92 -> 18700 | Z92: =F92-R92 -> 19900 | AA92: =G92-S92 -> 20800 | AB92: =H92-T92 -> 0 | AC92: =I92-U92 -> 0 | AD92: =J92-V92 -> 0 | AE92: =K92-W92 -> 0
B93: 87 | E93: ='入力（医二）'!E93 -> 313000 | F93: ='入力（医二）'!F93 -> 351900 | G93: ='入力（医二）'!G93 -> 373600 | I93: =行政!H93 -> 0 | N93: 87 | Q93: 294300 | R93: 332000 | S93: 352800 | X93: =D93-P93 -> 0 | Y93: =E93-Q93 -> 18700 | Z93: =F93-R93 -> 19900 | AA93: =G93-S93 -> 20800 | AB93: =H93-T93 -> 0 | AC93: =I93-U93 -> 0 | AD93: =J93-V93 -> 0 | AE93: =K93-W93 -> 0
B94: 88 | E94: ='入力（医二）'!E94 -> 313200 | F94: ='入力（医二）'!F94 -> 352200 | G94: ='入力（医二）'!G94 -> 373900 | I94: =行政!H94 -> 0 | N94: 88 | Q94: 294500 | R94: 332300 | S94: 353100 | X94: =D94-P94 -> 0 | Y94: =E94-Q94 -> 18700 | Z94: =F94-R94 -> 19900 | AA94: =G94-S94 -> 20800 | AB94: =H94-T94 -> 0 | AC94: =I94-U94 -> 0 | AD94: =J94-V94 -> 0 | AE94: =K94-W94 -> 0
B95: 89 | E95: ='入力（医二）'!E95 -> 313600 | F95: ='入力（医二）'!F95 -> 352500 | G95: ='入力（医二）'!G95 -> 374300 | I95: =行政!H95 -> 0 | N95: 89 | Q95: 294900 | R95: 332600 | S95: 353500 | X95: =D95-P95 -> 0 | Y95: =E95-Q95 -> 18700 | Z95: =F95-R95 -> 19900 | AA95: =G95-S95 -> 20800 | AB95: =H95-T95 -> 0 | AC95: =I95-U95 -> 0 | AD95: =J95-V95 -> 0 | AE95: =K95-W95 -> 0
B96: 90 | E96: ='入力（医二）'!E96 -> 313800 | F96: ='入力（医二）'!F96 -> 352700 | G96: ='入力（医二）'!G96 -> 374600 | I96: =行政!H96 -> 0 | N96: 90 | Q96: 295100 | R96: 332800 | S96: 353800 | X96: =D96-P96 -> 0 | Y96: =E96-Q96 -> 18700 | Z96: =F96-R96 -> 19900 | AA96: =G96-S96 -> 20800 | AB96: =H96-T96 -> 0 | AC96: =I96-U96 -> 0 | AD96: =J96-V96 -> 0 | AE96: =K96-W96 -> 0
B97: 91 | E97: ='入力（医二）'!E97 -> 314000 | F97: ='入力（医二）'!F97 -> 353100 | G97: ='入力（医二）'!G97 -> 374800 | I97: =行政!H97 -> 0 | N97: 91 | Q97: 295300 | R97: 333200 | S97: 354100 | X97: =D97-P97 -> 0 | Y97: =E97-Q97 -> 18700 | Z97: =F97-R97 -> 19900 | AA97: =G97-S97 -> 20700 | AB97: =H97-T97 -> 0 | AC97: =I97-U97 -> 0 | AD97: =J97-V97 -> 0 | AE97: =K97-W97 -> 0
B98: 92 | E98: ='入力（医二）'!E98 -> 314200 | F98: ='入力（医二）'!F98 -> 353400 | G98: ='入力（医二）'!G98 -> 375100 | I98: =行政!H98 -> 0 | N98: 92 | Q98: 295500 | R98: 333500 | S98: 354400 | X98: =D98-P98 -> 0 | Y98: =E98-Q98 -> 18700 | Z98: =F98-R98 -> 19900 | AA98: =G98-S98 -> 20700 | AB98: =H98-T98 -> 0 | AC98: =I98-U98 -> 0 | AD98: =J98-V98 -> 0 | AE98: =K98-W98 -> 0
B99: 93 | E99: ='入力（医二）'!E99 -> 314600 | F99: ='入力（医二）'!F99 -> 353600 | G99: ='入力（医二）'!G99 -> 375400 | I99: =行政!H99 -> 0 | N99: 93 | Q99: 295900 | R99: 333700 | S99: 354700 | X99: =D99-P99 -> 0 | Y99: =E99-Q99 -> 18700 | Z99: =F99-R99 -> 19900 | AA99: =G99-S99 -> 20700 | AB99: =H99-T99 -> 0 | AC99: =I99-U99 -> 0 | AD99: =J99-V99 -> 0 | AE99: =K99-W99 -> 0
B100: 94 | E100: ='入力（医二）'!E100 -> 314800 | F100: ='入力（医二）'!F100 -> 353900 | G100: ='入力（医二）'!G100 -> 375800 | N100: 94 | Q100: 296100 | R100: 334000 | S100: 355100 | X100: =D100-P100 -> 0 | Y100: =E100-Q100 -> 18700 | Z100: =F100-R100 -> 19900 | AA100: =G100-S100 -> 20700 | AB100: =H100-T100 -> 0 | AC100: =I100-U100 -> 0 | AD100: =J100-V100 -> 0 | AE100: =K100-W100 -> 0
B101: 95 | E101: ='入力（医二）'!E101 -> 315000 | F101: ='入力（医二）'!F101 -> 354200 | G101: ='入力（医二）'!G101 -> 376200 | N101: 95 | Q101: 296300 | R101: 334300 | S101: 355500 | X101: =D101-P101 -> 0 | Y101: =E101-Q101 -> 18700 | Z101: =F101-R101 -> 19900 | AA101: =G101-S101 -> 20700 | AB101: =H101-T101 -> 0 | AC101: =I101-U101 -> 0 | AD101: =J101-V101 -> 0 | AE101: =K101-W101 -> 0
B102: 96 | E102: ='入力（医二）'!E102 -> 315300 | F102: ='入力（医二）'!F102 -> 354400 | G102: ='入力（医二）'!G102 -> 376600 | N102: 96 | Q102: 296600 | R102: 334600 | S102: 355900 | X102: =D102-P102 -> 0 | Y102: =E102-Q102 -> 18700 | Z102: =F102-R102 -> 19800 | AA102: =G102-S102 -> 20700 | AB102: =H102-T102 -> 0 | AC102: =I102-U102 -> 0 | AD102: =J102-V102 -> 0 | AE102: =K102-W102 -> 0
B103: 97 | E103: ='入力（医二）'!E103 -> 315600 | F103: ='入力（医二）'!F103 -> 354600 | G103: ='入力（医二）'!G103 -> 377100 | N103: 97 | Q103: 296900 | R103: 334800 | S103: 356400 | X103: =D103-P103 -> 0 | Y103: =E103-Q103 -> 18700 | Z103: =F103-R103 -> 19800 | AA103: =G103-S103 -> 20700 | AB103: =H103-T103 -> 0 | AC103: =I103-U103 -> 0 | AD103: =J103-V103 -> 0 | AE103: =K103-W103 -> 0
B104: 98 | E104: ='入力（医二）'!E104 -> 315800 | F104: ='入力（医二）'!F104 -> 354900 | G104: ='入力（医二）'!G104 -> 377500 | N104: 98 | Q104: 297100 | R104: 335100 | S104: 356800 | X104: =D104-P104 -> 0 | Y104: =E104-Q104 -> 18700 | Z104: =F104-R104 -> 19800 | AA104: =G104-S104 -> 20700 | AB104: =H104-T104 -> 0 | AC104: =I104-U104 -> 0 | AD104: =J104-V104 -> 0 | AE104: =K104-W104 -> 0
B105: 99 | E105: ='入力（医二）'!E105 -> 316000 | F105: ='入力（医二）'!F105 -> 355200 | G105: ='入力（医二）'!G105 -> 377900 | N105: 99 | Q105: 297300 | R105: 335400 | S105: 357200 | X105: =D105-P105 -> 0 | Y105: =E105-Q105 -> 18700 | Z105: =F105-R105 -> 19800 | AA105: =G105-S105 -> 20700 | AB105: =H105-T105 -> 0 | AC105: =I105-U105 -> 0 | AD105: =J105-V105 -> 0 | AE105: =K105-W105 -> 0
B106: 100 | E106: ='入力（医二）'!E106 -> 316300 | F106: ='入力（医二）'!F106 -> 355400 | G106: ='入力（医二）'!G106 -> 378300 | N106: 100 | Q106: 297600 | R106: 335600 | S106: 357600 | X106: =D106-P106 -> 0 | Y106: =E106-Q106 -> 18700 | Z106: =F106-R106 -> 19800 | AA106: =G106-S106 -> 20700 | AB106: =H106-T106 -> 0 | AC106: =I106-U106 -> 0 | AD106: =J106-V106 -> 0 | AE106: =K106-W106 -> 0
B107: 101 | E107: ='入力（医二）'!E107 -> 316600 | F107: ='入力（医二）'!F107 -> 355600 | G107: ='入力（医二）'!G107 -> 378800 | N107: 101 | Q107: 297900 | R107: 335800 | S107: 358100 | X107: =D107-P107 -> 0 | Y107: =E107-Q107 -> 18700 | Z107: =F107-R107 -> 19800 | AA107: =G107-S107 -> 20700 | AB107: =H107-T107 -> 0 | AC107: =I107-U107 -> 0 | AD107: =J107-V107 -> 0 | AE107: =K107-W107 -> 0
B108: 102 | E108: ='入力（医二）'!E108 -> 316800 | F108: ='入力（医二）'!F108 -> 355800 | G108: ='入力（医二）'!G108 -> 0 | N108: 102 | Q108: 298100 | R108: 336000 | X108: =D108-P108 -> 0 | Y108: =E108-Q108 -> 18700 | Z108: =F108-R108 -> 19800 | AA108: =G108-S108 -> 0 | AB108: =H108-T108 -> 0 | AC108: =I108-U108 -> 0 | AD108: =J108-V108 -> 0 | AE108: =K108-W108 -> 0
B109: 103 | E109: ='入力（医二）'!E109 -> 317000 | F109: ='入力（医二）'!F109 -> 356200 | G109: ='入力（医二）'!G109 -> 0 | N109: 103 | Q109: 298300 | R109: 336400 | X109: =D109-P109 -> 0 | Y109: =E109-Q109 -> 18700 | Z109: =F109-R109 -> 19800 | AA109: =G109-S109 -> 0 | AB109: =H109-T109 -> 0 | AC109: =I109-U109 -> 0 | AD109: =J109-V109 -> 0 | AE109: =K109-W109 -> 0
B110: 104 | E110: ='入力（医二）'!E110 -> 317300 | F110: ='入力（医二）'!F110 -> 356400 | G110: ='入力（医二）'!G110 -> 0 | N110: 104 | Q110: 298600 | R110: 336600 | X110: =D110-P110 -> 0 | Y110: =E110-Q110 -> 18700 | Z110: =F110-R110 -> 19800 | AA110: =G110-S110 -> 0 | AB110: =H110-T110 -> 0 | AC110: =I110-U110 -> 0 | AD110: =J110-V110 -> 0 | AE110: =K110-W110 -> 0
B111: 105 | E111: ='入力（医二）'!E111 -> 317600 | F111: ='入力（医二）'!F111 -> 356600 | G111: ='入力（医二）'!G111 -> 0 | N111: 105 | Q111: 298900 | R111: 336800 | X111: =D111-P111 -> 0 | Y111: =E111-Q111 -> 18700 | Z111: =F111-R111 -> 19800 | AA111: =G111-S111 -> 0 | AB111: =H111-T111 -> 0 | AC111: =I111-U111 -> 0 | AD111: =J111-V111 -> 0 | AE111: =K111-W111 -> 0
B112: 106 | F112: ='入力（医二）'!F112 -> 356900 | N112: 106 | R112: 337200 | X112: =D112-P112 -> 0 | Y112: =E112-Q112 -> 0 | Z112: =F112-R112 -> 19700 | AA112: =G112-S112 -> 0 | AB112: =H112-T112 -> 0 | AC112: =I112-U112 -> 0 | AD112: =J112-V112 -> 0 | AE112: =K112-W112 -> 0
B113: 107 | F113: ='入力（医二）'!F113 -> 357300 | N113: 107 | R113: 337600 | X113: =D113-P113 -> 0 | Y113: =E113-Q113 -> 0 | Z113: =F113-R113 -> 19700 | AA113: =G113-S113 -> 0 | AB113: =H113-T113 -> 0 | AC113: =I113-U113 -> 0 | AD113: =J113-V113 -> 0 | AE113: =K113-W113 -> 0
B114: 108 | F114: ='入力（医二）'!F114 -> 357700 | N114: 108 | R114: 338000 | X114: =D114-P114 -> 0 | Y114: =E114-Q114 -> 0 | Z114: =F114-R114 -> 19700 | AA114: =G114-S114 -> 0 | AB114: =H114-T114 -> 0 | AC114: =I114-U114 -> 0 | AD114: =J114-V114 -> 0 | AE114: =K114-W114 -> 0
B115: 109 | F115: ='入力（医二）'!F115 -> 357900 | N115: 109 | R115: 338200 | X115: =D115-P115 -> 0 | Y115: =E115-Q115 -> 0 | Z115: =F115-R115 -> 19700 | AA115: =G115-S115 -> 0 | AB115: =H115-T115 -> 0 | AC115: =I115-U115 -> 0 | AD115: =J115-V115 -> 0 | AE115: =K115-W115 -> 0
A116: 定年前再任用短時間勤務職員 | D116: 基 準 給料月額 | E116: 基 準 給料月額 | F116: 基 準 給料月額 | G116: 基 準 給料月額 | H116: 基 準 給料月額 | I116: 基 準 給料月額 | J116: 基 準 給料月額 | K116: 基 準 給料月額 | M116: 定年前再任用短時間勤務職員 | P116: 基 準 給料月額 | Q116: 基 準 給料月額 | R116: 基 準 給料月額 | S116: 基 準 給料月額 | T116: 基 準 給料月額 | U116: 基 準 給料月額 | V116: 基 準 給料月額 | W116: 基 準 給料月額 | X116: =#REF!-P116 -> #REF! | Y116: =#REF!-Q116 -> #REF! | Z116: =#REF!-R116 -> #REF! | AA116: =#REF!-S116 -> #REF! | AB116: =#REF!-T116 -> #REF! | AC116: =#REF!-U116 -> #REF! | AD116: =#REF!-V116 -> #REF! | AE116: =#REF!-W116 -> #REF!
D117: 円 | E117: 円 | F117: 円 | G117: 円 | H117: 円 | I117: 円 | J117: 円 | K117: 円
D118: ='入力（医二）'!D118 -> 219900 | E118: ='入力（医二）'!E118 -> 247700 | F118: ='入力（医二）'!F118 -> 279200 | G118: ='入力（医二）'!G118 -> 294400 | H118: ='入力（医二）'!H118 -> 323100 | I118: =行政!H134 -> 331600 | J118: ='入力（医二）'!I118 -> 368700 | K118: ='入力（医二）'!J118 -> 414700 | P118: 円 | Q118: 円 | R118: 円 | S118: 円 | T118: 円 | U118: 円 | V118: 円 | W118: 円 | X118: =#REF!-P118 -> #REF! | Y118: =#REF!-Q118 -> #REF! | Z118: =#REF!-R118 -> #REF! | AA118: =#REF!-S118 -> #REF! | AB118: =#REF!-T118 -> #REF! | AC118: =#REF!-U118 -> #REF! | AD118: =#REF!-V118 -> #REF! | AE118: =#REF!-W118 -> #REF!
P119: 193000 | Q119: 219600 | R119: 248100 | S119: 261700 | T119: 287300 | U119: 294900 | V119: 328400 | W119: 371000 | X119: =#REF!-P119 -> #REF! | Y119: =#REF!-Q119 -> #REF! | Z119: =#REF!-R119 -> #REF! | AA119: =#REF!-S119 -> #REF! | AB119: =#REF!-T119 -> #REF! | AC119: =#REF!-U119 -> #REF! | AD119: =#REF!-V119 -> #REF! | AE119: =#REF!-W119 -> #REF!
A120: 備考 | B120: この表は、保健福祉事務所等に勤務する獣医師、薬剤師、栄養士、診療放射線技師、臨床検査技師等で現に当該本来の業務に従事する職員で人事委員会規則で定めるものに適用する。
M121: 備考 | N121: この表は、保健福祉事務所等に勤務する獣医師、薬剤師、栄養士、診療放射線技師、臨床検査技師等で現に当該本来の業務に従事する職員で人事委員会規則で定めるものに適用する。

Sheet 医三
A3: ハ 医療職給料表（三） | L3: ハ 医療職給料表（三）
A4: 職員の区分 | C4: 職務 の級 | D4: 1 | E4: 2 | F4: 3 | G4: 4 | H4: 5 | I4: 特 ５ 級 | J4: 6 | K4: 7 | L4: 職員の区分 | N4: 職務 の級 | O4: 1 | P4: 2 | Q4: 3 | R4: 4 | S4: 5 | T4: 特 ５ 級 | U4: 6 | V4: 7 | W4: 1 | X4: 2 | Y4: 3 | Z4: 4 | AA4: 5 | AB4: 特 ５ 級 | AC4: 6 | AD4: 7
B5: 号給 | D5: 給料月額 | E5: 給料月額 | F5: 給料月額 | G5: 給料月額 | H5: 給料月額 | I5: 給料月額 | J5: 給料月額 | K5: 給料月額 | M5: 号給 | O5: 給料月額 | P5: 給料月額 | Q5: 給料月額 | R5: 給料月額 | S5: 給料月額 | T5: 給料月額 | U5: 給料月額 | V5: 給料月額
A6: 定年前再任用短時間勤務職員以外の職員 | D6: 円 | E6: 円 | F6: 円 | G6: 円 | H6: 円 | I6: 円 | J6: 円 | K6: 円 | L6: 定年前再任用短時間勤務職員以外の職員 | O6: 円 | P6: 円 | Q6: 円 | R6: 円 | S6: 円 | T6: 円 | U6: 円 | V6: 円
B7: 1 | D7: ='入力（医三）'!D7 -> 232500 | E7: ='入力（医三）'!E7 -> 265700 | F7: ='入力（医三）'!F7 -> 304700 | G7: ='入力（医三）'!G7 -> 318200 | H7: ='入力（医三）'!H7 -> 342300 | I7: =行政!H7 -> 344400 | J7: ='入力（医三）'!I7 -> 386200 | K7: ='入力（医三）'!J7 -> 442400 | M7: 1 | O7: 207700 | P7: 240600 | Q7: 281800 | R7: 295200 | S7: 319300 | T7: 321300 | U7: 362000 | V7: 416300 | W7: =D7-O7 -> 24800 | X7: =E7-P7 -> 25100 | Y7: =F7-Q7 -> 22900 | Z7: =G7-R7 -> 23000 | AA7: =H7-S7 -> 23000 | AB7: =I7-T7 -> 23100 | AC7: =J7-U7 -> 24200 | AD7: =K7-V7 -> 26100
B8: 2 | D8: ='入力（医三）'!D8 -> 234400 | E8: ='入力（医三）'!E8 -> 267800 | F8: ='入力（医三）'!F8 -> 305200 | G8: ='入力（医三）'!G8 -> 318700 | H8: ='入力（医三）'!H8 -> 343300 | I8: =行政!H8 -> 346200 | J8: ='入力（医三）'!I8 -> 388000 | K8: ='入力（医三）'!J8 -> 444600 | M8: 2 | O8: 209600 | P8: 242800 | Q8: 282300 | R8: 295800 | S8: 320300 | T8: 323100 | U8: 363700 | V8: 418500 | W8: =D8-O8 -> 24800 | X8: =E8-P8 -> 25000 | Y8: =F8-Q8 -> 22900 | Z8: =G8-R8 -> 22900 | AA8: =H8-S8 -> 23000 | AB8: =I8-T8 -> 23100 | AC8: =J8-U8 -> 24300 | AD8: =K8-V8 -> 26100
B9: 3 | D9: ='入力（医三）'!D9 -> 236200 | E9: ='入力（医三）'!E9 -> 270000 | F9: ='入力（医三）'!F9 -> 305700 | G9: ='入力（医三）'!G9 -> 319200 | H9: ='入力（医三）'!H9 -> 344300 | I9: =行政!H9 -> 348000 | J9: ='入力（医三）'!I9 -> 389700 | K9: ='入力（医三）'!J9 -> 446800 | M9: 3 | O9: 211400 | P9: 245000 | Q9: 282800 | R9: 296400 | S9: 321300 | T9: 324900 | U9: 365400 | V9: 420700 | W9: =D9-O9 -> 24800 | X9: =E9-P9 -> 25000 | Y9: =F9-Q9 -> 22900 | Z9: =G9-R9 -> 22800 | AA9: =H9-S9 -> 23000 | AB9: =I9-T9 -> 23100 | AC9: =J9-U9 -> 24300 | AD9: =K9-V9 -> 26100
B10: 4 | D10: ='入力（医三）'!D10 -> 237900 | E10: ='入力（医三）'!E10 -> 272200 | F10: ='入力（医三）'!F10 -> 306200 | G10: ='入力（医三）'!G10 -> 319700 | H10: ='入力（医三）'!H10 -> 345300 | I10: =行政!H10 -> 349800 | J10: ='入力（医三）'!I10 -> 391500 | K10: ='入力（医三）'!J10 -> 449000 | M10: 4 | O10: 213100 | P10: 247200 | Q10: 283300 | R10: 296900 | S10: 322300 | T10: 326600 | U10: 367100 | V10: 422800 | W10: =D10-O10 -> 24800 | X10: =E10-P10 -> 25000 | Y10: =F10-Q10 -> 22900 | Z10: =G10-R10 -> 22800 | AA10: =H10-S10 -> 23000 | AB10: =I10-T10 -> 23200 | AC10: =J10-U10 -> 24400 | AD10: =K10-V10 -> 26200
B11: 5 | D11: ='入力（医三）'!D11 -> 239600 | E11: ='入力（医三）'!E11 -> 274400 | F11: ='入力（医三）'!F11 -> 306600 | G11: ='入力（医三）'!G11 -> 320200 | H11: ='入力（医三）'!H11 -> 346400 | I11: =行政!H11 -> 351500 | J11: ='入力（医三）'!I11 -> 393400 | K11: ='入力（医三）'!J11 -> 451000 | M11: 5 | O11: 214800 | P11: 249400 | Q11: 283800 | R11: 297400 | S11: 323300 | T11: 328300 | U11: 368900 | V11: 424700 | W11: =D11-O11 -> 24800 | X11: =E11-P11 -> 25000 | Y11: =F11-Q11 -> 22800 | Z11: =G11-R11 -> 22800 | AA11: =H11-S11 -> 23100 | AB11: =I11-T11 -> 23200 | AC11: =J11-U11 -> 24500 | AD11: =K11-V11 -> 26300
B12: 6 | D12: ='入力（医三）'!D12 -> 241500 | E12: ='入力（医三）'!E12 -> 275400 | F12: ='入力（医三）'!F12 -> 307100 | G12: ='入力（医三）'!G12 -> 320700 | H12: ='入力（医三）'!H12 -> 347600 | I12: =行政!H12 -> 353300 | J12: ='入力（医三）'!I12 -> 395400 | K12: ='入力（医三）'!J12 -> 453000 | M12: 6 | O12: 216700 | P12: 250400 | Q12: 284300 | R12: 298000 | S12: 324500 | T12: 330000 | U12: 370900 | V12: 426600 | W12: =D12-O12 -> 24800 | X12: =E12-P12 -> 25000 | Y12: =F12-Q12 -> 22800 | Z12: =G12-R12 -> 22700 | AA12: =H12-S12 -> 23100 | AB12: =I12-T12 -> 23300 | AC12: =J12-U12 -> 24500 | AD12: =K12-V12 -> 26400
B13: 7 | D13: ='入力（医三）'!D13 -> 243400 | E13: ='入力（医三）'!E13 -> 276200 | F13: ='入力（医三）'!F13 -> 307600 | G13: ='入力（医三）'!G13 -> 321300 | H13: ='入力（医三）'!H13 -> 348800 | I13: =行政!H13 -> 355100 | J13: ='入力（医三）'!I13 -> 397500 | K13: ='入力（医三）'!J13 -> 454800 | M13: 7 | O13: 218500 | P13: 251300 | Q13: 284800 | R13: 298600 | S13: 325700 | T13: 331700 | U13: 372900 | V13: 428400 | W13: =D13-O13 -> 24900 | X13: =E13-P13 -> 24900 | Y13: =F13-Q13 -> 22800 | Z13: =G13-R13 -> 22700 | AA13: =H13-S13 -> 23100 | AB13: =I13-T13 -> 23400 | AC13: =J13-U13 -> 24600 | AD13: =K13-V13 -> 26400
B14: 8 | D14: ='入力（医三）'!D14 -> 245100 | E14: ='入力（医三）'!E14 -> 277100 | F14: ='入力（医三）'!F14 -> 308000 | G14: ='入力（医三）'!G14 -> 321700 | H14: ='入力（医三）'!H14 -> 350000 | I14: =行政!H14 -> 356700 | J14: ='入力（医三）'!I14 -> 399600 | K14: ='入力（医三）'!J14 -> 456700 | M14: 8 | O14: 220200 | P14: 252200 | Q14: 285300 | R14: 299100 | S14: 326900 | T14: 333400 | U14: 374900 | V14: 430300 | W14: =D14-O14 -> 24900 | X14: =E14-P14 -> 24900 | Y14: =F14-Q14 -> 22700 | Z14: =G14-R14 -> 22600 | AA14: =H14-S14 -> 23100 | AB14: =I14-T14 -> 23300 | AC14: =J14-U14 -> 24700 | AD14: =K14-V14 -> 26400
B15: 9 | D15: ='入力（医三）'!D15 -> 246800 | E15: ='入力（医三）'!E15 -> 277900 | F15: ='入力（医三）'!F15 -> 308400 | G15: ='入力（医三）'!G15 -> 322200 | H15: ='入力（医三）'!H15 -> 351000 | I15: =行政!H15 -> 358300 | J15: ='入力（医三）'!I15 -> 401300 | K15: ='入力（医三）'!J15 -> 458400 | M15: 9 | O15: 221900 | P15: 253100 | Q15: 285800 | R15: 299600 | S15: 328000 | T15: 335000 | U15: 376600 | V15: 432000 | W15: =D15-O15 -> 24900 | X15: =E15-P15 -> 24800 | Y15: =F15-Q15 -> 22600 | Z15: =G15-R15 -> 22600 | AA15: =H15-S15 -> 23000 | AB15: =I15-T15 -> 23300 | AC15: =J15-U15 -> 24700 | AD15: =K15-V15 -> 26400
B16: 10 | D16: ='入力（医三）'!D16 -> 248700 | E16: ='入力（医三）'!E16 -> 279000 | F16: ='入力（医三）'!F16 -> 308900 | G16: ='入力（医三）'!G16 -> 322700 | H16: ='入力（医三）'!H16 -> 352200 | I16: =行政!H16 -> 360000 | J16: ='入力（医三）'!I16 -> 403400 | K16: ='入力（医三）'!J16 -> 460000 | M16: 10 | O16: 223900 | P16: 254300 | Q16: 286300 | R16: 300200 | S16: 329200 | T16: 336700 | U16: 378700 | V16: 433600 | W16: =D16-O16 -> 24800 | X16: =E16-P16 -> 24700 | Y16: =F16-Q16 -> 22600 | Z16: =G16-R16 -> 22500 | AA16: =H16-S16 -> 23000 | AB16: =I16-T16 -> 23300 | AC16: =J16-U16 -> 24700 | AD16: =K16-V16 -> 26400
B17: 11 | D17: ='入力（医三）'!D17 -> 250600 | E17: ='入力（医三）'!E17 -> 280100 | F17: ='入力（医三）'!F17 -> 309400 | G17: ='入力（医三）'!G17 -> 323300 | H17: ='入力（医三）'!H17 -> 353400 | I17: =行政!H17 -> 361700 | J17: ='入力（医三）'!I17 -> 405500 | K17: ='入力（医三）'!J17 -> 461800 | M17: 11 | O17: 225800 | P17: 255400 | Q17: 286800 | R17: 300800 | S17: 330300 | T17: 338400 | U17: 380800 | V17: 435300 | W17: =D17-O17 -> 24800 | X17: =E17-P17 -> 24700 | Y17: =F17-Q17 -> 22600 | Z17: =G17-R17 -> 22500 | AA17: =H17-S17 -> 23100 | AB17: =I17-T17 -> 23300 | AC17: =J17-U17 -> 24700 | AD17: =K17-V17 -> 26500
B18: 12 | D18: ='入力（医三）'!D18 -> 252500 | E18: ='入力（医三）'!E18 -> 281000 | F18: ='入力（医三）'!F18 -> 309900 | G18: ='入力（医三）'!G18 -> 323800 | H18: ='入力（医三）'!H18 -> 354500 | I18: =行政!H18 -> 363400 | J18: ='入力（医三）'!I18 -> 407500 | K18: ='入力（医三）'!J18 -> 463400 | M18: 12 | O18: 227700 | P18: 256300 | Q18: 287300 | R18: 301300 | S18: 331400 | T18: 340000 | U18: 382800 | V18: 436900 | W18: =D18-O18 -> 24800 | X18: =E18-P18 -> 24700 | Y18: =F18-Q18 -> 22600 | Z18: =G18-R18 -> 22500 | AA18: =H18-S18 -> 23100 | AB18: =I18-T18 -> 23400 | AC18: =J18-U18 -> 24700 | AD18: =K18-V18 -> 26500
... B42: 36 | D42: ='入力（医三）'!D42 -> 282300 | E42: ='入力（医三）'!E42 -> 300400 | F42: ='入力（医三）'!F42 -> 323700 | G42: ='入力（医三）'!G42 -> 345000 | H42: ='入力（医三）'!H42 -> 384000 | I42: =行政!H42 -> 397500 | J42: ='入力（医三）'!I42 -> 446100 | K42: ='入力（医三）'!J42 -> 489600 | M42: 36 | O42: 259000 | P42: 277800 | Q42: 302100 | R42: 322800 | S42: 361100 | T42: 374500 | U42: 421000 | V42: 463000 | W42: =D42-O42 -> 23300 | X42: =E42-P42 -> 22600 | Y42: =F42-Q42 -> 21600 | Z42: =G42-R42 -> 22200 | AA42: =H42-S42 -> 22900 | AB42: =I42-T42 -> 23000 | AC42: =J42-U42 -> 25100 | AD42: =K42-V42 -> 26600
B43: 37 | D43: ='入力（医三）'!D43 -> 282800 | E43: ='入力（医三）'!E43 -> 300800 | F43: ='入力（医三）'!F43 -> 324500 | G43: ='入力（医三）'!G43 -> 346100 | H43: ='入力（医三）'!H43 -> 385400 | I43: =ROUNDDOWN((I47+I39)/2,-2) -> 399600 | J43: ='入力（医三）'!I43 -> 447400 | K43: ='入力（医三）'!J43 -> 490400 | M43: 37 | O43: 259700 | P43: 278300 | Q43: 302900 | R43: 323900 | S43: 362500 | T43: 376600 | U43: 422300 | V43: 463800 | W43: =D43-O43 -> 23100 | X43: =E43-P43 -> 22500 | Y43: =F43-Q43 -> 21600 | Z43: =G43-R43 -> 22200 | AA43: =H43-S43 -> 22900 | AB43: =I43-T43 -> 23000 | AC43: =J43-U43 -> 25100 | AD43: =K43-V43 -> 26600
B44: 38 | D44: ='入力（医三）'!D44 -> 283500 | E44: ='入力（医三）'!E44 -> 301400 | F44: ='入力（医三）'!F44 -> 325300 | G44: ='入力（医三）'!G44 -> 347200 | H44: ='入力（医三）'!H44 -> 386400 | I44: =I43+1200 -> 400800 | J44: ='入力（医三）'!I44 -> 448500 | K44: ='入力（医三）'!J44 -> 491200 | M44: 38 | O44: 260600 | P44: 278900 | Q44: 303700 | R44: 325100 | S44: 363500 | T44: 377800 | U44: 423400 | V44: 464600 | W44: =D44-O44 -> 22900 | X44: =E44-P44 -> 22500 | Y44: =F44-Q44 -> 21600 | Z44: =G44-R44 -> 22100 | AA44: =H44-S44 -> 22900 | AB44: =I44-T44 -> 23000 | AC44: =J44-U44 -> 25100 | AD44: =K44-V44 -> 26600
B45: 39 | D45: ='入力（医三）'!D45 -> 284200 | E45: ='入力（医三）'!E45 -> 301900 | F45: ='入力（医三）'!F45 -> 326100 | G45: ='入力（医三）'!G45 -> 348300 | H45: ='入力（医三）'!H45 -> 387800 | I45: =I44+1300 -> 402100 | J45: ='入力（医三）'!I45 -> 449700 | K45: ='入力（医三）'!J45 -> 491900 | M45: 39 | O45: 261500 | P45: 279400 | Q45: 304500 | R45: 326200 | S45: 364900 | T45: 379100 | U45: 424600 | V45: 465300 | W45: =D45-O45 -> 22700 | X45: =E45-P45 -> 22500 | Y45: =F45-Q45 -> 21600 | Z45: =G45-R45 -> 22100 | AA45: =H45-S45 -> 22900 | AB45: =I45-T45 -> 23000 | AC45: =J45-U45 -> 25100 | AD45: =K45-V45 -> 26600
B46: 40 | D46: ='入力（医三）'!D46 -> 284900 | E46: ='入力（医三）'!E46 -> 302300 | F46: ='入力（医三）'!F46 -> 326900 | G46: ='入力（医三）'!G46 -> 349400 | H46: ='入力（医三）'!H46 -> 389100 | I46: =I45+1300 -> 403400 | J46: ='入力（医三）'!I46 -> 450900 | K46: ='入力（医三）'!J46 -> 492600 | M46: 40 | O46: 262300 | P46: 279900 | Q46: 305300 | R46: 327300 | S46: 366200 | T46: 380400 | U46: 425700 | V46: 466000 | W46: =D46-O46 -> 22600 | X46: =E46-P46 -> 22400 | Y46: =F46-Q46 -> 21600 | Z46: =G46-R46 -> 22100 | AA46: =H46-S46 -> 22900 | AB46: =I46-T46 -> 23000 | AC46: =J46-U46 -> 25200 | AD46: =K46-V46 -> 26600
B47: 41 | D47: ='入力（医三）'!D47 -> 285600 | E47: ='入力（医三）'!E47 -> 302700 | F47: ='入力（医三）'!F47 -> 327600 | G47: ='入力（医三）'!G47 -> 350200 | H47: ='入力（医三）'!H47 -> 390400 | I47: =行政!H51 -> 404700 | J47: ='入力（医三）'!I47 -> 452100 | K47: ='入力（医三）'!J47 -> 493400 | M47: 41 | O47: 263100 | P47: 280300 | Q47: 306000 | R47: 328100 | S47: 367500 | T47: 381700 | U47: 426900 | V47: 466800 | W47: =D47-O47 -> 22500 | X47: =E47-P47 -> 22400 | Y47: =F47-Q47 -> 21600 | Z47: =G47-R47 -> 22100 | AA47: =H47-S47 -> 22900 | AB47: =I47-T47 -> 23000 | AC47: =J47-U47 -> 25200 | AD47: =K47-V47 -> 26600
B48: 42 | D48: ='入力（医三）'!D48 -> 286200 | E48: ='入力（医三）'!E48 -> 303200 | F48: ='入力（医三）'!F48 -> 328500 | G48: ='入力（医三）'!G48 -> 351300 | H48: ='入力（医三）'!H48 -> 391800 | I48: =行政!H52 -> 405400 | J48: ='入力（医三）'!I48 -> 453100 | K48: ='入力（医三）'!J48 -> 0 | M48: 42 | O48: 264000 | P48: 280800 | Q48: 307000 | R48: 329200 | S48: 368900 | T48: 382400 | U48: 427900 | W48: =D48-O48 -> 22200 | X48: =E48-P48 -> 22400 | Y48: =F48-Q48 -> 21500 | Z48: =G48-R48 -> 22100 | AA48: =H48-S48 -> 22900 | AB48: =I48-T48 -> 23000 | AC48: =J48-U48 -> 25200 | AD48: =K48-V48 -> 0
B49: 43 | D49: ='入力（医三）'!D49 -> 286900 | E49: ='入力（医三）'!E49 -> 303600 | F49: ='入力（医三）'!F49 -> 329500 | G49: ='入力（医三）'!G49 -> 352400 | H49: ='入力（医三）'!H49 -> 393100 | I49: =行政!H53 -> 406100 | J49: ='入力（医三）'!I49 -> 454200 | K49: ='入力（医三）'!J49 -> 0 | M49: 43 | O49: 264800 | P49: 281300 | Q49: 308000 | R49: 330300 | S49: 370200 | T49: 383100 | U49: 429000 | W49: =D49-O49 -> 22100 | X49: =E49-P49 -> 22300 | Y49: =F49-Q49 -> 21500 | Z49: =G49-R49 -> 22100 | AA49: =H49-S49 -> 22900 | AB49: =I49-T49 -> 23000 | AC49: =J49-U49 -> 25200 | AD49: =K49-V49 -> 0
B50: 44 | D50: ='入力（医三）'!D50 -> 287500 | E50: ='入力（医三）'!E50 -> 304100 | F50: ='入力（医三）'!F50 -> 330400 | G50: ='入力（医三）'!G50 -> 353400 | H50: ='入力（医三）'!H50 -> 394400 | I50: =行政!H54 -> 406800 | J50: ='入力（医三）'!I50 -> 455300 | K50: ='入力（医三）'!J50 -> 0 | M50: 44 | O50: 265600 | P50: 281800 | Q50: 308900 | R50: 331300 | S50: 371500 | T50: 383800 | U50: 430100 | W50: =D50-O50 -> 21900 | X50: =E50-P50 -> 22300 | Y50: =F50-Q50 -> 21500 | Z50: =G50-R50 -> 22100 | AA50: =H50-S50 -> 22900 | AB50: =I50-T50 -> 23000 | AC50: =J50-U50 -> 25200 | AD50: =K50-V50 -> 0
B51: 45 | D51: ='入力（医三）'!D51 -> 288300 | E51: ='入力（医三）'!E51 -> 304600 | F51: ='入力（医三）'!F51 -> 331300 | G51: ='入力（医三）'!G51 -> 354300 | H51: ='入力（医三）'!H51 -> 395900 | I51: =行政!H55 -> 407300 | J51: ='入力（医三）'!I51 -> 456300 | K51: ='入力（医三）'!J51 -> 0 | M51: 45 | O51: 266400 | P51: 282300 | Q51: 309800 | R51: 332300 | S51: 373000 | T51: 384300 | U51: 431100 | W51: =D51-O51 -> 21900 | X51: =E51-P51 -> 22300 | Y51: =F51-Q51 -> 21500 | Z51: =G51-R51 -> 22000 | AA51: =H51-S51 -> 22900 | AB51: =I51-T51 -> 23000 | AC51: =J51-U51 -> 25200 | AD51: =K51-V51 -> 0
B52: 46 | D52: ='入力（医三）'!D52 -> 289000 | E52: ='入力（医三）'!E52 -> 305000 | F52: ='入力（医三）'!F52 -> 332300 | G52: ='入力（医三）'!G52 -> 355200 | H52: ='入力（医三）'!H52 -> 397100 | I52: =行政!H56 -> 407900 | J52: ='入力（医三）'!I52 -> 456800 | K52: ='入力（医三）'!J52 -> 0 | M52: 46 | O52: 267100 | P52: 282800 | Q52: 310800 | R52: 333300 | S52: 374200 | T52: 384900 | U52: 431600 | W52: =D52-O52 -> 21900 | X52: =E52-P52 -> 22200 | Y52: =F52-Q52 -> 21500 | Z52: =G52-R52 -> 21900 | AA52: =H52-S52 -> 22900 | AB52: =I52-T52 -> 23000 | AC52: =J52-U52 -> 25200 | AD52: =K52-V52 -> 0
B53: 47 | D53: ='入力（医三）'!D53 -> 289700 | E53: ='入力（医三）'!E53 -> 305500 | F53: ='入力（医三）'!F53 -> 333300 | G53: ='入力（医三）'!G53 -> 356200 | H53: ='入力（医三）'!H53 -> 398200 | I53: =行政!H57 -> 408500 | J53: ='入力（医三）'!I53 -> 457300 | K53: ='入力（医三）'!J53 -> 0 | M53: 47 | O53: 267800 | P53: 283300 | Q53: 311800 | R53: 334300 | S53: 375300 | T53: 385500 | U53: 432200 | W53: =D53-O53 -> 21900 | X53: =E53-P53 -> 22200 | Y53: =F53-Q53 -> 21500 | Z53: =G53-R53 -> 21900 | AA53: =H53-S53 -> 22900 | AB53: =I53-T53 -> 23000 | AC53: =J53-U53 -> 25100 | AD53: =K53-V53 -> 0
B54: 48 | D54: ='入力（医三）'!D54 -> 290300 | E54: ='入力（医三）'!E54 -> 305900 | F54: ='入力（医三）'!F54 -> 334200 | G54: ='入力（医三）'!G54 -> 357200 | H54: ='入力（医三）'!H54 -> 399400 | I54: =行政!H58 -> 409200 | J54: ='入力（医三）'!I54 -> 457700 | K54: ='入力（医三）'!J54 -> 0 | M54: 48 | O54: 268400 | P54: 283800 | Q54: 312700 | R54: 335300 | S54: 376500 | T54: 386200 | U54: 432600 | W54: =D54-O54 -> 21900 | X54: =E54-P54 -> 22100 | Y54: =F54-Q54 -> 21500 | Z54: =G54-R54 -> 21900 | AA54: =H54-S54 -> 22900 | AB54: =I54-T54 -> 23000 | AC54: =J54-U54 -> 25100 | AD54: =K54-V54 -> 0
B55: 49 | D55: ='入力（医三）'!D55 -> 290800 | E55: ='入力（医三）'!E55 -> 306400 | F55: ='入力（医三）'!F55 -> 335100 | G55: ='入力（医三）'!G55 -> 358400 | H55: ='入力（医三）'!H55 -> 400500 | I55: =行政!H59 -> 409600 | J55: ='入力（医三）'!I55 -> 458300 | K55: ='入力（医三）'!J55 -> 0 | M55: 49 | O55: 269000 | P55: 284300 | Q55: 313600 | R55: 336500 | S55: 377600 | T55: 386600 | U55: 433200 | W55: =D55-O55 -> 21800 | X55: =E55-P55 -> 22100 | Y55: =F55-Q55 -> 21500 | Z55: =G55-R55 -> 21900 | AA55: =H55-S55 -> 22900 | AB55: =I55-T55 -> 23000 | AC55: =J55-U55 -> 25100 | AD55: =K55-V55 -> 0
B56: 50 | D56: ='入力（医三）'!D56 -> 291300 | E56: ='入力（医三）'!E56 -> 306800 | F56: ='入力（医三）'!F56 -> 336000 | G56: ='入力（医三）'!G56 -> 359700 | H56: ='入力（医三）'!H56 -> 401400 | I56: =行政!H60 -> 410200 | J56: ='入力（医三）'!I56 -> 458800 | K56: ='入力（医三）'!J56 -> 0 | M56: 50 | O56: 269500 | P56: 284800 | Q56: 314600 | R56: 337800 | S56: 378500 | T56: 387200 | U56: 433700 | W56: =D56-O56 -> 21800 | X56: =E56-P56 -> 22000 | Y56: =F56-Q56 -> 21400 | Z56: =G56-R56 -> 21900 | AA56: =H56-S56 -> 22900 | AB56: =I56-T56 -> 23000 | AC56: =J56-U56 -> 25100 | AD56: =K56-V56 -> 0
B57: 51 | D57: ='入力（医三）'!D57 -> 291700 | E57: ='入力（医三）'!E57 -> 307300 | F57: ='入力（医三）'!F57 -> 337000 | G57: ='入力（医三）'!G57 -> 360900 | H57: ='入力（医三）'!H57 -> 402400 | I57: =行政!H61 -> 410800 | J57: ='入力（医三）'!I57 -> 459200 | K57: ='入力（医三）'!J57 -> 0 | M57: 51 | O57: 270000 | P57: 285300 | Q57: 315600 | R57: 339000 | S57: 379500 | T57: 387800 | U57: 434100 | W57: =D57-O57 -> 21700 | X57: =E57-P57 -> 22000 | Y57: =F57-Q57 -> 21400 | Z57: =G57-R57 -> 21900 | AA57: =H57-S57 -> 22900 | AB57: =I57-T57 -> 23000 | AC57: =J57-U57 -> 25100 | AD57: =K57-V57 -> 0
B58: 52 | D58: ='入力（医三）'!D58 -> 292100 | E58: ='入力（医三）'!E58 -> 307800 | F58: ='入力（医三）'!F58 -> 338000 | G58: ='入力（医三）'!G58 -> 362100 | H58: ='入力（医三）'!H58 -> 403300 | I58: =行政!H62 -> 411300 | J58: ='入力（医三）'!I58 -> 459700 | K58: ='入力（医三）'!J58 -> 0 | M58: 52 | O58: 270400 | P58: 285800 | Q58: 316600 | R58: 340200 | S58: 380400 | T58: 388300 | U58: 434600 | W58: =D58-O58 -> 21700 | X58: =E58-P58 -> 22000 | Y58: =F58-Q58 -> 21400 | Z58: =G58-R58 -> 21900 | AA58: =H58-S58 -> 22900 | AB58: =I58-T58 -> 23000 | AC58: =J58-U58 -> 25100 | AD58: =K58-V58 -> 0
B59: 53 | D59: ='入力（医三）'!D59 -> 292400 | E59: ='入力（医三）'!E59 -> 308200 | F59: ='入力（医三）'!F59 -> 338800 | G59: ='入力（医三）'!G59 -> 363000 | H59: ='入力（医三）'!H59 -> 403900 | I59: =行政!H63 -> 411700 | J59: ='入力（医三）'!I59 -> 460200 | K59: ='入力（医三）'!J59 -> 0 | M59: 53 | O59: 270800 | P59: 286300 | Q59: 317400 | R59: 341100 | S59: 381000 | T59: 388700 | U59: 435100 | W59: =D59-O59 -> 21600 | X59: =E59-P59 -> 21900 | Y59: =F59-Q59 -> 21400 | Z59: =G59-R59 -> 21900 | AA59: =H59-S59 -> 22900 | AB59: =I59-T59 -> 23000 | AC59: =J59-U59 -> 25100 | AD59: =K59-V59 -> 0
... B63: 57 | D63: ='入力（医三）'!D63 -> 294100 | E63: ='入力（医三）'!E63 -> 310000 | F63: ='入力（医三）'!F63 -> 342500 | G63: ='入力（医三）'!G63 -> 367600 | H63: ='入力（医三）'!H63 -> 407000 | I63: =行政!H67 -> 413800 | J63: ='入力（医三）'!I63 -> 461600 | K63: ='入力（医三）'!J63 -> 0 | M63: 57 | O63: 272600 | P63: 288300 | Q63: 321200 | R63: 345700 | S63: 384100 | T63: 390800 | U63: 436500 | W63: =D63-O63 -> 21500 | X63: =E63-P63 -> 21700 | Y63: =F63-Q63 -> 21300 | Z63: =G63-R63 -> 21900 | AA63: =H63-S63 -> 22900 | AB63: =I63-T63 -> 23000 | AC63: =J63-U63 -> 25100 | AD63: =K63-V63 -> 0
B64: 58 | D64: ='入力（医三）'!D64 -> 294500 | E64: ='入力（医三）'!E64 -> 310700 | F64: ='入力（医三）'!F64 -> 343400 | G64: ='入力（医三）'!G64 -> 368500 | H64: ='入力（医三）'!H64 -> 407700 | I64: =行政!H68 -> 414300 | J64: ='入力（医三）'!I64 -> 0 | M64: 58 | O64: 273000 | P64: 289100 | Q64: 322200 | R64: 346600 | S64: 384800 | T64: 391300 | W64: =D64-O64 -> 21500 | X64: =E64-P64 -> 21600 | Y64: =F64-Q64 -> 21200 | Z64: =G64-R64 -> 21900 | AA64: =H64-S64 -> 22900 | AB64: =I64-T64 -> 23000 | AC64: =J64-U64 -> 0 | AD64: =K64-V64 -> 0
B65: 59 | D65: ='入力（医三）'!D65 -> 294800 | E65: ='入力（医三）'!E65 -> 311400 | F65: ='入力（医三）'!F65 -> 344400 | G65: ='入力（医三）'!G65 -> 369600 | H65: ='入力（医三）'!H65 -> 408400 | I65: =行政!H69 -> 414800 | J65: ='入力（医三）'!I65 -> 0 | M65: 59 | O65: 273400 | P65: 289900 | Q65: 323200 | R65: 347700 | S65: 385500 | T65: 391800 | W65: =D65-O65 -> 21400 | X65: =E65-P65 -> 21500 | Y65: =F65-Q65 -> 21200 | Z65: =G65-R65 -> 21900 | AA65: =H65-S65 -> 22900 | AB65: =I65-T65 -> 23000 | AC65: =J65-U65 -> 0 | AD65: =K65-V65 -> 0
B66: 60 | D66: ='入力（医三）'!D66 -> 295100 | E66: ='入力（医三）'!E66 -> 312100 | F66: ='入力（医三）'!F66 -> 345300 | G66: ='入力（医三）'!G66 -> 370800 | H66: ='入力（医三）'!H66 -> 409000 | I66: =行政!H70 -> 415400 | J66: ='入力（医三）'!I66 -> 0 | M66: 60 | O66: 273800 | P66: 290600 | Q66: 324100 | R66: 348900 | S66: 386100 | T66: 392400 | W66: =D66-O66 -> 21300 | X66: =E66-P66 -> 21500 | Y66: =F66-Q66 -> 21200 | Z66: =G66-R66 -> 21900 | AA66: =H66-S66 -> 22900 | AB66: =I66-T66 -> 23000 | AC66: =J66-U66 -> 0 | AD66: =K66-V66 -> 0
B67: 61 | D67: ='入力（医三）'!D67 -> 295500 | E67: ='入力（医三）'!E67 -> 312800 | F67: ='入力（医三）'!F67 -> 346200 | G67: ='入力（医三）'!G67 -> 371900 | H67: ='入力（医三）'!H67 -> 409600 | I67: =行政!H71 -> 415700 | J67: ='入力（医三）'!I67 -> 0 | M67: 61 | O67: 274200 | P67: 291300 | Q67: 325000 | R67: 350000 | S67: 386700 | T67: 392700 | W67: =D67-O67 -> 21300 | X67: =E67-P67 -> 21500 | Y67: =F67-Q67 -> 21200 | Z67: =G67-R67 -> 21900 | AA67: =H67-S67 -> 22900 | AB67: =I67-T67 -> 23000 | AC67: =J67-U67 -> 0 | AD67: =K67-V67 -> 0
B68: 62 | D68: ='入力（医三）'!D68 -> 295900 | E68: ='入力（医三）'!E68 -> 313700 | F68: ='入力（医三）'!F68 -> 347300 | G68: ='入力（医三）'!G68 -> 373100 | H68: ='入力（医三）'!H68 -> 410200 | I68: =行政!H72 -> 416100 | J68: ='入力（医三）'!I68 -> 0 | M68: 62 | O68: 274600 | P68: 292200 | Q68: 326200 | R68: 351200 | S68: 387300 | T68: 393100 | W68: =D68-O68 -> 21300 | X68: =E68-P68 -> 21500 | Y68: =F68-Q68 -> 21100 | Z68: =G68-R68 -> 21900 | AA68: =H68-S68 -> 22900 | AB68: =I68-T68 -> 23000 | AC68: =J68-U68 -> 0 | AD68: =K68-V68 -> 0
B69: 63 | D69: ='入力（医三）'!D69 -> 296300 | E69: ='入力（医三）'!E69 -> 314600 | F69: ='入力（医三）'!F69 -> 348500 | G69: ='入力（医三）'!G69 -> 374300 | H69: ='入力（医三）'!H69 -> 410900 | I69: =行政!H73 -> 416400 | J69: ='入力（医三）'!I69 -> 0 | M69: 63 | O69: 275000 | P69: 293100 | Q69: 327400 | R69: 352400 | S69: 388000 | T69: 393500 | W69: =D69-O69 -> 21300 | X69: =E69-P69 -> 21500 | Y69: =F69-Q69 -> 21100 | Z69: =G69-R69 -> 21900 | AA69: =H69-S69 -> 22900 | AB69: =I69-T69 -> 22900 | AC69: =J69-U69 -> 0 | AD69: =K69-V69 -> 0
B70: 64 | D70: ='入力（医三）'!D70 -> 296600 | E70: ='入力（医三）'!E70 -> 315300 | F70: ='入力（医三）'!F70 -> 349700 | G70: ='入力（医三）'!G70 -> 375300 | H70: ='入力（医三）'!H70 -> 411500 | I70: =行政!H74 -> 416800 | J70: ='入力（医三）'!I70 -> 0 | M70: 64 | O70: 275400 | P70: 293900 | Q70: 328600 | R70: 353400 | S70: 388600 | T70: 393900 | W70: =D70-O70 -> 21200 | X70: =E70-P70 -> 21400 | Y70: =F70-Q70 -> 21100 | Z70: =G70-R70 -> 21900 | AA70: =H70-S70 -> 22900 | AB70: =I70-T70 -> 22900 | AC70: =J70-U70 -> 0 | AD70: =K70-V70 -> 0
B71: 65 | D71: ='入力（医三）'!D71 -> 296900 | E71: ='入力（医三）'!E71 -> 316000 | F71: ='入力（医三）'!F71 -> 350400 | G71: ='入力（医三）'!G71 -> 376300 | H71: ='入力（医三）'!H71 -> 412200 | I71: =行政!H75 -> 417100 | J71: ='入力（医三）'!I71 -> 0 | M71: 65 | O71: 275800 | P71: 294700 | Q71: 329300 | R71: 354400 | S71: 389300 | T71: 394200 | W71: =D71-O71 -> 21100 | X71: =E71-P71 -> 21300 | Y71: =F71-Q71 -> 21100 | Z71: =G71-R71 -> 21900 | AA71: =H71-S71 -> 22900 | AB71: =I71-T71 -> 22900 | AC71: =J71-U71 -> 0 | AD71: =K71-V71 -> 0
B72: 66 | D72: ='入力（医三）'!D72 -> 297300 | E72: ='入力（医三）'!E72 -> 316900 | F72: ='入力（医三）'!F72 -> 351500 | G72: ='入力（医三）'!G72 -> 377300 | H72: ='入力（医三）'!H72 -> 412700 | I72: =行政!H76 -> 417400 | J72: ='入力（医三）'!I72 -> 0 | M72: 66 | O72: 276200 | P72: 295600 | Q72: 330400 | R72: 355400 | S72: 389800 | T72: 394500 | W72: =D72-O72 -> 21100 | X72: =E72-P72 -> 21300 | Y72: =F72-Q72 -> 21100 | Z72: =G72-R72 -> 21900 | AA72: =H72-S72 -> 22900 | AB72: =I72-T72 -> 22900 | AC72: =J72-U72 -> 0 | AD72: =K72-V72 -> 0
B73: 67 | D73: ='入力（医三）'!D73 -> 297700 | E73: ='入力（医三）'!E73 -> 317700 | F73: ='入力（医三）'!F73 -> 352600 | G73: ='入力（医三）'!G73 -> 378400 | H73: ='入力（医三）'!H73 -> 413300 | I73: =行政!H77 -> 417700 | J73: ='入力（医三）'!I73 -> 0 | M73: 67 | O73: 276600 | P73: 296400 | Q73: 331500 | R73: 356500 | S73: 390400 | T73: 394800 | W73: =D73-O73 -> 21100 | X73: =E73-P73 -> 21300 | Y73: =F73-Q73 -> 21100 | Z73: =G73-R73 -> 21900 | AA73: =H73-S73 -> 22900 | AB73: =I73-T73 -> 22900 | AC73: =J73-U73 -> 0 | AD73: =K73-V73 -> 0
B74: 68 | D74: ='入力（医三）'!D74 -> 298000 | E74: ='入力（医三）'!E74 -> 318500 | F74: ='入力（医三）'!F74 -> 353500 | G74: ='入力（医三）'!G74 -> 379500 | H74: ='入力（医三）'!H74 -> 413800 | I74: =行政!H78 -> 417900 | J74: ='入力（医三）'!I74 -> 0 | M74: 68 | O74: 277000 | P74: 297200 | Q74: 332400 | R74: 357600 | S74: 390900 | T74: 395000 | W74: =D74-O74 -> 21000 | X74: =E74-P74 -> 21300 | Y74: =F74-Q74 -> 21100 | Z74: =G74-R74 -> 21900 | AA74: =H74-S74 -> 22900 | AB74: =I74-T74 -> 22900 | AC74: =J74-U74 -> 0 | AD74: =K74-V74 -> 0
B75: 69 | D75: ='入力（医三）'!D75 -> 298400 | E75: ='入力（医三）'!E75 -> 319200 | F75: ='入力（医三）'!F75 -> 354600 | G75: ='入力（医三）'!G75 -> 380300 | H75: ='入力（医三）'!H75 -> 414200 | I75: =行政!H79 -> 418100 | J75: ='入力（医三）'!I75 -> 0 | M75: 69 | O75: 277400 | P75: 298000 | Q75: 333500 | R75: 358400 | S75: 391300 | T75: 395200 | W75: =D75-O75 -> 21000 | X75: =E75-P75 -> 21200 | Y75: =F75-Q75 -> 21100 | Z75: =G75-R75 -> 21900 | AA75: =H75-S75 -> 22900 | AB75: =I75-T75 -> 22900 | AC75: =J75-U75 -> 0 | AD75: =K75-V75 -> 0
B76: 70 | D76: ='入力（医三）'!D76 -> 298900 | E76: ='入力（医三）'!E76 -> 320100 | F76: ='入力（医三）'!F76 -> 355300 | G76: ='入力（医三）'!G76 -> 381400 | H76: ='入力（医三）'!H76 -> 414800 | I76: =行政!H80 -> 418400 | M76: 70 | O76: 277900 | P76: 298900 | Q76: 334200 | R76: 359500 | S76: 391900 | T76: 395500 | W76: =D76-O76 -> 21000 | X76: =E76-P76 -> 21200 | Y76: =F76-Q76 -> 21100 | Z76: =G76-R76 -> 21900 | AA76: =H76-S76 -> 22900 | AB76: =I76-T76 -> 22900 | AC76: =J76-U76 -> 0 | AD76: =K76-V76 -> 0
B77: 71 | D77: ='入力（医三）'!D77 -> 299300 | E77: ='入力（医三）'!E77 -> 321000 | F77: ='入力（医三）'!F77 -> 356400 | G77: ='入力（医三）'!G77 -> 382500 | H77: ='入力（医三）'!H77 -> 415200 | I77: =行政!H81 -> 418700 | M77: 71 | O77: 278400 | P77: 299800 | Q77: 335300 | R77: 360600 | S77: 392400 | T77: 395800 | W77: =D77-O77 -> 20900 | X77: =E77-P77 -> 21200 | Y77: =F77-Q77 -> 21100 | Z77: =G77-R77 -> 21900 | AA77: =H77-S77 -> 22800 | AB77: =I77-T77 -> 22900 | AC77: =J77-U77 -> 0 | AD77: =K77-V77 -> 0
B78: 72 | D78: ='入力（医三）'!D78 -> 299600 | E78: ='入力（医三）'!E78 -> 321800 | F78: ='入力（医三）'!F78 -> 357500 | G78: ='入力（医三）'!G78 -> 383500 | H78: ='入力（医三）'!H78 -> 415500 | I78: =行政!H82 -> 418900 | M78: 72 | O78: 278800 | P78: 300700 | Q78: 336400 | R78: 361600 | S78: 392700 | T78: 396000 | W78: =D78-O78 -> 20800 | X78: =E78-P78 -> 21100 | Y78: =F78-Q78 -> 21100 | Z78: =G78-R78 -> 21900 | AA78: =H78-S78 -> 22800 | AB78: =I78-T78 -> 22900 | AC78: =J78-U78 -> 0 | AD78: =K78-V78 -> 0
B79: 73 | D79: ='入力（医三）'!D79 -> 300000 | E79: ='入力（医三）'!E79 -> 322700 | F79: ='入力（医三）'!F79 -> 358600 | G79: ='入力（医三）'!G79 -> 384200 | H79: ='入力（医三）'!H79 -> 415800 | I79: =行政!H83 -> 419100 | M79: 73 | O79: 279200 | P79: 301600 | Q79: 337500 | R79: 362300 | S79: 393000 | T79: 396200 | W79: =D79-O79 -> 20800 | X79: =E79-P79 -> 21100 | Y79: =F79-Q79 -> 21100 | Z79: =G79-R79 -> 21900 | AA79: =H79-S79 -> 22800 | AB79: =I79-T79 -> 22900 | AC79: =J79-U79 -> 0 | AD79: =K79-V79 -> 0
B80: 74 | D80: ='入力（医三）'!D80 -> 300500 | E80: ='入力（医三）'!E80 -> 323500 | F80: ='入力（医三）'!F80 -> 359800 | G80: ='入力（医三）'!G80 -> 385000 | H80: ='入力（医三）'!H80 -> 416300 | I80: =行政!H84 -> 419400 | M80: 74 | O80: 279800 | P80: 302500 | Q80: 338700 | R80: 363100 | S80: 393500 | T80: 396500 | W80: =D80-O80 -> 20700 | X80: =E80-P80 -> 21000 | Y80: =F80-Q80 -> 21100 | Z80: =G80-R80 -> 21900 | AA80: =H80-S80 -> 22800 | AB80: =I80-T80 -> 22900 | AC80: =J80-U80 -> 0 | AD80: =K80-V80 -> 0
B81: 75 | D81: ='入力（医三）'!D81 -> 301000 | E81: ='入力（医三）'!E81 -> 324400 | F81: ='入力（医三）'!F81 -> 360900 | G81: ='入力（医三）'!G81 -> 385800 | H81: ='入力（医三）'!H81 -> 416700 | I81: =行政!H85 -> 419700 | M81: 75 | O81: 280400 | P81: 303400 | Q81: 339800 | R81: 363900 | S81: 393900 | T81: 396800 | W81: =D81-O81 -> 20600 | X81: =E81-P81 -> 21000 | Y81: =F81-Q81 -> 21100 | Z81: =G81-R81 -> 21900 | AA81: =H81-S81 -> 22800 | AB81: =I81-T81 -> 22900 | AC81: =J81-U81 -> 0 | AD81: =K81-V81 -> 0
B82: 76 | D82: ='入力（医三）'!D82 -> 301500 | E82: ='入力（医三）'!E82 -> 325300 | F82: ='入力（医三）'!F82 -> 362000 | G82: ='入力（医三）'!G82 -> 386500 | H82: ='入力（医三）'!H82 -> 417000 | I82: =行政!H86 -> 419900 | M82: 76 | O82: 280900 | P82: 304300 | Q82: 340900 | R82: 364600 | S82: 394200 | T82: 397000 | W82: =D82-O82 -> 20600 | X82: =E82-P82 -> 21000 | Y82: =F82-Q82 -> 21100 | Z82: =G82-R82 -> 21900 | AA82: =H82-S82 -> 22800 | AB82: =I82-T82 -> 22900 | AC82: =J82-U82 -> 0 | AD82: =K82-V82 -> 0
B83: 77 | D83: ='入力（医三）'!D83 -> 302000 | E83: ='入力（医三）'!E83 -> 326100 | F83: ='入力（医三）'!F83 -> 363100 | G83: ='入力（医三）'!G83 -> 387100 | H83: ='入力（医三）'!H83 -> 417300 | I83: =行政!H87 -> 420100 | M83: 77 | O83: 281400 | P83: 305100 | Q83: 342000 | R83: 365200 | S83: 394500 | T83: 397200 | W83: =D83-O83 -> 20600 | X83: =E83-P83 -> 21000 | Y83: =F83-Q83 -> 21100 | Z83: =G83-R83 -> 21900 | AA83: =H83-S83 -> 22800 | AB83: =I83-T83 -> 22900 | AC83: =J83-U83 -> 0 | AD83: =K83-V83 -> 0
B84: 78 | D84: ='入力（医三）'!D84 -> 302500 | E84: ='入力（医三）'!E84 -> 327000 | F84: ='入力（医三）'!F84 -> 364200 | G84: ='入力（医三）'!G84 -> 387600 | H84: ='入力（医三）'!H84 -> 417800 | I84: =行政!H88 -> 420400 | M84: 78 | O84: 282000 | P84: 306100 | Q84: 343100 | R84: 365700 | S84: 395000 | T84: 397500 | W84: =D84-O84 -> 20500 | X84: =E84-P84 -> 20900 | Y84: =F84-Q84 -> 21100 | Z84: =G84-R84 -> 21900 | AA84: =H84-S84 -> 22800 | AB84: =I84-T84 -> 22900 | AC84: =J84-U84 -> 0 | AD84: =K84-V84 -> 0
B85: 79 | D85: ='入力（医三）'!D85 -> 303100 | E85: ='入力（医三）'!E85 -> 327900 | F85: ='入力（医三）'!F85 -> 365200 | G85: ='入力（医三）'!G85 -> 388100 | H85: ='入力（医三）'!H85 -> 418300 | I85: =行政!H89 -> 420700 | M85: 79 | O85: 282600 | P85: 307100 | Q85: 344100 | R85: 366200 | S85: 395500 | T85: 397800 | W85: =D85-O85 -> 20500 | X85: =E85-P85 -> 20800 | Y85: =F85-Q85 -> 21100 | Z85: =G85-R85 -> 21900 | AA85: =H85-S85 -> 22800 | AB85: =I85-T85 -> 22900 | AC85: =J85-U85 -> 0 | AD85: =K85-V85 -> 0
B86: 80 | D86: ='入力（医三）'!D86 -> 303500 | E86: ='入力（医三）'!E86 -> 328700 | F86: ='入力（医三）'!F86 -> 366300 | G86: ='入力（医三）'!G86 -> 388600 | H86: ='入力（医三）'!H86 -> 418700 | I86: =行政!H90 -> 420900 | M86: 80 | O86: 283100 | P86: 308000 | Q86: 345200 | R86: 366700 | S86: 395900 | T86: 398000 | W86: =D86-O86 -> 20400 | X86: =E86-P86 -> 20700 | Y86: =F86-Q86 -> 21100 | Z86: =G86-R86 -> 21900 | AA86: =H86-S86 -> 22800 | AB86: =I86-T86 -> 22900 | AC86: =J86-U86 -> 0 | AD86: =K86-V86 -> 0
B87: 81 | D87: ='入力（医三）'!D87 -> 304000 | E87: ='入力（医三）'!E87 -> 329200 | F87: ='入力（医三）'!F87 -> 367200 | G87: ='入力（医三）'!G87 -> 389200 | H87: ='入力（医三）'!H87 -> 419000 | I87: =行政!H91 -> 421100 | M87: 81 | O87: 283600 | P87: 308500 | Q87: 346100 | R87: 367300 | S87: 396200 | T87: 398200 | W87: =D87-O87 -> 20400 | X87: =E87-P87 -> 20700 | Y87: =F87-Q87 -> 21100 | Z87: =G87-R87 -> 21900 | AA87: =H87-S87 -> 22800 | AB87: =I87-T87 -> 22900 | AC87: =J87-U87 -> 0 | AD87: =K87-V87 -> 0
B88: 82 | D88: ='入力（医三）'!D88 -> 304400 | E88: ='入力（医三）'!E88 -> 329900 | F88: ='入力（医三）'!F88 -> 368200 | G88: ='入力（医三）'!G88 -> 389700 | H88: ='入力（医三）'!H88 -> 419400 | I88: =I87+I84-I83 -> 421400 | M88: 82 | O88: 284100 | P88: 309400 | Q88: 347100 | R88: 367800 | S88: 396600 | T88: 398500 | W88: =D88-O88 -> 20300 | X88: =E88-P88 -> 20500 | Y88: =F88-Q88 -> 21100 | Z88: =G88-R88 -> 21900 | AA88: =H88-S88 -> 22800 | AB88: =I88-T88 -> 22900 | AC88: =J88-U88 -> 0 | AD88: =K88-V88 -> 0
B89: 83 | D89: ='入力（医三）'!D89 -> 304900 | E89: ='入力（医三）'!E89 -> 330700 | F89: ='入力（医三）'!F89 -> 369100 | G89: ='入力（医三）'!G89 -> 390200 | H89: ='入力（医三）'!H89 -> 419900 | I89: =I88+I85-I84 -> 421700 | M89: 83 | O89: 284600 | P89: 310300 | Q89: 348000 | R89: 368300 | S89: 397100 | T89: 398800 | W89: =D89-O89 -> 20300 | X89: =E89-P89 -> 20400 | Y89: =F89-Q89 -> 21100 | Z89: =G89-R89 -> 21900 | AA89: =H89-S89 -> 22800 | AB89: =I89-T89 -> 22900 | AC89: =J89-U89 -> 0 | AD89: =K89-V89 -> 0
B90: 84 | D90: ='入力（医三）'!D90 -> 305400 | E90: ='入力（医三）'!E90 -> 331500 | F90: ='入力（医三）'!F90 -> 370100 | G90: ='入力（医三）'!G90 -> 390700 | H90: ='入力（医三）'!H90 -> 420300 | I90: =I89+I86-I85 -> 421900 | M90: 84 | O90: 285100 | P90: 311100 | Q90: 349000 | R90: 368800 | S90: 397500 | T90: 399000 | W90: =D90-O90 -> 20300 | X90: =E90-P90 -> 20400 | Y90: =F90-Q90 -> 21100 | Z90: =G90-R90 -> 21900 | AA90: =H90-S90 -> 22800 | AB90: =I90-T90 -> 22900 | AC90: =J90-U90 -> 0 | AD90: =K90-V90 -> 0
B91: 85 | D91: ='入力（医三）'!D91 -> 305800 | E91: ='入力（医三）'!E91 -> 332300 | F91: ='入力（医三）'!F91 -> 371000 | G91: ='入力（医三）'!G91 -> 391100 | H91: ='入力（医三）'!H91 -> 420700 | I91: =I90+I87-I86 -> 422100 | M91: 85 | O91: 285600 | P91: 311900 | Q91: 349900 | R91: 369200 | S91: 397900 | T91: 399200 | W91: =D91-O91 -> 20200 | X91: =E91-P91 -> 20400 | Y91: =F91-Q91 -> 21100 | Z91: =G91-R91 -> 21900 | AA91: =H91-S91 -> 22800 | AB91: =I91-T91 -> 22900 | AC91: =J91-U91 -> 0 | AD91: =K91-V91 -> 0
B92: 86 | D92: ='入力（医三）'!D92 -> 306200 | E92: ='入力（医三）'!E92 -> 333100 | F92: ='入力（医三）'!F92 -> 371800 | G92: ='入力（医三）'!G92 -> 391500 | H92: ='入力（医三）'!H92 -> 0 | I92: ='入力（医三）'!I92 -> 0 | M92: 86 | O92: 286100 | P92: 312900 | Q92: 350700 | R92: 369600 | W92: =D92-O92 -> 20100 | X92: =E92-P92 -> 20200 | Y92: =F92-Q92 -> 21100 | Z92: =G92-R92 -> 21900 | AA92: =H92-S92 -> 0 | AB92: =I92-T92 -> 0 | AC92: =J92-U92 -> 0 | AD92: =K92-V92 -> 0
B93: 87 | D93: ='入力（医三）'!D93 -> 306700 | E93: ='入力（医三）'!E93 -> 334100 | F93: ='入力（医三）'!F93 -> 372600 | G93: ='入力（医三）'!G93 -> 392100 | H93: ='入力（医三）'!H93 -> 0 | I93: ='入力（医三）'!I93 -> 0 | M93: 87 | O93: 286600 | P93: 313900 | Q93: 351500 | R93: 370200 | W93: =D93-O93 -> 20100 | X93: =E93-P93 -> 20200 | Y93: =F93-Q93 -> 21100 | Z93: =G93-R93 -> 21900 | AA93: =H93-S93 -> 0 | AB93: =I93-T93 -> 0 | AC93: =J93-U93 -> 0 | AD93: =K93-V93 -> 0
B94: 88 | D94: ='入力（医三）'!D94 -> 307200 | E94: ='入力（医三）'!E94 -> 335100 | F94: ='入力（医三）'!F94 -> 373400 | G94: ='入力（医三）'!G94 -> 392600 | H94: ='入力（医三）'!H94 -> 0 | I94: ='入力（医三）'!I94 -> 0 | M94: 88 | O94: 287100 | P94: 314900 | Q94: 352300 | R94: 370700 | W94: =D94-O94 -> 20100 | X94: =E94-P94 -> 20200 | Y94: =F94-Q94 -> 21100 | Z94: =G94-R94 -> 21900 | AA94: =H94-S94 -> 0 | AB94: =I94-T94 -> 0 | AC94: =J94-U94 -> 0 | AD94: =K94-V94 -> 0
B95: 89 | D95: ='入力（医三）'!D95 -> 307600 | E95: ='入力（医三）'!E95 -> 336000 | F95: ='入力（医三）'!F95 -> 374000 | G95: ='入力（医三）'!G95 -> 392900 | H95: ='入力（医三）'!H95 -> 0 | I95: ='入力（医三）'!I95 -> 0 | M95: 89 | O95: 287600 | P95: 315800 | Q95: 352900 | R95: 371000 | W95: =D95-O95 -> 20000 | X95: =E95-P95 -> 20200 | Y95: =F95-Q95 -> 21100 | Z95: =G95-R95 -> 21900 | AA95: =H95-S95 -> 0 | AB95: =I95-T95 -> 0 | AC95: =J95-U95 -> 0 | AD95: =K95-V95 -> 0
B96: 90 | D96: ='入力（医三）'!D96 -> 308100 | E96: ='入力（医三）'!E96 -> 337000 | F96: ='入力（医三）'!F96 -> 374600 | G96: ='入力（医三）'!G96 -> 393400 | H96: ='入力（医三）'!H96 -> 0 | I96: ='入力（医三）'!I96 -> 0 | M96: 90 | O96: 288100 | P96: 316900 | Q96: 353500 | R96: 371500 | W96: =D96-O96 -> 20000 | X96: =E96-P96 -> 20100 | Y96: =F96-Q96 -> 21100 | Z96: =G96-R96 -> 21900 | AA96: =H96-S96 -> 0 | AB96: =I96-T96 -> 0 | AC96: =J96-U96 -> 0 | AD96: =K96-V96 -> 0
B97: 91 | D97: ='入力（医三）'!D97 -> 308600 | E97: ='入力（医三）'!E97 -> 338000 | F97: ='入力（医三）'!F97 -> 375200 | G97: ='入力（医三）'!G97 -> 393700 | H97: ='入力（医三）'!H97 -> 0 | I97: ='入力（医三）'!I97 -> 0 | M97: 91 | O97: 288600 | P97: 317900 | Q97: 354100 | R97: 371900 | W97: =D97-O97 -> 20000 | X97: =E97-P97 -> 20100 | Y97: =F97-Q97 -> 21100 | Z97: =G97-R97 -> 21800 | AA97: =H97-S97 -> 0 | AB97: =I97-T97 -> 0 | AC97: =J97-U97 -> 0 | AD97: =K97-V97 -> 0
B98: 92 | D98: ='入力（医三）'!D98 -> 309100 | E98: ='入力（医三）'!E98 -> 339000 | F98: ='入力（医三）'!F98 -> 375800 | G98: ='入力（医三）'!G98 -> 394000 | H98: ='入力（医三）'!H98 -> 0 | I98: ='入力（医三）'!I98 -> 0 | M98: 92 | O98: 289100 | P98: 318900 | Q98: 354700 | R98: 372200 | W98: =D98-O98 -> 20000 | X98: =E98-P98 -> 20100 | Y98: =F98-Q98 -> 21100 | Z98: =G98-R98 -> 21800 | AA98: =H98-S98 -> 0 | AB98: =I98-T98 -> 0 | AC98: =J98-U98 -> 0 | AD98: =K98-V98 -> 0
B99: 93 | D99: ='入力（医三）'!D99 -> 309600 | E99: ='入力（医三）'!E99 -> 339800 | F99: ='入力（医三）'!F99 -> 376200 | G99: ='入力（医三）'!G99 -> 394600 | H99: ='入力（医三）'!H99 -> 0 | I99: ='入力（医三）'!I99 -> 0 | M99: 93 | O99: 289600 | P99: 319700 | Q99: 355100 | R99: 372800 | W99: =D99-O99 -> 20000 | X99: =E99-P99 -> 20100 | Y99: =F99-Q99 -> 21100 | Z99: =G99-R99 -> 21800 | AA99: =H99-S99 -> 0 | AB99: =I99-T99 -> 0 | AC99: =J99-U99 -> 0 | AD99: =K99-V99 -> 0
B100: 94 | D100: ='入力（医三）'!D100 -> 309900 | E100: ='入力（医三）'!E100 -> 340500 | F100: ='入力（医三）'!F100 -> 376600 | G100: ='入力（医三）'!G100 -> 395100 | M100: 94 | O100: 290200 | P100: 320400 | Q100: 355500 | R100: 373300 | W100: =D100-O100 -> 19700 | X100: =E100-P100 -> 20100 | Y100: =F100-Q100 -> 21100 | Z100: =G100-R100 -> 21800 | AA100: =H100-S100 -> 0 | AB100: =I100-T100 -> 0 | AC100: =J100-U100 -> 0 | AD100: =K100-V100 -> 0
B101: 95 | D101: ='入力（医三）'!D101 -> 310400 | E101: ='入力（医三）'!E101 -> 341200 | F101: ='入力（医三）'!F101 -> 377100 | G101: ='入力（医三）'!G101 -> 395600 | M101: 95 | O101: 290800 | P101: 321100 | Q101: 356000 | R101: 373800 | W101: =D101-O101 -> 19600 | X101: =E101-P101 -> 20100 | Y101: =F101-Q101 -> 21100 | Z101: =G101-R101 -> 21800 | AA101: =H101-S101 -> 0 | AB101: =I101-T101 -> 0 | AC101: =J101-U101 -> 0 | AD101: =K101-V101 -> 0
B102: 96 | D102: ='入力（医三）'!D102 -> 310900 | E102: ='入力（医三）'!E102 -> 341800 | F102: ='入力（医三）'!F102 -> 377500 | G102: ='入力（医三）'!G102 -> 396100 | M102: 96 | O102: 291400 | P102: 321700 | Q102: 356400 | R102: 374300 | W102: =D102-O102 -> 19500 | X102: =E102-P102 -> 20100 | Y102: =F102-Q102 -> 21100 | Z102: =G102-R102 -> 21800 | AA102: =H102-S102 -> 0 | AB102: =I102-T102 -> 0 | AC102: =J102-U102 -> 0 | AD102: =K102-V102 -> 0
B103: 97 | D103: ='入力（医三）'!D103 -> 311400 | E103: ='入力（医三）'!E103 -> 342200 | F103: ='入力（医三）'!F103 -> 378000 | G103: ='入力（医三）'!G103 -> 396700 | M103: 97 | O103: 292000 | P103: 322200 | Q103: 356900 | R103: 374900 | W103: =D103-O103 -> 19400 | X103: =E103-P103 -> 20000 | Y103: =F103-Q103 -> 21100 | Z103: =G103-R103 -> 21800 | AA103: =H103-S103 -> 0 | AB103: =I103-T103 -> 0 | AC103: =J103-U103 -> 0 | AD103: =K103-V103 -> 0
B104: 98 | D104: ='入力（医三）'!D104 -> 311900 | E104: ='入力（医三）'!E104 -> 342500 | F104: ='入力（医三）'!F104 -> 378400 | G104: ='入力（医三）'!G104 -> 397200 | M104: 98 | O104: 292500 | P104: 322500 | Q104: 357300 | R104: 375400 | W104: =D104-O104 -> 19400 | X104: =E104-P104 -> 20000 | Y104: =F104-Q104 -> 21100 | Z104: =G104-R104 -> 21800 | AA104: =H104-S104 -> 0 | AB104: =I104-T104 -> 0 | AC104: =J104-U104 -> 0 | AD104: =K104-V104 -> 0
B105: 99 | D105: ='入力（医三）'!D105 -> 312300 | E105: ='入力（医三）'!E105 -> 343000 | F105: ='入力（医三）'!F105 -> 378900 | G105: ='入力（医三）'!G105 -> 397700 | M105: 99 | O105: 293000 | P105: 323100 | Q105: 357800 | R105: 375900 | W105: =D105-O105 -> 19300 | X105: =E105-P105 -> 19900 | Y105: =F105-Q105 -> 21100 | Z105: =G105-R105 -> 21800 | AA105: =H105-S105 -> 0 | AB105: =I105-T105 -> 0 | AC105: =J105-U105 -> 0 | AD105: =K105-V105 -> 0
B106: 100 | D106: ='入力（医三）'!D106 -> 312700 | E106: ='入力（医三）'!E106 -> 343600 | F106: ='入力（医三）'!F106 -> 379300 | G106: ='入力（医三）'!G106 -> 398100 | M106: 100 | O106: 293500 | P106: 323700 | Q106: 358200 | R106: 376300 | W106: =D106-O106 -> 19200 | X106: =E106-P106 -> 19900 | Y106: =F106-Q106 -> 21100 | Z106: =G106-R106 -> 21800 | AA106: =H106-S106 -> 0 | AB106: =I106-T106 -> 0 | AC106: =J106-U106 -> 0 | AD106: =K106-V106 -> 0
B107: 101 | D107: ='入力（医三）'!D107 -> 313100 | E107: ='入力（医三）'!E107 -> 344000 | F107: ='入力（医三）'!F107 -> 379600 | G107: ='入力（医三）'!G107 -> 398700 | M107: 101 | O107: 294000 | P107: 324100 | Q107: 358500 | R107: 376900 | W107: =D107-O107 -> 19100 | X107: =E107-P107 -> 19900 | Y107: =F107-Q107 -> 21100 | Z107: =G107-R107 -> 21800 | AA107: =H107-S107 -> 0 | AB107: =I107-T107 -> 0 | AC107: =J107-U107 -> 0 | AD107: =K107-V107 -> 0
B108: 102 | D108: ='入力（医三）'!D108 -> 313500 | E108: ='入力（医三）'!E108 -> 344500 | F108: ='入力（医三）'!F108 -> 380100 | G108: ='入力（医三）'!G108 -> 399200 | M108: 102 | O108: 294500 | P108: 324700 | Q108: 359000 | R108: 377400 | W108: =D108-O108 -> 19000 | X108: =E108-P108 -> 19800 | Y108: =F108-Q108 -> 21100 | Z108: =G108-R108 -> 21800 | AA108: =H108-S108 -> 0 | AB108: =I108-T108 -> 0 | AC108: =J108-U108 -> 0 | AD108: =K108-V108 -> 0
B109: 103 | D109: ='入力（医三）'!D109 -> 313900 | E109: ='入力（医三）'!E109 -> 345100 | F109: ='入力（医三）'!F109 -> 380400 | G109: ='入力（医三）'!G109 -> 399700 | M109: 103 | O109: 295000 | P109: 325300 | Q109: 359400 | R109: 377900 | W109: =D109-O109 -> 18900 | X109: =E109-P109 -> 19800 | Y109: =F109-Q109 -> 21000 | Z109: =G109-R109 -> 21800 | AA109: =H109-S109 -> 0 | AB109: =I109-T109 -> 0 | AC109: =J109-U109 -> 0 | AD109: =K109-V109 -> 0
B110: 104 | D110: ='入力（医三）'!D110 -> 314200 | E110: ='入力（医三）'!E110 -> 345600 | F110: ='入力（医三）'!F110 -> 380700 | G110: ='入力（医三）'!G110 -> 400200 | M110: 104 | O110: 295400 | P110: 325800 | Q110: 359700 | R110: 378400 | W110: =D110-O110 -> 18800 | X110: =E110-P110 -> 19800 | Y110: =F110-Q110 -> 21000 | Z110: =G110-R110 -> 21800 | AA110: =H110-S110 -> 0 | AB110: =I110-T110 -> 0 | AC110: =J110-U110 -> 0 | AD110: =K110-V110 -> 0
B111: 105 | D111: ='入力（医三）'!D111 -> 314500 | E111: ='入力（医三）'!E111 -> 346000 | F111: ='入力（医三）'!F111 -> 381100 | G111: ='入力（医三）'!G111 -> 400800 | M111: 105 | O111: 295800 | P111: 326200 | Q111: 360100 | R111: 379000 | W111: =D111-O111 -> 18700 | X111: =E111-P111 -> 19800 | Y111: =F111-Q111 -> 21000 | Z111: =G111-R111 -> 21800 | AA111: =H111-S111 -> 0 | AB111: =I111-T111 -> 0 | AC111: =J111-U111 -> 0 | AD111: =K111-V111 -> 0
... B115: 109 | D115: ='入力（医三）'!D115 -> 315800 | E115: ='入力（医三）'!E115 -> 347900 | F115: ='入力（医三）'!F115 -> 383100 | G115: ='入力（医三）'!G115 -> 402800 | M115: 109 | O115: 297300 | P115: 328100 | Q115: 362100 | R115: 381000 | W115: =D115-O115 -> 18500 | X115: =E115-P115 -> 19800 | Y115: =F115-Q115 -> 21000 | Z115: =G115-R115 -> 21800 | AA115: =H115-S115 -> 0 | AB115: =I115-T115 -> 0 | AC115: =J115-U115 -> 0 | AD115: =K115-V115 -> 0
B116: 110 | D116: ='入力（医三）'!D116 -> 316100 | E116: ='入力（医三）'!E116 -> 348200 | F116: ='入力（医三）'!F116 -> 383600 | G116: ='入力（医三）'!G116 -> 0 | M116: 110 | O116: 297600 | P116: 328500 | Q116: 362600 | W116: =D116-O116 -> 18500 | X116: =E116-P116 -> 19700 | Y116: =F116-Q116 -> 21000 | Z116: =G116-R116 -> 0 | AA116: =H116-S116 -> 0 | AB116: =I116-T116 -> 0 | AC116: =J116-U116 -> 0 | AD116: =K116-V116 -> 0
B117: 111 | D117: ='入力（医三）'!D117 -> 316300 | E117: ='入力（医三）'!E117 -> 348500 | F117: ='入力（医三）'!F117 -> 384100 | G117: ='入力（医三）'!G117 -> 0 | M117: 111 | O117: 297800 | P117: 328800 | Q117: 363100 | W117: =D117-O117 -> 18500 | X117: =E117-P117 -> 19700 | Y117: =F117-Q117 -> 21000 | Z117: =G117-R117 -> 0 | AA117: =H117-S117 -> 0 | AB117: =I117-T117 -> 0 | AC117: =J117-U117 -> 0 | AD117: =K117-V117 -> 0
B118: 112 | D118: ='入力（医三）'!D118 -> 316600 | E118: ='入力（医三）'!E118 -> 348800 | F118: ='入力（医三）'!F118 -> 384500 | G118: ='入力（医三）'!G118 -> 0 | M118: 112 | O118: 298100 | P118: 329100 | Q118: 363500 | W118: =D118-O118 -> 18500 | X118: =E118-P118 -> 19700 | Y118: =F118-Q118 -> 21000 | Z118: =G118-R118 -> 0 | AA118: =H118-S118 -> 0 | AB118: =I118-T118 -> 0 | AC118: =J118-U118 -> 0 | AD118: =K118-V118 -> 0
B119: 113 | D119: ='入力（医三）'!D119 -> 316900 | E119: ='入力（医三）'!E119 -> 349100 | F119: ='入力（医三）'!F119 -> 384900 | G119: ='入力（医三）'!G119 -> 0 | M119: 113 | O119: 298400 | P119: 329400 | Q119: 363900 | W119: =D119-O119 -> 18500 | X119: =E119-P119 -> 19700 | Y119: =F119-Q119 -> 21000 | Z119: =G119-R119 -> 0 | AA119: =H119-S119 -> 0 | AB119: =I119-T119 -> 0 | AC119: =J119-U119 -> 0 | AD119: =K119-V119 -> 0
B120: 114 | D120: ='入力（医三）'!D120 -> 317100 | E120: ='入力（医三）'!E120 -> 349500 | F120: ='入力（医三）'!F120 -> 385300 | M120: 114 | O120: 298600 | P120: 329800 | Q120: 364300 | W120: =D120-O120 -> 18500 | X120: =E120-P120 -> 19700 | Y120: =F120-Q120 -> 21000 | Z120: =G120-R120 -> 0 | AA120: =H120-S120 -> 0 | AB120: =I120-T120 -> 0 | AC120: =J120-U120 -> 0 | AD120: =K120-V120 -> 0
B121: 115 | D121: ='入力（医三）'!D121 -> 317400 | E121: ='入力（医三）'!E121 -> 349800 | F121: ='入力（医三）'!F121 -> 385800 | M121: 115 | O121: 298900 | P121: 330100 | Q121: 364800 | W121: =D121-O121 -> 18500 | X121: =E121-P121 -> 19700 | Y121: =F121-Q121 -> 21000 | Z121: =G121-R121 -> 0 | AA121: =H121-S121 -> 0 | AB121: =I121-T121 -> 0 | AC121: =J121-U121 -> 0 | AD121: =K121-V121 -> 0
B122: 116 | D122: ='入力（医三）'!D122 -> 317600 | E122: ='入力（医三）'!E122 -> 350100 | F122: ='入力（医三）'!F122 -> 386300 | M122: 116 | O122: 299100 | P122: 330400 | Q122: 365300 | W122: =D122-O122 -> 18500 | X122: =E122-P122 -> 19700 | Y122: =F122-Q122 -> 21000 | Z122: =G122-R122 -> 0 | AA122: =H122-S122 -> 0 | AB122: =I122-T122 -> 0 | AC122: =J122-U122 -> 0 | AD122: =K122-V122 -> 0
B123: 117 | D123: ='入力（医三）'!D123 -> 317900 | E123: ='入力（医三）'!E123 -> 350300 | F123: ='入力（医三）'!F123 -> 386700 | M123: 117 | O123: 299400 | P123: 330600 | Q123: 365700 | W123: =D123-O123 -> 18500 | X123: =E123-P123 -> 19700 | Y123: =F123-Q123 -> 21000 | Z123: =G123-R123 -> 0 | AA123: =H123-S123 -> 0 | AB123: =I123-T123 -> 0 | AC123: =J123-U123 -> 0 | AD123: =K123-V123 -> 0
B124: 118 | D124: ='入力（医三）'!D124 -> 318100 | E124: ='入力（医三）'!E124 -> 350600 | F124: ='入力（医三）'!F124 -> 387200 | M124: 118 | O124: 299700 | P124: 330900 | Q124: 366200 | W124: =D124-O124 -> 18400 | X124: =E124-P124 -> 19700 | Y124: =F124-Q124 -> 21000 | Z124: =G124-R124 -> 0 | AA124: =H124-S124 -> 0 | AB124: =I124-T124 -> 0 | AC124: =J124-U124 -> 0 | AD124: =K124-V124 -> 0
B125: 119 | D125: ='入力（医三）'!D125 -> 318400 | E125: ='入力（医三）'!E125 -> 350900 | F125: ='入力（医三）'!F125 -> 387700 | M125: 119 | O125: 300000 | P125: 331200 | Q125: 366700 | W125: =D125-O125 -> 18400 | X125: =E125-P125 -> 19700 | Y125: =F125-Q125 -> 21000 | Z125: =G125-R125 -> 0 | AA125: =H125-S125 -> 0 | AB125: =I125-T125 -> 0 | AC125: =J125-U125 -> 0 | AD125: =K125-V125 -> 0
B126: 120 | D126: ='入力（医三）'!D126 -> 318700 | E126: ='入力（医三）'!E126 -> 351100 | F126: ='入力（医三）'!F126 -> 388200 | M126: 120 | O126: 300300 | P126: 331400 | Q126: 367200 | W126: =D126-O126 -> 18400 | X126: =E126-P126 -> 19700 | Y126: =F126-Q126 -> 21000 | Z126: =G126-R126 -> 0 | AA126: =H126-S126 -> 0 | AB126: =I126-T126 -> 0 | AC126: =J126-U126 -> 0 | AD126: =K126-V126 -> 0
B127: 121 | D127: ='入力（医三）'!D127 -> 319000 | E127: ='入力（医三）'!E127 -> 351300 | F127: ='入力（医三）'!F127 -> 388500 | M127: 121 | O127: 300600 | P127: 331600 | Q127: 367500 | W127: =D127-O127 -> 18400 | X127: =E127-P127 -> 19700 | Y127: =F127-Q127 -> 21000 | Z127: =G127-R127 -> 0 | AA127: =H127-S127 -> 0 | AB127: =I127-T127 -> 0 | AC127: =J127-U127 -> 0 | AD127: =K127-V127 -> 0
B128: 122 | D128: ='入力（医三）'!D128 -> 319300 | E128: ='入力（医三）'!E128 -> 351600 | F128: ='入力（医三）'!F128 -> 0 | M128: 122 | O128: 301000 | P128: 331900 | W128: =D128-O128 -> 18300 | X128: =E128-P128 -> 19700 | Y128: =F128-Q128 -> 0 | Z128: =G128-R128 -> 0 | AA128: =H128-S128 -> 0 | AB128: =I128-T128 -> 0 | AC128: =J128-U128 -> 0 | AD128: =K128-V128 -> 0
B129: 123 | D129: ='入力（医三）'!D129 -> 319600 | E129: ='入力（医三）'!E129 -> 351900 | F129: ='入力（医三）'!F129 -> 0 | M129: 123 | O129: 301300 | P129: 332200 | W129: =D129-O129 -> 18300 | X129: =E129-P129 -> 19700 | Y129: =F129-Q129 -> 0 | Z129: =G129-R129 -> 0 | AA129: =H129-S129 -> 0 | AB129: =I129-T129 -> 0 | AC129: =J129-U129 -> 0 | AD129: =K129-V129 -> 0
B130: 124 | D130: ='入力（医三）'!D130 -> 319900 | E130: ='入力（医三）'!E130 -> 352200 | F130: ='入力（医三）'!F130 -> 0 | M130: 124 | O130: 301600 | P130: 332500 | W130: =D130-O130 -> 18300 | X130: =E130-P130 -> 19700 | Y130: =F130-Q130 -> 0 | Z130: =G130-R130 -> 0 | AA130: =H130-S130 -> 0 | AB130: =I130-T130 -> 0 | AC130: =J130-U130 -> 0 | AD130: =K130-V130 -> 0
B131: 125 | D131: ='入力（医三）'!D131 -> 320100 | E131: ='入力（医三）'!E131 -> 352400 | F131: ='入力（医三）'!F131 -> 0 | M131: 125 | O131: 301800 | P131: 332700 | W131: =D131-O131 -> 18300 | X131: =E131-P131 -> 19700 | Y131: =F131-Q131 -> 0 | Z131: =G131-R131 -> 0 | AA131: =H131-S131 -> 0 | AB131: =I131-T131 -> 0 | AC131: =J131-U131 -> 0 | AD131: =K131-V131 -> 0
...

Sheet 福祉
A2: 福 祉 職 給 料 表
A4: 職員の区分 | C4: 職務 の級 | D4: 1 | E4: 2 | F4: 3 | G4: 4 | H4: 5 | I4: 6
B5: 号給 | D5: 給料月額 | E5: 給料月額 | F5: 給料月額 | G5: 給料月額 | H5: 給料月額 | I5: 給料月額
A6: 定年前再任用短時間勤務職員以外の職員 | D6: 円 | E6: 円 | F6: 円 | G6: 円 | H6: 円 | I6: 円
B7: 1 | D7: ='入力（福祉）'!D7 -> 222800 | E7: ='入力（福祉）'!E7 -> 278000 | F7: ='入力（福祉）'!F7 -> 310200 | G7: ='入力（福祉）'!G7 -> 337000 | H7: ='入力（福祉）'!H7 -> 379500 | I7: ='入力（福祉）'!I7 -> 434300
B8: 2 | D8: ='入力（福祉）'!D8 -> 224500 | E8: ='入力（福祉）'!E8 -> 279400 | F8: ='入力（福祉）'!F8 -> 311100 | G8: ='入力（福祉）'!G8 -> 338700 | H8: ='入力（福祉）'!H8 -> 381200 | I8: ='入力（福祉）'!I8 -> 436200
B9: 3 | D9: ='入力（福祉）'!D9 -> 226100 | E9: ='入力（福祉）'!E9 -> 280700 | F9: ='入力（福祉）'!F9 -> 311900 | G9: ='入力（福祉）'!G9 -> 340300 | H9: ='入力（福祉）'!H9 -> 382800 | I9: ='入力（福祉）'!I9 -> 438100
B10: 4 | D10: ='入力（福祉）'!D10 -> 227800 | E10: ='入力（福祉）'!E10 -> 282000 | F10: ='入力（福祉）'!F10 -> 312900 | G10: ='入力（福祉）'!G10 -> 341800 | H10: ='入力（福祉）'!H10 -> 384400 | I10: ='入力（福祉）'!I10 -> 439900
B11: 5 | D11: ='入力（福祉）'!D11 -> 229300 | E11: ='入力（福祉）'!E11 -> 283400 | F11: ='入力（福祉）'!F11 -> 313800 | G11: ='入力（福祉）'!G11 -> 343200 | H11: ='入力（福祉）'!H11 -> 386000 | I11: ='入力（福祉）'!I11 -> 441800
B12: 6 | D12: ='入力（福祉）'!D12 -> 230900 | E12: ='入力（福祉）'!E12 -> 284400 | F12: ='入力（福祉）'!F12 -> 314700 | G12: ='入力（福祉）'!G12 -> 344600 | H12: ='入力（福祉）'!H12 -> 387800 | I12: ='入力（福祉）'!I12 -> 443600
B13: 7 | D13: ='入力（福祉）'!D13 -> 232500 | E13: ='入力（福祉）'!E13 -> 285400 | F13: ='入力（福祉）'!F13 -> 315600 | G13: ='入力（福祉）'!G13 -> 345900 | H13: ='入力（福祉）'!H13 -> 389300 | I13: ='入力（福祉）'!I13 -> 445400
B14: 8 | D14: ='入力（福祉）'!D14 -> 234100 | E14: ='入力（福祉）'!E14 -> 286400 | F14: ='入力（福祉）'!F14 -> 316400 | G14: ='入力（福祉）'!G14 -> 347300 | H14: ='入力（福祉）'!H14 -> 390900 | I14: ='入力（福祉）'!I14 -> 447200
B15: 9 | D15: ='入力（福祉）'!D15 -> 235700 | E15: ='入力（福祉）'!E15 -> 287300 | F15: ='入力（福祉）'!F15 -> 317200 | G15: ='入力（福祉）'!G15 -> 348700 | H15: ='入力（福祉）'!H15 -> 392200 | I15: ='入力（福祉）'!I15 -> 448800
B16: 10 | D16: ='入力（福祉）'!D16 -> 237500 | E16: ='入力（福祉）'!E16 -> 288200 | F16: ='入力（福祉）'!F16 -> 318200 | G16: ='入力（福祉）'!G16 -> 350300 | H16: ='入力（福祉）'!H16 -> 393800 | I16: ='入力（福祉）'!I16 -> 450300
B17: 11 | D17: ='入力（福祉）'!D17 -> 239300 | E17: ='入力（福祉）'!E17 -> 289200 | F17: ='入力（福祉）'!F17 -> 319400 | G17: ='入力（福祉）'!G17 -> 351800 | H17: ='入力（福祉）'!H17 -> 395400 | I17: ='入力（福祉）'!I17 -> 451800
B18: 12 | D18: ='入力（福祉）'!D18 -> 240300 | E18: ='入力（福祉）'!E18 -> 290100 | F18: ='入力（福祉）'!F18 -> 320500 | G18: ='入力（福祉）'!G18 -> 353300 | H18: ='入力（福祉）'!H18 -> 396900 | I18: ='入力（福祉）'!I18 -> 453300
... B67: 61 | D67: ='入力（福祉）'!D67 -> 278100 | E67: ='入力（福祉）'!E67 -> 333800 | F67: ='入力（福祉）'!F67 -> 361900 | G67: ='入力（福祉）'!G67 -> 409800 | H67: ='入力（福祉）'!H67 -> 436700 | I67: ='入力（福祉）'!I67 -> 0
B68: 62 | D68: ='入力（福祉）'!D68 -> 278500 | E68: ='入力（福祉）'!E68 -> 334600 | F68: ='入力（福祉）'!F68 -> 362300 | G68: ='入力（福祉）'!G68 -> 410500 | H68: ='入力（福祉）'!H68 -> 437000
B69: 63 | D69: ='入力（福祉）'!D69 -> 278800 | E69: ='入力（福祉）'!E69 -> 335400 | F69: ='入力（福祉）'!F69 -> 362700 | G69: ='入力（福祉）'!G69 -> 411100 | H69: ='入力（福祉）'!H69 -> 437300
B70: 64 | D70: ='入力（福祉）'!D70 -> 279100 | E70: ='入力（福祉）'!E70 -> 336200 | F70: ='入力（福祉）'!F70 -> 363100 | G70: ='入力（福祉）'!G70 -> 411700 | H70: ='入力（福祉）'!H70 -> 437500
B71: 65 | D71: ='入力（福祉）'!D71 -> 279500 | E71: ='入力（福祉）'!E71 -> 336900 | F71: ='入力（福祉）'!F71 -> 363500 | G71: ='入力（福祉）'!G71 -> 412100 | H71: ='入力（福祉）'!H71 -> 437700
B72: 66 | D72: ='入力（福祉）'!D72 -> 279900 | E72: ='入力（福祉）'!E72 -> 337700 | F72: ='入力（福祉）'!F72 -> 364000 | G72: ='入力（福祉）'!G72 -> 412600 | H72: ='入力（福祉）'!H72 -> 0
B73: 67 | D73: ='入力（福祉）'!D73 -> 280200 | E73: ='入力（福祉）'!E73 -> 338400 | F73: ='入力（福祉）'!F73 -> 364400 | G73: ='入力（福祉）'!G73 -> 413200 | H73: ='入力（福祉）'!H73 -> 0
B74: 68 | D74: ='入力（福祉）'!D74 -> 280500 | E74: ='入力（福祉）'!E74 -> 339100 | F74: ='入力（福祉）'!F74 -> 364900 | G74: ='入力（福祉）'!G74 -> 413700 | H74: ='入力（福祉）'!H74 -> 0
B75: 69 | D75: ='入力（福祉）'!D75 -> 280900 | E75: ='入力（福祉）'!E75 -> 339600 | F75: ='入力（福祉）'!F75 -> 365100 | G75: ='入力（福祉）'!G75 -> 414100 | H75: ='入力（福祉）'!H75 -> 0
B76: 70 | D76: ='入力（福祉）'!D76 -> 281200 | E76: ='入力（福祉）'!E76 -> 340100 | F76: ='入力（福祉）'!F76 -> 365600 | G76: ='入力（福祉）'!G76 -> 414600 | H76: ='入力（福祉）'!H76 -> 0
B77: 71 | D77: ='入力（福祉）'!D77 -> 281500 | E77: ='入力（福祉）'!E77 -> 340600 | F77: ='入力（福祉）'!F77 -> 366000 | G77: ='入力（福祉）'!G77 -> 415100 | H77: ='入力（福祉）'!H77 -> 0
B78: 72 | D78: ='入力（福祉）'!D78 -> 281900 | E78: ='入力（福祉）'!E78 -> 341000 | F78: ='入力（福祉）'!F78 -> 366400 | G78: ='入力（福祉）'!G78 -> 415600 | H78: ='入力（福祉）'!H78 -> 0
B79: 73 | D79: ='入力（福祉）'!D79 -> 282300 | E79: ='入力（福祉）'!E79 -> 341400 | F79: ='入力（福祉）'!F79 -> 366700 | G79: ='入力（福祉）'!G79 -> 416100 | H79: ='入力（福祉）'!H79 -> 0
... B83: 77 | D83: ='入力（福祉）'!D83 -> 283600 | E83: ='入力（福祉）'!E83 -> 343100 | F83: ='入力（福祉）'!F83 -> 368200 | G83: ='入力（福祉）'!G83 -> 417300 | H83: ='入力（福祉）'!H83 -> 0
B84: 78 | D84: ='入力（福祉）'!D84 -> 284000 | E84: ='入力（福祉）'!E84 -> 343400 | F84: ='入力（福祉）'!F84 -> 368500 | G84: ='入力（福祉）'!G84 -> 417500
B85: 79 | D85: ='入力（福祉）'!D85 -> 284400 | E85: ='入力（福祉）'!E85 -> 343700 | F85: ='入力（福祉）'!F85 -> 368900 | G85: ='入力（福祉）'!G85 -> 417800
B86: 80 | D86: ='入力（福祉）'!D86 -> 284700 | E86: ='入力（福祉）'!E86 -> 344000 | F86: ='入力（福祉）'!F86 -> 369300 | G86: ='入力（福祉）'!G86 -> 418100
B87: 81 | D87: ='入力（福祉）'!D87 -> 284900 | E87: ='入力（福祉）'!E87 -> 344300 | F87: ='入力（福祉）'!F87 -> 369600 | G87: ='入力（福祉）'!G87 -> 418300
B88: 82 | D88: ='入力（福祉）'!D88 -> 285200 | E88: ='入力（福祉）'!E88 -> 344600 | F88: ='入力（福祉）'!F88 -> 369900 | G88: ='入力（福祉）'!G88 -> 418600
B89: 83 | D89: ='入力（福祉）'!D89 -> 285600 | E89: ='入力（福祉）'!E89 -> 344800 | F89: ='入力（福祉）'!F89 -> 370300 | G89: ='入力（福祉）'!G89 -> 418900
B90: 84 | D90: ='入力（福祉）'!D90 -> 285900 | E90: ='入力（福祉）'!E90 -> 345100 | F90: ='入力（福祉）'!F90 -> 370700 | G90: ='入力（福祉）'!G90 -> 419100
B91: 85 | D91: ='入力（福祉）'!D91 -> 286100 | E91: ='入力（福祉）'!E91 -> 345500 | F91: ='入力（福祉）'!F91 -> 371000 | G91: ='入力（福祉）'!G91 -> 419300
B92: 86 | D92: ='入力（福祉）'!D92 -> 286400 | E92: ='入力（福祉）'!E92 -> 345900 | F92: ='入力（福祉）'!F92 -> 371400 | G92: ='入力（福祉）'!G92 -> 0
B93: 87 | D93: ='入力（福祉）'!D93 -> 286800 | E93: ='入力（福祉）'!E93 -> 346200 | F93: ='入力（福祉）'!F93 -> 371800 | G93: ='入力（福祉）'!G93 -> 0
B94: 88 | D94: ='入力（福祉）'!D94 -> 287100 | E94: ='入力（福祉）'!E94 -> 346400 | F94: ='入力（福祉）'!F94 -> 372000 | G94: ='入力（福祉）'!G94 -> 0
B95: 89 | D95: ='入力（福祉）'!D95 -> 287400 | E95: ='入力（福祉）'!E95 -> 346900 | F95: ='入力（福祉）'!F95 -> 372300 | G95: ='入力（福祉）'!G95 -> 0
... B99: 93 | D99: ='入力（福祉）'!D99 -> 288500 | E99: ='入力（福祉）'!E99 -> 348200 | F99: ='入力（福祉）'!F99 -> 0 | G99: ='入力（福祉）'!G99 -> 0
B100: 94 | D100: ='入力（福祉）'!D100 -> 288800 | E100: ='入力（福祉）'!E100 -> 348600
B101: 95 | D101: ='入力（福祉）'!D101 -> 289200 | E101: ='入力（福祉）'!E101 -> 348900
B102: 96 | D102: ='入力（福祉）'!D102 -> 289500 | E102: ='入力（福祉）'!E102 -> 349200
B103: 97 | D103: ='入力（福祉）'!D103 -> 289700 | E103: ='入力（福祉）'!E103 -> 349400
B104: 98 | D104: ='入力（福祉）'!D104 -> 290000 | E104: ='入力（福祉）'!E104 -> 349700
B105: 99 | D105: ='入力（福祉）'!D105 -> 290300 | E105: ='入力（福祉）'!E105 -> 350000
B106: 100 | D106: ='入力（福祉）'!D106 -> 290600 | E106: ='入力（福祉）'!E106 -> 350300
B107: 101 | D107: ='入力（福祉）'!D107 -> 290900 | E107: ='入力（福祉）'!E107 -> 350700
B108: 102 | D108: ='入力（福祉）'!D108 -> 291200 | E108: ='入力（福祉）'!E108 -> 350900
B109: 103 | D109: ='入力（福祉）'!D109 -> 291500 | E109: ='入力（福祉）'!E109 -> 351200
B110: 104 | D110: ='入力（福祉）'!D110 -> 291800 | E110: ='入力（福祉）'!E110 -> 351600
B111: 105 | D111: ='入力（福祉）'!D111 -> 292000 | E111: ='入力（福祉）'!E111 -> 352000
... B127: 121 | D127: ='入力（福祉）'!D127 -> 296500 | E127: ='入力（福祉）'!E127 -> 0
B128: 122 | D128: ='入力（福祉）'!D128 -> 296700
B129: 123 | D129: ='入力（福祉）'!D129 -> 297100
B130: 124 | D130: ='入力（福祉）'!D130 -> 297400
B131: 125 | D131: ='入力（福祉）'!D131 -> 297600
B132: 126 | D132: ='入力（福祉）'!D132 -> 297900
B133: 127 | D133: ='入力（福祉）'!D133 -> 298200
B134: 128 | D134: ='入力（福祉）'!D134 -> 298600
B135: 129 | D135: ='入力（福祉）'!D135 -> 298800
B136: 130 | D136: ='入力（福祉）'!D136 -> 299200
B137: 131 | D137: ='入力（福祉）'!D137 -> 299600
B138: 132 | D138: ='入力（福祉）'!D138 -> 299900
B139: 133 | D139: ='入力（福祉）'!D139 -> 300100
... B159: 153 | D159: ='入力（福祉）'!D159 -> 305500
A160: 定年前再任用短時間勤務職員 | D160: 基 準 給料月額 | E160: 基 準 給料月額 | F160: 基 準 給料月額 | G160: 基 準 給料月額 | H160: 基 準 給料月額 | I160: 基 準 給料月額
D161: 円 | E161: 円 | F161: 円 | G161: 円 | H161: 円 | I161: 円
D162: ='入力（福祉）'!D162 -> 233900 | E162: ='入力（福祉）'!E162 -> 276700 | F162: ='入力（福祉）'!F162 -> 292500 | G162: ='入力（福祉）'!G162 -> 330100 | H162: ='入力（福祉）'!H162 -> 359500 | I162: ='入力（福祉）'!I162 -> 405400
A164: 備考 | B164: この表は、児童福祉施設等で人事委員会が指定するものに勤務し、本務として入所者の指導、保育等の業務に従事する職員で人事委員会規則で定めるものに適用する。

Sheet 高校
A2: 高 等 学 校 等 教 育 職 給 料 表
A4: 学校職員の区分 | C4: 職務 の級 | D4: 1 | E4: 2 | F4: 3 | G4: 4
B5: 号給 | D5: 給料月額 | E5: 給料月額 | F5: 給料月額 | G5: 給料月額
A6: 定年前再任用短時間勤務学校職員以外の学校職員 | D6: 円 | E6: 円 | F6: 円 | G6: 円
B7: 1 | D7: ='入力（旧教二）'!D7 -> 223000 | E7: ='入力（旧教二）'!E7 -> 270400 | F7: ='入力（旧教二）'!H7 -> 403000 | G7: ='入力（旧教二）'!I7 -> 479200
B8: 2 | D8: ='入力（旧教二）'!D8 -> 225400 | E8: ='入力（旧教二）'!E8 -> 271800 | F8: ='入力（旧教二）'!H8 -> 404500 | G8: ='入力（旧教二）'!I8 -> 481000
B9: 3 | D9: ='入力（旧教二）'!D9 -> 227800 | E9: ='入力（旧教二）'!E9 -> 273200 | F9: ='入力（旧教二）'!H9 -> 406000 | G9: ='入力（旧教二）'!I9 -> 482800
B10: 4 | D10: ='入力（旧教二）'!D10 -> 230100 | E10: ='入力（旧教二）'!E10 -> 274600 | F10: ='入力（旧教二）'!H10 -> 407500 | G10: ='入力（旧教二）'!I10 -> 484600
B11: 5 | D11: ='入力（旧教二）'!D11 -> 232300 | E11: ='入力（旧教二）'!E11 -> 276000 | F11: ='入力（旧教二）'!H11 -> 409000 | G11: ='入力（旧教二）'!I11 -> 486300
B12: 6 | D12: ='入力（旧教二）'!D12 -> 234700 | E12: ='入力（旧教二）'!E12 -> 277200 | F12: ='入力（旧教二）'!H12 -> 410400 | G12: ='入力（旧教二）'!I12 -> 488000
B13: 7 | D13: ='入力（旧教二）'!D13 -> 236900 | E13: ='入力（旧教二）'!E13 -> 278400 | F13: ='入力（旧教二）'!H13 -> 411900 | G13: ='入力（旧教二）'!I13 -> 489900
B14: 8 | D14: ='入力（旧教二）'!D14 -> 239100 | E14: ='入力（旧教二）'!E14 -> 279600 | F14: ='入力（旧教二）'!H14 -> 413300 | G14: ='入力（旧教二）'!I14 -> 491700
B15: 9 | D15: ='入力（旧教二）'!D15 -> 241300 | E15: ='入力（旧教二）'!E15 -> 280900 | F15: ='入力（旧教二）'!H15 -> 414600 | G15: ='入力（旧教二）'!I15 -> 493400
B16: 10 | D16: ='入力（旧教二）'!D16 -> 243500 | E16: ='入力（旧教二）'!E16 -> 282000 | F16: ='入力（旧教二）'!H16 -> 416000 | G16: ='入力（旧教二）'!I16 -> 495000
B17: 11 | D17: ='入力（旧教二）'!D17 -> 245700 | E17: ='入力（旧教二）'!E17 -> 283100 | F17: ='入力（旧教二）'!H17 -> 417500 | G17: ='入力（旧教二）'!I17 -> 496700
B18: 12 | D18: ='入力（旧教二）'!D18 -> 248000 | E18: ='入力（旧教二）'!E18 -> 284300 | F18: ='入力（旧教二）'!H18 -> 419000 | G18: ='入力（旧教二）'!I18 -> 498200
... B27: 21 | D27: ='入力（旧教二）'!D27 -> 265500 | E27: ='入力（旧教二）'!E27 -> 301100 | F27: ='入力（旧教二）'!H27 -> 432100 | G27: ='入力（旧教二）'!I27 -> 507400
B28: 22 | D28: ='入力（旧教二）'!D28 -> 266800 | E28: ='入力（旧教二）'!E28 -> 303300 | F28: ='入力（旧教二）'!H28 -> 433500 | G28: =G27+G24-G23 -> 508000
B29: 23 | D29: ='入力（旧教二）'!D29 -> 268100 | E29: ='入力（旧教二）'!E29 -> 305600 | F29: ='入力（旧教二）'!H29 -> 434900 | G29: =G28+G25-G24 -> 508600
B30: 24 | D30: ='入力（旧教二）'!D30 -> 269300 | E30: ='入力（旧教二）'!E30 -> 307800 | F30: ='入力（旧教二）'!H30 -> 436200 | G30: =G29+G26-G25 -> 509300
B31: 25 | D31: ='入力（旧教二）'!D31 -> 270500 | E31: ='入力（旧教二）'!E31 -> 309900 | F31: ='入力（旧教二）'!H31 -> 437800 | G31: =G30+G27-G26 -> 509900
B32: 26 | D32: ='入力（旧教二）'!D32 -> 271700 | E32: ='入力（旧教二）'!E32 -> 311800 | F32: ='入力（旧教二）'!H32 -> 439200
B33: 27 | D33: ='入力（旧教二）'!D33 -> 272900 | E33: ='入力（旧教二）'!E33 -> 313700 | F33: ='入力（旧教二）'!H33 -> 440500
B34: 28 | D34: ='入力（旧教二）'!D34 -> 274100 | E34: ='入力（旧教二）'!E34 -> 315500 | F34: ='入力（旧教二）'!H34 -> 441900
B35: 29 | D35: ='入力（旧教二）'!D35 -> 275200 | E35: ='入力（旧教二）'!E35 -> 317400 | F35: ='入力（旧教二）'!H35 -> 443300
B36: 30 | D36: ='入力（旧教二）'!D36 -> 276200 | E36: ='入力（旧教二）'!E36 -> 319300 | F36: ='入力（旧教二）'!H36 -> 444600
B37: 31 | D37: ='入力（旧教二）'!D37 -> 277300 | E37: ='入力（旧教二）'!E37 -> 321100 | F37: ='入力（旧教二）'!H37 -> 446100
B38: 32 | D38: ='入力（旧教二）'!D38 -> 278300 | E38: ='入力（旧教二）'!E38 -> 322800 | F38: ='入力（旧教二）'!H38 -> 447600
B39: 33 | D39: ='入力（旧教二）'!D39 -> 279400 | E39: ='入力（旧教二）'!E39 -> 324500 | F39: ='入力（旧教二）'!H39 -> 449200
B40: 34 | D40: ='入力（旧教二）'!D40 -> 280500 | E40: ='入力（旧教二）'!E40 -> 326300 | F40: ='入力（旧教二）'!H40 -> 450600
B41: 35 | D41: ='入力（旧教二）'!D41 -> 281700 | E41: ='入力（旧教二）'!E41 -> 328000 | F41: ='入力（旧教二）'!H41 -> 452200
B42: 36 | D42: ='入力（旧教二）'!D42 -> 283000 | E42: ='入力（旧教二）'!E42 -> 329700 | F42: ='入力（旧教二）'!H42 -> 453700
B43: 37 | D43: ='入力（旧教二）'!D43 -> 284200 | E43: ='入力（旧教二）'!E43 -> 331400 | F43: ='入力（旧教二）'!H43 -> 455400
... B67: 61 | D67: ='入力（旧教二）'!D67 -> 304500 | E67: ='入力（旧教二）'!E67 -> 371600 | F67: ='入力（旧教二）'!H67 -> 483100
B68: 62 | D68: ='入力（旧教二）'!D68 -> 305100 | E68: ='入力（旧教二）'!E68 -> 373200 | F68: =F67+F64-F63 -> 483700
