Workbook

Sheet 入力方法等
B3: R8本県給料表と国の俸給表等の対応関係
B5: 本県の給料表 | C5: 国の俸給表 | D5: 全人連モデル給料表 | E5: 備考
B6: 行政職給料表 | C6: 行政職俸給表（一） | E6: ８級・９級で県独自分割
B7: 公安職給料表 | C7: 公安職俸給表（一） | E7: ５級独自増設、９級で県独自分割
B8: 研究職給料表 | C8: 研究職俸給表 | E8: ４、５級で一部独自
B9: 医療職給料表（一） | C9: 医療職俸給表（一） | E9: ５級独自分割
B10: 医療職給料表（二） | C10: 医療職俸給表（二） | E10: 特５級本県独自、６級独自増設
B11: 医療職給料表（三） | C11: 医療職俸給表（三） | E11: 特５級本県独自
B12: 大学学長職給料表 | C12: 指定職俸給表 | E12: 【H30削除】
B13: 大学教育職給料表 | D13: 旧教育職俸給表（一） | E13: 再任用なし【H30削除】
B14: 福祉職給料表 | C14: 福祉職俸給表
B15: 高等学校等教育職給料表 | D15: 旧教育職俸給表（二） | E15: ２、３、４級独自増設
B16: 小学校中学校教育職給料表 | D16: 旧教育職俸給表（三） | E16: ２、３、４級独自増設
B17: 栄養職給料表 | E17: 本県医（二）／特５級まで
B18: 事務職給料表 | E18: 本県行政／７級まで
B19: 任期付き等 | C19: 任期付き等
B21: ※本県独自部分の作成については、「給料表の作成方法（構造）」を参照のこと。
B24: 当ファイルの構成
B26: 入力シート・・「入力（行一）」、「入力（公一）」、「入力（研究）」などのシート
B27: 国の俸給表及び全人連モデル給料表を入力（コピペ）するシート
B29: 計算式シート・・「行政」、「公安」、「研究」などのシート
B30: 計算式により本県の給料表を表示するシート
B33: 当ファイルの作成方法
B35: １ 国の俸給表をコピペする。
B36: 該当する国の俸給表のシートを該当する入力シートにコピペする。
B37: コピーの際には、該当シートを『全選択』してコピーする。
B38: あるいは、俸給表内の黄色セル部分のみコピーするのでも良い。
B39: 貼り付けは、そのまま貼り付けて構わない（すべて貼り付け）。
... B69: 一つの俸給表のコピペに10～20回コピペをしていた。

Sheet 入力（行一）
A1: 別記第１
A2: 行 政 職 俸 給 表
A3: イ 行政職俸給表(一)
A4: 職員の区分 | C4: 職務 の級 | D4: 1 | E4: 2 | F4: 3 | G4: 4 | H4: 5 | I4: 6 | J4: 7 | K4: 8 | L4: 9 | M4: 10
B5: 号俸 | D5: 俸給月額 | E5: 俸給月額 | F5: 俸給月額 | G5: 俸給月額 | H5: 俸給月額 | I5: 俸給月額 | J5: 俸給月額 | K5: 俸給月額 | L5: 俸給月額 | M5: 俸給月額
A6: 定年前再任用短時間勤務職員以外の職員 | D6: 円 | E6: 円 | F6: 円 | G6: 円 | H6: 円 | I6: 円 | J6: 円 | K6: 円 | L6: 円 | M6: 円
B7: 1 | D7: 205300 | E7: 251500 | F7: 286200 | G7: 320700 | H7: 344400 | I7: 379500 | J7: 434300 | K7: 486700 | L7: 541700 | M7: 584700
B8: 2 | D8: 206400 | E8: 252800 | F8: 287200 | G8: 322200 | H8: 346200 | I8: 381200 | J8: 436200 | K8: 492000 | L8: 548400 | M8: 591700
B9: 3 | D9: 207600 | E9: 254200 | F9: 288200 | G9: 323600 | H9: 348000 | I9: 382800 | J9: 438100 | K9: 496900 | L9: 553500 | M9: 597600
B10: 4 | D10: 208700 | E10: 255600 | F10: 289200 | G10: 325000 | H10: 349800 | I10: 384400 | J10: 439900 | K10: 501500 | L10: 557700 | M10: 602400
B11: 5 | D11: 209800 | E11: 257000 | F11: 290200 | G11: 326400 | H11: 351500 | I11: 386000 | J11: 441800 | K11: 505500 | L11: 561100 | M11: 606400
B12: 6 | D12: 211500 | E12: 258400 | F12: 291200 | G12: 327600 | H12: 353300 | I12: 387800 | J12: 443600 | K12: 508900 | L12: 564300 | M12: 609300
B13: 7 | D13: 213100 | E13: 259800 | F13: 292200 | G13: 328700 | H13: 355100 | I13: 389300 | J13: 445400 | K13: 511800 | L13: 567200 | M13: 611700
B14: 8 | D14: 214700 | E14: 261200 | F14: 293200 | G14: 329900 | H14: 356700 | I14: 390900 | J14: 447200 | K14: 514300 | L14: 569700 | M14: 613600
B15: 9 | D15: 216200 | E15: 262600 | F15: 294200 | G15: 331200 | H15: 358300 | I15: 392200 | J15: 448800 | K15: 516300 | L15: 571700
B16: 10 | D16: 217900 | E16: 263800 | F16: 295300 | G16: 332800 | H16: 360000 | I16: 393800 | J16: 450300
B17: 11 | D17: 219500 | E17: 265100 | F17: 296300 | G17: 334500 | H17: 361700 | I17: 395400 | J17: 451800
B18: 12 | D18: 221100 | E18: 266400 | F18: 297300 | G18: 336100 | H18: 363400 | I18: 396900 | J18: 453300
B19: 13 | D19: 222600 | E19: 267600 | F19: 298300 | G19: 337600 | H19: 364900 | I19: 398800 | J19: 454800
B20: 14 | D20: 224300 | E20: 268800 | F20: 299600 | G20: 339200 | H20: 366500 | I20: 400700 | J20: 456100
B21: 15 | D21: 226000 | E21: 270100 | F21: 300900 | G21: 340900 | H21: 368100 | I21: 402600 | J21: 457400
B22: 16 | D22: 227700 | E22: 271300 | F22: 302100 | G22: 342500 | H22: 369600 | I22: 404400 | J22: 458600
B23: 17 | D23: 228900 | E23: 272400 | F23: 303400 | G23: 344000 | H23: 370900 | I23: 405900 | J23: 459800
B24: 18 | D24: 230500 | E24: 273500 | F24: 304700 | G24: 345700 | H24: 372600 | I24: 407700 | J24: 461100
B25: 19 | D25: 232100 | E25: 274600 | F25: 306000 | G25: 347400 | H25: 374200 | I25: 409400 | J25: 462400
B26: 20 | D26: 233600 | E26: 275700 | F26: 307200 | G26: 349000 | H26: 375800 | I26: 411000 | J26: 463600
B27: 21 | D27: 235100 | E27: 276600 | F27: 308300 | G27: 350400 | H27: 376900 | I27: 412700 | J27: 464800
... B51: 45 | D51: 261100 | E51: 295900 | F51: 337500 | G51: 386000 | H51: 404700 | I51: 432500 | J51: 476700
B52: 46 | D52: 261700 | E52: 296600 | F52: 338700 | G52: 387100 | H52: 405400 | I52: 432800
B53: 47 | D53: 262300 | E53: 297300 | F53: 339900 | G53: 388000 | H53: 406100 | I53: 433100
B54: 48 | D54: 262900 | E54: 297900 | F54: 341200 | G54: 389000 | H54: 406800 | I54: 433400
B55: 49 | D55: 263400 | E55: 298600 | F55: 342300 | G55: 389900 | H55: 407300 | I55: 433600
B56: 50 | D56: 264000 | E56: 299300 | F56: 343500 | G56: 390600 | H56: 407900 | I56: 433900
B57: 51 | D57: 264600 | E57: 300000 | F57: 344700 | G57: 391300 | H57: 408500 | I57: 434100
B58: 52 | D58: 265100 | E58: 300700 | F58: 345900 | G58: 391900 | H58: 409200 | I58: 434400
B59: 53 | D59: 265500 | E59: 301200 | F59: 347200 | G59: 392300 | H59: 409600 | I59: 434600
B60: 54 | D60: 265900 | E60: 301900 | F60: 348200 | G60: 392900 | H60: 410200 | I60: 434900
B61: 55 | D61: 266200 | E61: 302500 | F61: 349300 | G61: 393500 | H61: 410800 | I61: 435200
B62: 56 | D62: 266500 | E62: 303200 | F62: 350400 | G62: 394200 | H62: 411300 | I62: 435500
B63: 57 | D63: 266800 | E63: 303800 | F63: 351100 | G63: 394500 | H63: 411700 | I63: 435700
...

Sheet 入力（公一）
A2: 公 安 職 俸 給 表
A3: イ 公安職俸給表(一)
A4: 職員の区分 | C4: 職務 の級 | D4: 1 | E4: 2 | F4: 3 | G4: 4 | H4: 5 | I4: 6 | J4: 7 | K4: 8 | L4: 9 | M4: 10 | N4: 11
B5: 号俸 | D5: 俸給月額 | E5: 俸給月額 | F5: 俸給月額 | G5: 俸給月額 | H5: 俸給月額 | I5: 俸給月額 | J5: 俸給月額 | K5: 俸給月額 | L5: 俸給月額 | M5: 俸給月額 | N5: 俸給月額
A6: 定年前再任用短時間勤務職員以外の職員 | D6: 円 | E6: 円 | F6: 円 | G6: 円 | H6: 円 | I6: 円 | J6: 円 | K6: 円 | L6: 円 | M6: 円 | N6: 円
B7: 1 | D7: 236300 | E7: 257600 | F7: 280600 | G7: 319500 | H7: 356200 | I7: 378600 | J7: 410400 | K7: 447100 | L7: 494900 | M7: 541700 | N7: 584700
B8: 2 | D8: 238800 | E8: 259800 | F8: 282500 | G8: 320500 | H8: 357700 | I8: 380400 | J8: 412100 | K8: 448700 | L8: 500900 | M8: 548400 | N8: 591700
B9: 3 | D9: 241200 | E9: 262000 | F9: 284600 | G9: 321400 | H9: 359100 | I9: 382100 | J9: 413700 | K9: 450200 | L9: 505800 | M9: 553500 | N9: 597600
B10: 4 | D10: 243600 | E10: 264200 | F10: 286700 | G10: 322300 | H10: 360600 | I10: 383800 | J10: 415400 | K10: 451700 | L10: 510000 | M10: 557700 | N10: 602400
B11: 5 | D11: 245900 | E11: 266400 | F11: 288700 | G11: 322900 | H11: 362100 | I11: 385400 | J11: 416900 | K11: 453200 | L11: 514000 | M11: 561100 | N11: 606400
B12: 6 | D12: 248300 | E12: 268400 | F12: 290000 | G12: 323600 | H12: 363600 | I12: 387100 | J12: 418500 | K12: 454800 | L12: 517400 | M12: 564300 | N12: 609300
B13: 7 | D13: 250700 | E13: 270400 | F13: 291300 | G13: 324200 | H13: 365000 | I13: 388800 | J13: 420100 | K13: 456200 | L13: 520300 | M13: 567200 | N13: 611700
B14: 8 | D14: 252900 | E14: 272200 | F14: 292600 | G14: 324900 | H14: 366400 | I14: 390400 | J14: 421700 | K14: 457600 | L14: 522800 | M14: 569700 | N14: 613600
B15: 9 | D15: 255100 | E15: 274000 | F15: 293900 | G15: 325500 | H15: 367800 | I15: 391900 | J15: 423200 | K15: 458700 | L15: 525000 | M15: 571700
B16: 10 | D16: 257200 | E16: 275700 | F16: 295200 | G16: 326200 | H16: 369400 | I16: 393500 | J16: 424800 | K16: 460100
B17: 11 | D17: 259300 | E17: 277400 | F17: 296400 | G17: 326900 | H17: 371100 | I17: 395100 | J17: 426400 | K17: 461600
B18: 12 | D18: 261300 | E18: 278800 | F18: 297600 | G18: 327500 | H18: 372700 | I18: 396700 | J18: 428000 | K18: 463100
B19: 13 | D19: 263200 | E19: 280200 | F19: 298800 | G19: 328200 | H19: 374100 | I19: 398300 | J19: 429500 | K19: 464400
B20: 14 | D20: 265200 | E20: 282000 | F20: 299800 | G20: 328900 | H20: 375700 | I20: 399900 | J20: 431500 | K20: 466100
B21: 15 | D21: 267200 | E21: 283300 | F21: 300800 | G21: 329500 | H21: 377300 | I21: 401500 | J21: 433500 | K21: 467700
B22: 16 | D22: 268800 | E22: 284700 | F22: 302200 | G22: 330300 | H22: 378800 | I22: 403100 | J22: 435500 | K22: 469300
B23: 17 | D23: 270400 | E23: 286100 | F23: 303300 | G23: 331000 | H23: 380400 | I23: 404600 | J23: 437000 | K23: 470700
B24: 18 | D24: 271900 | E24: 287300 | F24: 304400 | G24: 331800 | H24: 382000 | I24: 406200 | J24: 438700 | K24: 472400
B25: 19 | D25: 273400 | E25: 288500 | F25: 305500 | G25: 332800 | H25: 383600 | I25: 407800 | J25: 440300 | K25: 474100
B26: 20 | D26: 274900 | E26: 289600 | F26: 306600 | G26: 333600 | H26: 385100 | I26: 409400 | J26: 442000 | K26: 475700
B27: 21 | D27: 276400 | E27: 290900 | F27: 307800 | G27: 334500 | H27: 386600 | I27: 410900 | J27: 443600 | K27: 477100
... B51: 45 | D51: 303000 | E51: 310900 | F51: 320800 | G51: 363500 | H51: 423400 | I51: 441300 | J51: 464900 | K51: 487400
B52: 46 | D52: 303500 | E52: 311400 | F52: 321600 | G52: 364800 | H52: 424500 | I52: 442000 | J52: 465200
B53: 47 | D53: 304000 | E53: 311900 | F53: 322400 | G53: 366000 | H53: 425600 | I53: 442700 | J53: 465500
B54: 48 | D54: 304500 | E54: 312400 | F54: 323100 | G54: 367200 | H54: 426700 | I54: 443300 | J54: 465700
B55: 49 | D55: 304900 | E55: 312900 | F55: 323900 | G55: 368500 | H55: 428000 | I55: 444000 | J55: 466000
B56: 50 | D56: 305400 | E56: 313400 | F56: 324900 | G56: 369800 | H56: 428800 | I56: 444400 | J56: 466300
B57: 51 | D57: 305900 | E57: 314000 | F57: 325900 | G57: 371000 | H57: 429600 | I57: 445000 | J57: 466600
B58: 52 | D58: 306400 | E58: 314500 | F58: 326900 | G58: 372300 | H58: 430200 | I58: 445600 | J58: 466900
B59: 53 | D59: 306900 | E59: 315100 | F59: 328000 | G59: 373200 | H59: 430700 | I59: 446000 | J59: 467100
B60: 54 | D60: 307500 | E60: 315700 | F60: 329100 | G60: 374500 | H60: 431400 | I60: 446400 | J60: 467400
B61: 55 | D61: 307900 | E61: 316400 | F61: 330100 | G61: 375700 | H61: 432000 | I61: 446900 | J61: 467600
B62: 56 | D62: 308300 | E62: 317000 | F62: 331100 | G62: 376900 | H62: 432700 | I62: 447400 | J62: 467900
B63: 57 | D63: 308800 | E63: 317600 | F63: 332200 | G63: 378000 | H63: 433000 | I63: 447900 | J63: 468100
... B79: 73 | D79: 316100 | E79: 330700 | F79: 349500 | G79: 399100 | H79: 441100 | I79: 452700 | J79: 472400
...

Sheet 入力（研究）
A2: 研 究 職 俸 給 表
A4: 職員の区分 | C4: 職務 の級 | D4: 1 | E4: 2 | F4: 3 | G4: 4 | H4: 5 | I4: 6
B5: 号俸 | D5: 俸給月額 | E5: 俸給月額 | F5: 俸給月額 | G5: 俸給月額 | H5: 俸給月額 | I5: 俸給月額
A6: 定年前再任用短時間勤務職員以外の職員 | D6: 円 | E6: 円 | F6: 円 | G6: 円 | H6: 円 | I6: 円
B7: 1 | D7: 205800 | E7: 257000 | F7: 350800 | G7: 402100 | H7: 476600 | I7: 586600
B8: 2 | D8: 206900 | E8: 261300 | F8: 352800 | G8: 403500 | H8: 486800 | I8: 593500
B9: 3 | D9: 208100 | E9: 264100 | F9: 354800 | G9: 404900 | H9: 496500 | I9: 598600
B10: 4 | D10: 209200 | E10: 266900 | F10: 356700 | G10: 406300 | H10: 506400 | I10: 602900
B11: 5 | D11: 210300 | E11: 269500 | F11: 358700 | G11: 407700 | H11: 516300 | I11: 606800
B12: 6 | D12: 212500 | E12: 271300 | F12: 360700 | G12: 409100 | H12: 526300 | I12: 609800
B13: 7 | D13: 214600 | E13: 272800 | F13: 362700 | G13: 410400 | H13: 535000 | I13: 611900
B14: 8 | D14: 216700 | E14: 274300 | F14: 364600 | G14: 411800 | H14: 542900 | I14: 613900
B15: 9 | D15: 218800 | E15: 275800 | F15: 366500 | G15: 413200 | H15: 550700
B16: 10 | D16: 220900 | E16: 277800 | F16: 368100 | G16: 414700 | H16: 557800
B17: 11 | D17: 222900 | E17: 279800 | F17: 369700 | G17: 416100 | H17: 563100
B18: 12 | D18: 224900 | E18: 281700 | F18: 371300 | G18: 417500 | H18: 567600
B19: 13 | D19: 226900 | E19: 283700 | F19: 372900 | G19: 418700 | H19: 570600
B20: 14 | D20: 228800 | E20: 285900 | F20: 374000 | G20: 420200 | H20: 572600
B21: 15 | D21: 230700 | E21: 288100 | F21: 375000 | G21: 421700
B22: 16 | D22: 232500 | E22: 290300 | F22: 376000 | G22: 423200
B23: 17 | D23: 234200 | E23: 292500 | F23: 377300 | G23: 424700
B24: 18 | D24: 236000 | E24: 294800 | F24: 378500 | G24: 426300
B25: 19 | D25: 237800 | E25: 297200 | F25: 379700 | G25: 427900
B26: 20 | D26: 239600 | E26: 299600 | F26: 380900 | G26: 429600
B27: 21 | D27: 241500 | E27: 301900 | F27: 382100 | G27: 430800
B28: 22 | D28: 243300 | E28: 304100 | F28: 383300 | G28: 432200
B29: 23 | D29: 245000 | E29: 306200 | F29: 384400 | G29: 433600
B30: 24 | D30: 246700 | E30: 308300 | F30: 385400 | G30: 434900
B31: 25 | D31: 248400 | E31: 310400 | F31: 386500 | G31: 436200
B32: 26 | D32: 250500 | E32: 312300 | F32: 387500 | G32: 437500
... B63: 57 | D63: 291500 | E63: 340300 | F63: 411800 | G63: 471100
B64: 58 | D64: 292200 | E64: 340600 | F64: 412600
B65: 59 | D65: 292700 | E65: 341000 | F65: 413300
B66: 60 | D66: 293300 | E66: 341400 | F66: 414000
B67: 61 | D67: 293900 | E67: 341800 | F67: 414600
B68: 62 | D68: 294500 | E68: 342300 | F68: 415300
B69: 63 | D69: 295100 | E69: 342900 | F69: 415900
B70: 64 | D70: 295700 | E70: 343400 | F70: 416600
B71: 65 | D71: 296300 | E71: 343800 | F71: 417300
B72: 66 | D72: 296800 | E72: 344400 | F72: 417900
...

Sheet 入力（医一）
A2: 医 療 職 俸 給 表
A3: イ 医療職俸給表(一)
A4: 職員の区分 | C4: 職務 の級 | D4: 1 | E4: 2 | F4: 3 | G4: 4 | H4: 5
B5: 号俸 | D5: 俸給月額 | E5: 俸給月額 | F5: 俸給月額 | G5: 俸給月額 | H5: 俸給月額
A6: 定年前再任用短時間勤務職員以外の職員 | D6: 円 | E6: 円 | F6: 円 | G6: 円 | H6: 円
B7: 1 | D7: 317300 | E7: 430100 | F7: 486900 | G7: 584000 | H7: 632700
B8: 2 | D8: 319700 | E8: 432800 | F8: 488900 | G8: 590100 | H8: 638500
B9: 3 | D9: 322000 | E9: 435500 | F9: 490800 | G9: 595200 | H9: 643500
B10: 4 | D10: 324200 | E10: 438100 | F10: 492700 | G10: 599900 | H10: 647800
B11: 5 | D11: 326400 | E11: 440600 | F11: 494200 | G11: 604200 | H11: 651800
B12: 6 | D12: 329900 | E12: 442800 | F12: 495900 | G12: 608500 | H12: 655200
B13: 7 | D13: 333400 | E13: 444800 | F13: 497700 | G13: 611900 | H13: 658100
B14: 8 | D14: 336900 | E14: 446900 | F14: 499500 | G14: 614800 | H14: 660800
B15: 9 | D15: 340500 | E15: 449000 | F15: 501300 | G15: 617300
B16: 10 | D16: 344000 | E16: 450600 | F16: 503000 | G16: 619600
B17: 11 | D17: 347500 | E17: 452200 | F17: 504800
B18: 12 | D18: 351000 | E18: 453800 | F18: 506600
B19: 13 | D19: 354500 | E19: 455400 | F19: 508400
B20: 14 | D20: 358000 | E20: 456900 | F20: 510100
B21: 15 | D21: 361500 | E21: 458400 | F21: 511900
B22: 16 | D22: 365000 | E22: 459800 | F22: 513700
B23: 17 | D23: 368400 | E23: 461200 | F23: 515500
B24: 18 | D24: 371600 | E24: 462700 | F24: 517400
B25: 19 | D25: 374900 | E25: 464200 | F25: 519300
B26: 20 | D26: 378100 | E26: 465600 | F26: 521200
B27: 21 | D27: 381400 | E27: 466900 | F27: 523100
B28: 22 | D28: 384700 | E28: 468400 | F28: 524800
... B71: 65 | D71: 433000 | E71: 511900 | F71: 572700
B72: 66 | E72: 512500 | F72: 573600
B73: 67 | E73: 513100 | F73: 574500
B74: 68 | E74: 513600 | F74: 575400
B75: 69 | E75: 514100 | F75: 576200
B76: 70 | E76: 514600 | F76: 577100
B77: 71 | E77: 515100 | F77: 578000
B78: 72 | E78: 515600 | F78: 578900
B79: 73 | E79: 516000 | F79: 579700
B80: 74 | E80: 516500
B81: 75 | E81: 516900
B82: 76 | E82: 517300
B83: 77 | E83: 517800
...

Sheet 入力（医二）
A3: ロ 医療職俸給表(二)
A4: 職員の区分 | C4: 職務 の級 | D4: 1 | E4: 2 | F4: 3 | G4: 4 | H4: 5 | I4: 6 | J4: 7 | K4: 8
B5: 号俸 | D5: 俸給月額 | E5: 俸給月額 | F5: 俸給月額 | G5: 俸給月額 | H5: 俸給月額 | I5: 俸給月額 | J5: 俸給月額 | K5: 俸給月額
A6: 定年前再任用短時間勤務職員以外の職員 | D6: 円 | E6: 円 | F6: 円 | G6: 円 | H6: 円 | I6: 円 | J6: 円 | K6: 円
B7: 1 | D7: 210500 | E7: 249600 | F7: 284500 | G7: 303700 | H7: 337600 | I7: 385000 | J7: 440600 | K7: 507500
B8: 2 | D8: 212700 | E8: 250900 | F8: 285300 | G8: 304500 | H8: 339100 | I8: 386700 | J8: 442600 | K8: 508900
B9: 3 | D9: 214800 | E9: 252200 | F9: 286000 | G9: 305200 | H9: 340600 | I9: 388300 | J9: 444600 | K9: 510200
B10: 4 | D10: 216900 | E10: 253500 | F10: 286800 | G10: 305900 | H10: 342000 | I10: 389900 | J10: 446500 | K10: 511500
B11: 5 | D11: 218900 | E11: 254700 | F11: 287600 | G11: 306700 | H11: 343500 | I11: 391400 | J11: 448300 | K11: 512800
B12: 6 | D12: 220900 | E12: 255800 | F12: 288400 | G12: 307400 | H12: 345100 | I12: 393000 | J12: 450000 | K12: 514200
B13: 7 | D13: 222900 | E13: 256800 | F13: 289200 | G13: 308100 | H13: 346700 | I13: 394600 | J13: 451600 | K13: 515600
B14: 8 | D14: 224800 | E14: 257700 | F14: 289900 | G14: 308800 | H14: 348200 | I14: 396200 | J14: 453100 | K14: 516800
B15: 9 | D15: 226600 | E15: 258800 | F15: 290600 | G15: 309600 | H15: 349700 | I15: 397800 | J15: 454600 | K15: 518200
B16: 10 | D16: 228500 | E16: 259900 | F16: 291400 | G16: 310300 | H16: 351300 | I16: 399800 | J16: 455900 | K16: 519500
B17: 11 | D17: 230400 | E17: 261000 | F17: 292200 | G17: 311100 | H17: 352900 | I17: 401800 | J17: 457200 | K17: 520900
B18: 12 | D18: 232500 | E18: 262200 | F18: 293000 | G18: 311700 | H18: 354400 | I18: 403800 | J18: 458500 | K18: 522300
... B27: 21 | D27: 246800 | E27: 272100 | F27: 300100 | G27: 321900 | H27: 368100 | I27: 417800 | J27: 469100 | K27: 531900
B28: 22 | D28: 247600 | E28: 273000 | F28: 301000 | G28: 323100 | H28: 369600 | I28: 419100 | J28: 469900
B29: 23 | D29: 248500 | E29: 273800 | F29: 301900 | G29: 324300 | H29: 371100 | I29: 420400 | J29: 470300
B30: 24 | D30: 249300 | E30: 274600 | F30: 302600 | G30: 325500 | H30: 372500 | I30: 421500 | J30: 471000
B31: 25 | D31: 250200 | E31: 275400 | F31: 303300 | G31: 326700 | H31: 373900 | I31: 422600 | J31: 471500
B32: 26 | D32: 251100 | E32: 276200 | F32: 304200 | G32: 327900 | H32: 375400 | I32: 423700 | J32: 471900
B33: 27 | D33: 252000 | E33: 277000 | F33: 305100 | G33: 329100 | H33: 376900 | I33: 424800 | J33: 472300
B34: 28 | D34: 252900 | E34: 277800 | F34: 305900 | G34: 330300 | H34: 378300 | I34: 425900 | J34: 472700
B35: 29 | D35: 253700 | E35: 278500 | F35: 306700 | G35: 331600 | H35: 379700 | I35: 426700 | J35: 473100
B36: 30 | D36: 254500 | E36: 279300 | F36: 307700 | G36: 332800 | H36: 381300 | I36: 427500 | J36: 473500
B37: 31 | D37: 255200 | E37: 280100 | F37: 308700 | G37: 334100 | H37: 382700 | I37: 428200 | J37: 473800
B38: 32 | D38: 256000 | E38: 280900 | F38: 309700 | G38: 335300 | H38: 384200 | I38: 429000 | J38: 474100
B39: 33 | D39: 256700 | E39: 281700 | F39: 310700 | G39: 336500 | H39: 385400 | I39: 429400 | J39: 474400
... B43: 37 | D43: 259300 | E43: 284800 | F43: 314800 | G43: 341300 | H43: 389800 | I43: 431300 | J43: 475600
B44: 38 | D44: 259900 | E44: 285600 | F44: 315900 | G44: 342500 | H44: 390600 | I44: 431500
B45: 39 | D45: 260500 | E45: 286400 | F45: 317000 | G45: 343700 | H45: 391500 | I45: 431800
B46: 40 | D46: 261000 | E46: 287100 | F46: 318000 | G46: 344800 | H46: 392600 | I46: 432100
B47: 41 | D47: 261500 | E47: 287800 | F47: 319000 | G47: 345700 | H47: 393600 | I47: 432400
B48: 42 | D48: 262100 | E48: 288600 | F48: 320200 | G48: 346900 | H48: 394600 | I48: 432700
B49: 43 | D49: 262700 | E49: 289400 | F49: 321400 | G49: 348000 | H49: 395600 | I49: 433000
B50: 44 | D50: 263200 | E50: 290100 | F50: 322500 | G50: 349100 | H50: 396500 | I50: 433300
B51: 45 | D51: 263600 | E51: 290800 | F51: 323500 | G51: 350000 | H51: 397300 | I51: 433500
B52: 46 | D52: 264200 | E52: 291600 | F52: 324600 | G52: 350900 | H52: 398100 | I52: 433800
B53: 47 | D53: 264600 | E53: 292400 | F53: 325700 | G53: 351900 | H53: 399000 | I53: 434100
...

Sheet 入力（医三）
A3: ハ 医療職俸給表(三)
A4: 職員の区分 | C4: 職務 の級 | D4: 1 | E4: 2 | F4: 3 | G4: 4 | H4: 5 | I4: 6 | J4: 7
B5: 号俸 | D5: 俸給月額 | E5: 俸給月額 | F5: 俸給月額 | G5: 俸給月額 | H5: 俸給月額 | I5: 俸給月額 | J5: 俸給月額
A6: 定年前再任用短時間勤務職員以外の職員 | D6: 円 | E6: 円 | F6: 円 | G6: 円 | H6: 円 | I6: 円 | J6: 円
B7: 1 | D7: 232500 | E7: 265700 | F7: 304700 | G7: 318200 | H7: 342300 | I7: 386200 | J7: 442400
B8: 2 | D8: 234400 | E8: 267800 | F8: 305200 | G8: 318700 | H8: 343300 | I8: 388000 | J8: 444600
B9: 3 | D9: 236200 | E9: 270000 | F9: 305700 | G9: 319200 | H9: 344300 | I9: 389700 | J9: 446800
B10: 4 | D10: 237900 | E10: 272200 | F10: 306200 | G10: 319700 | H10: 345300 | I10: 391500 | J10: 449000
B11: 5 | D11: 239600 | E11: 274400 | F11: 306600 | G11: 320200 | H11: 346400 | I11: 393400 | J11: 451000
B12: 6 | D12: 241500 | E12: 275400 | F12: 307100 | G12: 320700 | H12: 347600 | I12: 395400 | J12: 453000
B13: 7 | D13: 243400 | E13: 276200 | F13: 307600 | G13: 321300 | H13: 348800 | I13: 397500 | J13: 454800
B14: 8 | D14: 245100 | E14: 277100 | F14: 308000 | G14: 321700 | H14: 350000 | I14: 399600 | J14: 456700
B15: 9 | D15: 246800 | E15: 277900 | F15: 308400 | G15: 322200 | H15: 351000 | I15: 401300 | J15: 458400
B16: 10 | D16: 248700 | E16: 279000 | F16: 308900 | G16: 322700 | H16: 352200 | I16: 403400 | J16: 460000
B17: 11 | D17: 250600 | E17: 280100 | F17: 309400 | G17: 323300 | H17: 353400 | I17: 405500 | J17: 461800
B18: 12 | D18: 252500 | E18: 281000 | F18: 309900 | G18: 323800 | H18: 354500 | I18: 407500 | J18: 463400
... B47: 41 | D47: 285600 | E47: 302700 | F47: 327600 | G47: 350200 | H47: 390400 | I47: 452100 | J47: 493400
B48: 42 | D48: 286200 | E48: 303200 | F48: 328500 | G48: 351300 | H48: 391800 | I48: 453100
B49: 43 | D49: 286900 | E49: 303600 | F49: 329500 | G49: 352400 | H49: 393100 | I49: 454200
B50: 44 | D50: 287500 | E50: 304100 | F50: 330400 | G50: 353400 | H50: 394400 | I50: 455300
B51: 45 | D51: 288300 | E51: 304600 | F51: 331300 | G51: 354300 | H51: 395900 | I51: 456300
B52: 46 | D52: 289000 | E52: 305000 | F52: 332300 | G52: 355200 | H52: 397100 | I52: 456800
B53: 47 | D53: 289700 | E53: 305500 | F53: 333300 | G53: 356200 | H53: 398200 | I53: 457300
B54: 48 | D54: 290300 | E54: 305900 | F54: 334200 | G54: 357200 | H54: 399400 | I54: 457700
B55: 49 | D55: 290800 | E55: 306400 | F55: 335100 | G55: 358400 | H55: 400500 | I55: 458300
B56: 50 | D56: 291300 | E56: 306800 | F56: 336000 | G56: 359700 | H56: 401400 | I56: 458800
B57: 51 | D57: 291700 | E57: 307300 | F57: 337000 | G57: 360900 | H57: 402400 | I57: 459200
B58: 52 | D58: 292100 | E58: 307800 | F58: 338000 | G58: 362100 | H58: 403300 | I58: 459700
B59: 53 | D59: 292400 | E59: 308200 | F59: 338800 | G59: 363000 | H59: 403900 | I59: 460200
... B63: 57 | D63: 294100 | E63: 310000 | F63: 342500 | G63: 367600 | H63: 407000 | I63: 461600
B64: 58 | D64: 294500 | E64: 310700 | F64: 343400 | G64: 368500 | H64: 407700
B65: 59 | D65: 294800 | E65: 311400 | F65: 344400 | G65: 369600 | H65: 408400
B66: 60 | D66: 295100 | E66: 312100 | F66: 345300 | G66: 370800 | H66: 409000
B67: 61 | D67: 295500 | E67: 312800 | F67: 346200 | G67: 371900 | H67: 409600
B68: 62 | D68: 295900 | E68: 313700 | F68: 347300 | G68: 373100 | H68: 410200
B69: 63 | D69: 296300 | E69: 314600 | F69: 348500 | G69: 374300 | H69: 410900
B70: 64 | D70: 296600 | E70: 315300 | F70: 349700 | G70: 375300 | H70: 411500
B71: 65 | D71: 296900 | E71: 316000 | F71: 350400 | G71: 376300 | H71: 412200
B72: 66 | D72: 297300 | E72: 316900 | F72: 351500 | G72: 377300 | H72: 412700
B73: 67 | D73: 297700 | E73: 317700 | F73: 352600 | G73: 378400 | H73: 413300
...

Sheet 入力（福祉）
A2: 福 祉 職 俸 給 表
A4: 職員の区分 | C4: 職務 の級 | D4: 1 | E4: 2 | F4: 3 | G4: 4 | H4: 5 | I4: 6
B5: 号俸 | D5: 俸給月額 | E5: 俸給月額 | F5: 俸給月額 | G5: 俸給月額 | H5: 俸給月額 | I5: 俸給月額
A6: 定年前再任用短時間勤務職員以外の職員 | D6: 円 | E6: 円 | F6: 円 | G6: 円 | H6: 円 | I6: 円
B7: 1 | D7: 222800 | E7: 278000 | F7: 310200 | G7: 337000 | H7: 379500 | I7: 434300
B8: 2 | D8: 224500 | E8: 279400 | F8: 311100 | G8: 338700 | H8: 381200 | I8: 436200
B9: 3 | D9: 226100 | E9: 280700 | F9: 311900 | G9: 340300 | H9: 382800 | I9: 438100
B10: 4 | D10: 227800 | E10: 282000 | F10: 312900 | G10: 341800 | H10: 384400 | I10: 439900
B11: 5 | D11: 229300 | E11: 283400 | F11: 313800 | G11: 343200 | H11: 386000 | I11: 441800
B12: 6 | D12: 230900 | E12: 284400 | F12: 314700 | G12: 344600 | H12: 387800 | I12: 443600
B13: 7 | D13: 232500 | E13: 285400 | F13: 315600 | G13: 345900 | H13: 389300 | I13: 445400
B14: 8 | D14: 234100 | E14: 286400 | F14: 316400 | G14: 347300 | H14: 390900 | I14: 447200
B15: 9 | D15: 235700 | E15: 287300 | F15: 317200 | G15: 348700 | H15: 392200 | I15: 448800
B16: 10 | D16: 237500 | E16: 288200 | F16: 318200 | G16: 350300 | H16: 393800 | I16: 450300
B17: 11 | D17: 239300 | E17: 289200 | F17: 319400 | G17: 351800 | H17: 395400 | I17: 451800
B18: 12 | D18: 240300 | E18: 290100 | F18: 320500 | G18: 353300 | H18: 396900 | I18: 453300
... B51: 45 | D51: 271000 | E51: 319300 | F51: 354100 | G51: 399500 | H51: 432500 | I51: 476700
B52: 46 | D52: 271500 | E52: 320300 | F52: 354700 | G52: 400100 | H52: 432800
B53: 47 | D53: 272000 | E53: 321200 | F53: 355300 | G53: 400700 | H53: 433100
B54: 48 | D54: 272400 | E54: 322000 | F54: 355900 | G54: 401400 | H54: 433400
B55: 49 | D55: 272800 | E55: 322900 | F55: 356500 | G55: 402200 | H55: 433600
B56: 50 | D56: 273400 | E56: 323800 | F56: 357100 | G56: 402900 | H56: 433900
B57: 51 | D57: 273900 | E57: 324700 | F57: 357600 | G57: 403700 | H57: 434100
B58: 52 | D58: 274400 | E58: 325500 | F58: 358100 | G58: 404400 | H58: 434400
B59: 53 | D59: 274800 | E59: 326500 | F59: 358700 | G59: 405200 | H59: 434600
B60: 54 | D60: 275300 | E60: 327400 | F60: 359200 | G60: 405900 | H60: 434900
B61: 55 | D61: 275700 | E61: 328400 | F61: 359700 | G61: 406600 | H61: 435200
B62: 56 | D62: 276100 | E62: 329300 | F62: 360100 | G62: 407200 | H62: 435500
B63: 57 | D63: 276600 | E63: 330200 | F63: 360500 | G63: 407500 | H63: 435700
... B71: 65 | D71: 279500 | E71: 336900 | F71: 363500 | G71: 412100 | H71: 437700
B72: 66 | D72: 279900 | E72: 337700 | F72: 364000 | G72: 412600
B73: 67 | D73: 280200 | E73: 338400 | F73: 364400 | G73: 413200
B74: 68 | D74: 280500 | E74: 339100 | F74: 364900 | G74: 413700
B75: 69 | D75: 280900 | E75: 339600 | F75: 365100 | G75: 414100
B76: 70 | D76: 281200 | E76: 340100 | F76: 365600 | G76: 414600
B77: 71 | D77: 281500 | E77: 340600 | F77: 366000 | G77: 415100
B78: 72 | D78: 281900 | E78: 341000 | F78: 366400 | G78: 415600
B79: 73 | D79: 282300 | E79: 341400 | F79: 366700 | G79: 416100
B80: 74 | D80: 282600 | E80: 341900 | F80: 367100 | G80: 416500
B81: 75 | D81: 283000 | E81: 342400 | F81: 367600 | G81: 416800
...

Sheet 入力（任期付）
A1: 別記第２
D2: 第６条第１項の俸給表
D3: 号俸 | F3: 俸 給 月 額
F4: 円
D5: 1 | F5: 442000
D6: 2 | F6: 507000
D7: 3 | F7: 575000
D8: 4 | F8: 663000
D9: 5 | F9: 771000
D10: 6 | F10: 879000
D12: 第６条第２項の俸給表
D13: 号俸 | F13: 俸 給 月 額
F14: 円
D15: 1 | F15: 370000
D16: 2 | F16: 408000
D17: 3 | F17: 438000
A19: 別記第３
D21: 号俸 | F21: 俸 給 月 額
F22: 円
D23: 1 | F23: 419000
D24: 2 | F24: 470000
D25: 3 | F25: 525000
D26: 4 | F26: 593000
D27: 5 | F27: 677000
D28: 6 | F28: 790000
D29: 7 | F29: 923000

Sheet 入力（旧教二）
A1: 別紙 ２
A2: モデル給料表（令和８年４月官民較差に基づく改定）
A3: 旧教育職俸給表(二)
A4: 職員 の 区分 | C4: 職務 の級 | D4: 1 | E4: 2 | F4: ３ 級 | G4: ４ 級 | H4: ５ 級 | I4: ６ 級
B5: 号俸 | D5: 俸給月額 | E5: 俸給月額 | F5: 俸給月額 | G5: 俸給月額 | H5: 俸給月額 | I5: 俸給月額
D6: 円 | E6: 円 | F6: 円 | G6: 円 | H6: 円 | I6: 円
B7: 1 | D7: 223000 | E7: 270400 | F7: 323600 | G7: 344100 | H7: 403000 | I7: 479200
B8: 2 | D8: 225400 | E8: 271800 | F8: 325500 | G8: 346000 | H8: 404500 | I8: 481000
B9: 3 | D9: 227800 | E9: 273200 | F9: 327400 | G9: 347900 | H9: 406000 | I9: 482800
B10: 4 | D10: 230100 | E10: 274600 | F10: 329100 | G10: 349700 | H10: 407500 | I10: 484600
B11: 5 | D11: 232300 | E11: 276000 | F11: 330800 | G11: 351400 | H11: 409000 | I11: 486300
B12: 6 | D12: 234700 | E12: 277200 | F12: 332600 | G12: 353300 | H12: 410400 | I12: 488000
B13: 7 | D13: 236900 | E13: 278400 | F13: 334400 | G13: 355200 | H13: 411900 | I13: 489900
B14: 8 | D14: 239100 | E14: 279600 | F14: 336100 | G14: 357000 | H14: 413300 | I14: 491700
B15: 9 | D15: 241300 | E15: 280900 | F15: 337800 | G15: 358900 | H15: 414600 | I15: 493400
B16: 10 | D16: 243500 | E16: 282000 | F16: 339700 | G16: 360900 | H16: 416000 | I16: 495000
B17: 11 | D17: 245700 | E17: 283100 | F17: 341500 | G17: 362800 | H17: 417500 | I17: 496700
B18: 12 | D18: 248000 | E18: 284300 | F18: 343300 | G18: 364600 | H18: 419000 | I18: 498200
A19: 定年前再任用短時間勤務職員以外の職員 | B19: 13 | D19: 250200 | E19: 285600 | F19: 344800 | G19: 366400 | H19: 420300 | I19: 499700
B20: 14 | D20: 252300 | E20: 287300 | F20: 346700 | G20: 368100 | H20: 421800 | I20: 501000
B21: 15 | D21: 254400 | E21: 289000 | F21: 348600 | G21: 369700 | H21: 423300 | I21: 502400
B22: 16 | D22: 256500 | E22: 290700 | F22: 350300 | G22: 371300 | H22: 424800 | I22: 503700
B23: 17 | D23: 258600 | E23: 292400 | F23: 352000 | G23: 372900 | H23: 426200 | I23: 504900
B24: 18 | D24: 260400 | E24: 294400 | F24: 354200 | G24: 374300 | H24: 427800 | I24: 505500
B25: 19 | D25: 262100 | E25: 296600 | F25: 356000 | G25: 375600 | H25: 429400 | I25: 506100
B26: 20 | D26: 263800 | E26: 298900 | F26: 357700 | G26: 376800 | H26: 430900 | I26: 506800
B27: 21 | D27: 265500 | E27: 301100 | F27: 359400 | G27: 378200 | H27: 432100 | I27: 507400
B28: 22 | D28: 266800 | E28: 303300 | F28: 361200 | G28: 379800 | H28: 433500
B29: 23 | D29: 268100 | E29: 305600 | F29: 362800 | G29: 381400 | H29: 434900
B30: 24 | D30: 269300 | E30: 307800 | F30: 364500 | G30: 382900 | H30: 436200
B31: 25 | D31: 270500 | E31: 309900 | F31: 366200 | G31: 384400 | H31: 437800
B32: 26 | D32: 271700 | E32: 311800 | F32: 367500 | G32: 386100 | H32: 439200
B33: 27 | D33: 272900 | E33: 313700 | F33: 368900 | G33: 387700 | H33: 440500
B34: 28 | D34: 274100 | E34: 315500 | F34: 370300 | G34: 389200 | H34: 441900
B35: 29 | D35: 275200 | E35: 317400 | F35: 371800 | G35: 390800 | H35: 443300
B36: 30 | D36: 276200 | E36: 319300 | F36: 373400 | G36: 392400 | H36: 444600
B37: 31 | D37: 277300 | E37: 321100 | F37: 374900 | G37: 394000 | H37: 446100
B38: 32 | D38: 278300 | E38: 322800 | F38: 376500 | G38: 395600 | H38: 447600
B39: 33 | D39: 279400 | E39: 324500 | F39: 378100 | G39: 397200 | H39: 449200
... B62: 56 | D62: 300900 | E62: 363700 | F62: 412500 | G62: 429700 | H62: 479900
...

Sheet 入力（旧教三）
A1: 別紙 ３
A2: モデル給料表（令和８年４月官民較差に基づく改定）
A3: 旧教育職俸給表(三)
A4: 職員 の 区分 | C4: 職務 の級 | D4: 1 | E4: 2 | F4: ３ 級 | G4: ４ 級 | H4: ５ 級 | I4: ６ 級
B5: 号俸 | D5: 俸給月額 | E5: 俸給月額 | F5: 俸給月額 | G5: 俸給月額 | H5: 俸給月額 | I5: 俸給月額
D6: 円 | E6: 円 | F6: 円 | G6: 円 | H6: 円 | I6: 円
B7: 1 | D7: 223000 | E7: 244500 | F7: 323600 | G7: 344100 | H7: 374500 | I7: 461800
B8: 2 | D8: 225400 | E8: 246900 | F8: 325500 | G8: 346000 | H8: 376000 | I8: 463100
B9: 3 | D9: 227800 | E9: 249300 | F9: 327400 | G9: 347900 | H9: 377600 | I9: 464300
B10: 4 | D10: 230100 | E10: 251800 | F10: 329100 | G10: 349700 | H10: 379100 | I10: 465600
B11: 5 | D11: 232300 | E11: 254300 | F11: 330800 | G11: 351400 | H11: 380500 | I11: 466700
B12: 6 | D12: 234700 | E12: 256700 | F12: 332600 | G12: 353300 | H12: 381900 | I12: 467800
B13: 7 | D13: 236900 | E13: 259100 | F13: 334400 | G13: 355200 | H13: 383200 | I13: 469000
B14: 8 | D14: 239100 | E14: 261600 | F14: 336100 | G14: 357000 | H14: 384600 | I14: 470300
B15: 9 | D15: 241300 | E15: 264000 | F15: 337800 | G15: 358900 | H15: 386100 | I15: 471600
B16: 10 | D16: 243500 | E16: 265600 | F16: 339700 | G16: 360900 | H16: 387400 | I16: 472800
B17: 11 | D17: 245700 | E17: 267200 | F17: 341500 | G17: 362800 | H17: 388800 | I17: 473900
B18: 12 | D18: 248000 | E18: 268800 | F18: 343300 | G18: 364600 | H18: 390100 | I18: 475000
A19: 定年前再任用短時間勤務職員以外の職員 | B19: 13 | D19: 250200 | E19: 270400 | F19: 344800 | G19: 366400 | H19: 391500 | I19: 476200
B20: 14 | D20: 252300 | E20: 271800 | F20: 346700 | G20: 368100 | H20: 392800 | I20: 477000
B21: 15 | D21: 254400 | E21: 273200 | F21: 348600 | G21: 369700 | H21: 394000 | I21: 477800
B22: 16 | D22: 256500 | E22: 274600 | F22: 350300 | G22: 371300 | H22: 395200 | I22: 478700
B23: 17 | D23: 258600 | E23: 276000 | F23: 352000 | G23: 372900 | H23: 396200 | I23: 479600
B24: 18 | D24: 260400 | E24: 277200 | F24: 354200 | G24: 374300 | H24: 397500 | I24: 480000
B25: 19 | D25: 262100 | E25: 278400 | F25: 356000 | G25: 375600 | H25: 398800 | I25: 480500
B26: 20 | D26: 263800 | E26: 279600 | F26: 357700 | G26: 376800 | H26: 399900 | I26: 481000
B27: 21 | D27: 265500 | E27: 280900 | F27: 359400 | G27: 378200 | H27: 400900 | I27: 481500
B28: 22 | D28: 266800 | E28: 282000 | F28: 361200 | G28: 379600 | H28: 402100
B29: 23 | D29: 268100 | E29: 283100 | F29: 362800 | G29: 381000 | H29: 403300
B30: 24 | D30: 269300 | E30: 284300 | F30: 364500 | G30: 382300 | H30: 404400
B31: 25 | D31: 270500 | E31: 285600 | F31: 366200 | G31: 383600 | H31: 405400
B32: 26 | D32: 271600 | E32: 287300 | F32: 367500 | G32: 385100 | H32: 406500
B33: 27 | D33: 272700 | E33: 289000 | F33: 368900 | G33: 386500 | H33: 407600
B34: 28 | D34: 273800 | E34: 290700 | F34: 370300 | G34: 387800 | H34: 408700
B35: 29 | D35: 275000 | E35: 292400 | F35: 371800 | G35: 389000 | H35: 409800
B36: 30 | D36: 276100 | E36: 294400 | F36: 373200 | G36: 390400 | H36: 411000
B37: 31 | D37: 277200 | E37: 296600 | F37: 374700 | G37: 391700 | H37: 412100
B38: 32 | D38: 278200 | E38: 298900 | F38: 376100 | G38: 393000 | H38: 413200
B39: 33 | D39: 279300 | E39: 301100 | F39: 377400 | G39: 394300 | H39: 414200
... B62: 56 | D62: 300100 | E62: 343500 | F62: 405600 | G62: 419500 | H62: 440700
...

Sheet 行政
A1: 別記第１
A2: 行 政 職 給 料 表
A4: 職員の区分 | C4: 職務 の級 | D4: 1 | E4: 2 | F4: 3 | G4: 4 | H4: 5 | I4: 6 | J4: 7 | K4: 8 | L4: 9
B5: 号給 | D5: 給料月額 | E5: 給料月額 | F5: 給料月額 | G5: 給料月額 | H5: 給料月額 | I5: 給料月額 | J5: 給料月額 | K5: 給料月額 | L5: 給料月額
A6: 定年前再任用短時間勤務職員以外の職員 | D6: 円 | E6: 円 | F6: 円 | G6: 円 | H6: 円 | I6: 円 | J6: 円 | K6: 円 | L6: 円
B7: 1 | D7: ='入力（行一）'!D7 -> 205300 | E7: ='入力（行一）'!E7 -> 251500 | F7: ='入力（行一）'!F7 -> 286200 | G7: ='入力（行一）'!G7 -> 320700 | H7: ='入力（行一）'!H7 -> 344400 | I7: ='入力（行一）'!I7 -> 379500 | J7: ='入力（行一）'!J7 -> 434300 | K7: ='入力（行一）'!K7 -> 486700 | L7: ='入力（行一）'!L7 -> 541700
B8: 2 | D8: ='入力（行一）'!D8 -> 206400 | E8: ='入力（行一）'!E8 -> 252800 | F8: ='入力（行一）'!F8 -> 287200 | G8: ='入力（行一）'!G8 -> 322200 | H8: ='入力（行一）'!H8 -> 346200 | I8: ='入力（行一）'!I8 -> 381200 | J8: ='入力（行一）'!J8 -> 436200 | K8: ='入力（行一）'!K8 -> 492000 | L8: ='入力（行一）'!L8 -> 548400
B9: 3 | D9: ='入力（行一）'!D9 -> 207600 | E9: ='入力（行一）'!E9 -> 254200 | F9: ='入力（行一）'!F9 -> 288200 | G9: ='入力（行一）'!G9 -> 323600 | H9: ='入力（行一）'!H9 -> 348000 | I9: ='入力（行一）'!I9 -> 382800 | J9: ='入力（行一）'!J9 -> 438100 | K9: ='入力（行一）'!K9 -> 496900 | L9: ='入力（行一）'!L9 -> 553500
B10: 4 | D10: ='入力（行一）'!D10 -> 208700 | E10: ='入力（行一）'!E10 -> 255600 | F10: ='入力（行一）'!F10 -> 289200 | G10: ='入力（行一）'!G10 -> 325000 | H10: ='入力（行一）'!H10 -> 349800 | I10: ='入力（行一）'!I10 -> 384400 | J10: ='入力（行一）'!J10 -> 439900 | K10: ='入力（行一）'!K10 -> 501500 | L10: ='入力（行一）'!L10 -> 557700
B11: 5 | D11: ='入力（行一）'!D11 -> 209800 | E11: ='入力（行一）'!E11 -> 257000 | F11: ='入力（行一）'!F11 -> 290200 | G11: ='入力（行一）'!G11 -> 326400 | H11: ='入力（行一）'!H11 -> 351500 | I11: ='入力（行一）'!I11 -> 386000 | J11: ='入力（行一）'!J11 -> 441800 | K11: ='入力（行一）'!K11 -> 505500 | L11: ='入力（行一）'!L11 -> 561100
B12: 6 | D12: ='入力（行一）'!D12 -> 211500 | E12: ='入力（行一）'!E12 -> 258400 | F12: ='入力（行一）'!F12 -> 291200 | G12: ='入力（行一）'!G12 -> 327600 | H12: ='入力（行一）'!H12 -> 353300 | I12: ='入力（行一）'!I12 -> 387800 | J12: ='入力（行一）'!J12 -> 443600 | K12: ='入力（行一）'!K12 -> 508900 | L12: ='入力（行一）'!L12 -> 564300
B13: 7 | D13: ='入力（行一）'!D13 -> 213100 | E13: ='入力（行一）'!E13 -> 259800 | F13: ='入力（行一）'!F13 -> 292200 | G13: ='入力（行一）'!G13 -> 328700 | H13: ='入力（行一）'!H13 -> 355100 | I13: ='入力（行一）'!I13 -> 389300 | J13: ='入力（行一）'!J13 -> 445400 | K13: ='入力（行一）'!K13 -> 511800 | L13: ='入力（行一）'!L13 -> 567200
B14: 8 | D14: ='入力（行一）'!D14 -> 214700 | E14: ='入力（行一）'!E14 -> 261200 | F14: ='入力（行一）'!F14 -> 293200 | G14: ='入力（行一）'!G14 -> 329900 | H14: ='入力（行一）'!H14 -> 356700 | I14: ='入力（行一）'!I14 -> 390900 | J14: ='入力（行一）'!J14 -> 447200 | K14: ='入力（行一）'!K14 -> 514300 | L14: ='入力（行一）'!L14 -> 569700
B15: 9 | D15: ='入力（行一）'!D15 -> 216200 | E15: ='入力（行一）'!E15 -> 262600 | F15: ='入力（行一）'!F15 -> 294200 | G15: ='入力（行一）'!G15 -> 331200 | H15: ='入力（行一）'!H15 -> 358300 | I15: ='入力（行一）'!I15 -> 392200 | J15: ='入力（行一）'!J15 -> 448800 | K15: ='入力（行一）'!K15 -> 516300 | L15: ='入力（行一）'!L15 -> 571700
B16: 10 | D16: ='入力（行一）'!D16 -> 217900 | E16: ='入力（行一）'!E16 -> 263800 | F16: ='入力（行一）'!F16 -> 295300 | G16: ='入力（行一）'!G16 -> 332800 | H16: ='入力（行一）'!H16 -> 360000 | I16: ='入力（行一）'!I16 -> 393800 | J16: ='入力（行一）'!J16 -> 450300 | K16: ='入力（行一）'!K16 -> 0 | L16: ='入力（行一）'!L16 -> 0
B17: 11 | D17: ='入力（行一）'!D17 -> 219500 | E17: ='入力（行一）'!E17 -> 265100 | F17: ='入力（行一）'!F17 -> 296300 | G17: ='入力（行一）'!G17 -> 334500 | H17: ='入力（行一）'!H17 -> 361700 | I17: ='入力（行一）'!I17 -> 395400 | J17: ='入力（行一）'!J17 -> 451800 | K17: ='入力（行一）'!K17 -> 0 | L17: ='入力（行一）'!L17 -> 0
B18: 12 | D18: ='入力（行一）'!D18 -> 221100 | E18: ='入力（行一）'!E18 -> 266400 | F18: ='入力（行一）'!F18 -> 297300 | G18: ='入力（行一）'!G18 -> 336100 | H18: ='入力（行一）'!H18 -> 363400 | I18: ='入力（行一）'!I18 -> 396900 | J18: ='入力（行一）'!J18 -> 453300 | K18: ='入力（行一）'!K18 -> 0 | L18: ='入力（行一）'!L18 -> 0
B19: 13 | D19: ='入力（行一）'!D19 -> 222600 | E19: ='入力（行一）'!E19 -> 267600 | F19: ='入力（行一）'!F19 -> 298300 | G19: ='入力（行一）'!G19 -> 337600 | H19: ='入力（行一）'!H19 -> 364900 | I19: ='入力（行一）'!I19 -> 398800 | J19: ='入力（行一）'!J19 -> 454800
B20: 14 | D20: ='入力（行一）'!D20 -> 224300 | E20: ='入力（行一）'!E20 -> 268800 | F20: ='入力（行一）'!F20 -> 299600 | G20: ='入力（行一）'!G20 -> 339200 | H20: ='入力（行一）'!H20 -> 366500 | I20: ='入力（行一）'!I20 -> 400700 | J20: ='入力（行一）'!J20 -> 456100
B21: 15 | D21: ='入力（行一）'!D21 -> 226000 | E21: ='入力（行一）'!E21 -> 270100 | F21: ='入力（行一）'!F21 -> 300900 | G21: ='入力（行一）'!G21 -> 340900 | H21: ='入力（行一）'!H21 -> 368100 | I21: ='入力（行一）'!I21 -> 402600 | J21: ='入力（行一）'!J21 -> 457400
B22: 16 | D22: ='入力（行一）'!D22 -> 227700 | E22: ='入力（行一）'!E22 -> 271300 | F22: ='入力（行一）'!F22 -> 302100 | G22: ='入力（行一）'!G22 -> 342500 | H22: ='入力（行一）'!H22 -> 369600 | I22: ='入力（行一）'!I22 -> 404400 | J22: ='入力（行一）'!J22 -> 458600
B23: 17 | D23: ='入力（行一）'!D23 -> 228900 | E23: ='入力（行一）'!E23 -> 272400 | F23: ='入力（行一）'!F23 -> 303400 | G23: ='入力（行一）'!G23 -> 344000 | H23: ='入力（行一）'!H23 -> 370900 | I23: ='入力（行一）'!I23 -> 405900 | J23: ='入力（行一）'!J23 -> 459800
B24: 18 | D24: ='入力（行一）'!D24 -> 230500 | E24: ='入力（行一）'!E24 -> 273500 | F24: ='入力（行一）'!F24 -> 304700 | G24: ='入力（行一）'!G24 -> 345700 | H24: ='入力（行一）'!H24 -> 372600 | I24: ='入力（行一）'!I24 -> 407700 | J24: ='入力（行一）'!J24 -> 461100
B25: 19 | D25: ='入力（行一）'!D25 -> 232100 | E25: ='入力（行一）'!E25 -> 274600 | F25: ='入力（行一）'!F25 -> 306000 | G25: ='入力（行一）'!G25 -> 347400 | H25: ='入力（行一）'!H25 -> 374200 | I25: ='入力（行一）'!I25 -> 409400 | J25: ='入力（行一）'!J25 -> 462400
B26: 20 | D26: ='入力（行一）'!D26 -> 233600 | E26: ='入力（行一）'!E26 -> 275700 | F26: ='入力（行一）'!F26 -> 307200 | G26: ='入力（行一）'!G26 -> 349000 | H26: ='入力（行一）'!H26 -> 375800 | I26: ='入力（行一）'!I26 -> 411000 | J26: ='入力（行一）'!J26 -> 463600
B27: 21 | D27: ='入力（行一）'!D27 -> 235100 | E27: ='入力（行一）'!E27 -> 276600 | F27: ='入力（行一）'!F27 -> 308300 | G27: ='入力（行一）'!G27 -> 350400 | H27: ='入力（行一）'!H27 -> 376900 | I27: ='入力（行一）'!I27 -> 412700 | J27: ='入力（行一）'!J27 -> 464800
B28: 22 | D28: ='入力（行一）'!D28 -> 236700 | E28: ='入力（行一）'!E28 -> 277600 | F28: ='入力（行一）'!F28 -> 309500 | G28: ='入力（行一）'!G28 -> 352100 | H28: ='入力（行一）'!H28 -> 378400 | I28: ='入力（行一）'!I28 -> 414100 | J28: ='入力（行一）'!J28 -> 465600
B29: 23 | D29: ='入力（行一）'!D29 -> 238300 | E29: ='入力（行一）'!E29 -> 278600 | F29: ='入力（行一）'!F29 -> 310800 | G29: ='入力（行一）'!G29 -> 353800 | H29: ='入力（行一）'!H29 -> 379900 | I29: ='入力（行一）'!I29 -> 415500 | J29: ='入力（行一）'!J29 -> 466400
B30: 24 | D30: ='入力（行一）'!D30 -> 239900 | E30: ='入力（行一）'!E30 -> 279600 | F30: ='入力（行一）'!F30 -> 312100 | G30: ='入力（行一）'!G30 -> 355400 | H30: ='入力（行一）'!H30 -> 381400 | I30: ='入力（行一）'!I30 -> 416900 | J30: ='入力（行一）'!J30 -> 467200
... B64: 58 | D64: ='入力（行一）'!D64 -> 267100 | E64: ='入力（行一）'!E64 -> 304400 | F64: ='入力（行一）'!F64 -> 352000 | G64: ='入力（行一）'!G64 -> 395200 | H64: ='入力（行一）'!H64 -> 412300 | I64: ='入力（行一）'!I64 -> 436000 | J64: ='入力（行一）'!J64 -> 0
B65: 59 | D65: ='入力（行一）'!D65 -> 267400 | E65: ='入力（行一）'!E65 -> 305000 | F65: ='入力（行一）'!F65 -> 352700 | G65: ='入力（行一）'!G65 -> 395900 | H65: ='入力（行一）'!H65 -> 412900 | I65: ='入力（行一）'!I65 -> 436300 | J65: ='入力（行一）'!J65 -> 0 | K65: ='入力（行一）'!K65 -> 0
B66: 60 | D66: ='入力（行一）'!D66 -> 267700 | E66: ='入力（行一）'!E66 -> 305800 | F66: ='入力（行一）'!F66 -> 353500 | G66: ='入力（行一）'!G66 -> 396500 | H66: ='入力（行一）'!H66 -> 413400 | I66: ='入力（行一）'!I66 -> 436500 | J66: ='入力（行一）'!J66 -> 0 | K66: ='入力（行一）'!K66 -> 0
B67: 61 | D67: ='入力（行一）'!D67 -> 268000 | E67: ='入力（行一）'!E67 -> 306400 | F67: ='入力（行一）'!F67 -> 354300 | G67: ='入力（行一）'!G67 -> 396800 | H67: ='入力（行一）'!H67 -> 413800 | I67: ='入力（行一）'!I67 -> 436700 | J67: ='入力（行一）'!J67 -> 0 | K67: ='入力（行一）'!K67 -> 0
B68: 62 | D68: ='入力（行一）'!D68 -> 268300 | E68: ='入力（行一）'!E68 -> 306900 | F68: ='入力（行一）'!F68 -> 354700 | G68: ='入力（行一）'!G68 -> 397300 | H68: ='入力（行一）'!H68 -> 414300 | I68: ='入力（行一）'!I68 -> 437000 | K68: ='入力（行一）'!K68 -> 0
B69: 63 | D69: ='入力（行一）'!D69 -> 268600 | E69: ='入力（行一）'!E69 -> 307400 | F69: ='入力（行一）'!F69 -> 355200 | G69: ='入力（行一）'!G69 -> 397900 | H69: ='入力（行一）'!H69 -> 414800 | I69: ='入力（行一）'!I69 -> 437300 | K69: ='入力（行一）'!K69 -> 0
B70: 64 | D70: ='入力（行一）'!D70 -> 268900 | E70: ='入力（行一）'!E70 -> 307800 | F70: ='入力（行一）'!F70 -> 355900 | G70: ='入力（行一）'!G70 -> 398500 | H70: ='入力（行一）'!H70 -> 415400 | I70: ='入力（行一）'!I70 -> 437500 | K70: ='入力（行一）'!K70 -> 0
B71: 65 | D71: ='入力（行一）'!D71 -> 269200 | E71: ='入力（行一）'!E71 -> 308300 | F71: ='入力（行一）'!F71 -> 356700 | G71: ='入力（行一）'!G71 -> 398800 | H71: ='入力（行一）'!H71 -> 415700 | I71: ='入力（行一）'!I71 -> 437700 | K71: ='入力（行一）'!K71 -> 0
B72: 66 | D72: ='入力（行一）'!D72 -> 269500 | E72: ='入力（行一）'!E72 -> 308800 | F72: ='入力（行一）'!F72 -> 357400 | G72: ='入力（行一）'!G72 -> 399400 | H72: ='入力（行一）'!H72 -> 416100 | I72: ='入力（行一）'!I72 -> 438000
B73: 67 | D73: ='入力（行一）'!D73 -> 269800 | E73: ='入力（行一）'!E73 -> 309200 | F73: ='入力（行一）'!F73 -> 358100 | G73: ='入力（行一）'!G73 -> 400100 | H73: ='入力（行一）'!H73 -> 416400 | I73: ='入力（行一）'!I73 -> 438300
B74: 68 | D74: ='入力（行一）'!D74 -> 270100 | E74: ='入力（行一）'!E74 -> 309700 | F74: ='入力（行一）'!F74 -> 358700 | G74: ='入力（行一）'!G74 -> 400700 | H74: ='入力（行一）'!H74 -> 416800 | I74: ='入力（行一）'!I74 -> 438500
...

Sheet 公安
A2: 公 安 職 給 料 表
A4: 職員の区分 | C4: 職務 の級 | D4: 1 | E4: 2 | F4: 3 | G4: 4 | H4: 5 | I4: 6 | J4: 7 | K4: 8 | L4: 9
B5: 号給 | D5: 給料月額 | E5: 給料月額 | F5: 給料月額 | G5: 給料月額 | H5: 給料月額 | I5: 給料月額 | J5: 給料月額 | K5: 給料月額 | L5: 給料月額
A6: 定年前再任用短時間勤務職員以外の職員 | D6: 円 | E6: 円 | F6: 円 | G6: 円 | H6: 円 | I6: 円 | J6: 円 | K6: 円 | L6: 円
B7: 1 | D7: ='入力（公一）'!D7 -> 236300 | E7: ='入力（公一）'!E7 -> 257600 | F7: ='入力（公一）'!F7 -> 280600 | G7: ='入力（公一）'!G7 -> 319500 | H7: ='入力（公一）'!H7 -> 356200 | I7: ='入力（公一）'!I7 -> 378600 | J7: ='入力（公一）'!J7 -> 410400 | K7: ='入力（公一）'!K7 -> 447100 | L7: ='入力（公一）'!L7 -> 494900
B8: 2 | D8: ='入力（公一）'!D8 -> 238800 | E8: ='入力（公一）'!E8 -> 259800 | F8: ='入力（公一）'!F8 -> 282500 | G8: ='入力（公一）'!G8 -> 320500 | H8: ='入力（公一）'!H8 -> 357700 | I8: ='入力（公一）'!I8 -> 380400 | J8: ='入力（公一）'!J8 -> 412100 | K8: ='入力（公一）'!K8 -> 448700 | L8: ='入力（公一）'!L8 -> 500900
B9: 3 | D9: ='入力（公一）'!D9 -> 241200 | E9: ='入力（公一）'!E9 -> 262000 | F9: ='入力（公一）'!F9 -> 284600 | G9: ='入力（公一）'!G9 -> 321400 | H9: ='入力（公一）'!H9 -> 359100 | I9: ='入力（公一）'!I9 -> 382100 | J9: ='入力（公一）'!J9 -> 413700 | K9: ='入力（公一）'!K9 -> 450200 | L9: ='入力（公一）'!L9 -> 505800
B10: 4 | D10: ='入力（公一）'!D10 -> 243600 | E10: ='入力（公一）'!E10 -> 264200 | F10: ='入力（公一）'!F10 -> 286700 | G10: ='入力（公一）'!G10 -> 322300 | H10: ='入力（公一）'!H10 -> 360600 | I10: ='入力（公一）'!I10 -> 383800 | J10: ='入力（公一）'!J10 -> 415400 | K10: ='入力（公一）'!K10 -> 451700 | L10: ='入力（公一）'!L10 -> 510000
B11: 5 | D11: ='入力（公一）'!D11 -> 245900 | E11: ='入力（公一）'!E11 -> 266400 | F11: ='入力（公一）'!F11 -> 288700 | G11: ='入力（公一）'!G11 -> 322900 | H11: ='入力（公一）'!H11 -> 362100 | I11: ='入力（公一）'!I11 -> 385400 | J11: ='入力（公一）'!J11 -> 416900 | K11: ='入力（公一）'!K11 -> 453200 | L11: ='入力（公一）'!L11 -> 514000
B12: 6 | D12: ='入力（公一）'!D12 -> 248300 | E12: ='入力（公一）'!E12 -> 268400 | F12: ='入力（公一）'!F12 -> 290000 | G12: ='入力（公一）'!G12 -> 323600 | H12: ='入力（公一）'!H12 -> 363600 | I12: ='入力（公一）'!I12 -> 387100 | J12: ='入力（公一）'!J12 -> 418500 | K12: ='入力（公一）'!K12 -> 454800 | L12: ='入力（公一）'!L12 -> 517400
B13: 7 | D13: ='入力（公一）'!D13 -> 250700 | E13: ='入力（公一）'!E13 -> 270400 | F13: ='入力（公一）'!F13 -> 291300 | G13: ='入力（公一）'!G13 -> 324200 | H13: ='入力（公一）'!H13 -> 365000 | I13: ='入力（公一）'!I13 -> 388800 | J13: ='入力（公一）'!J13 -> 420100 | K13: ='入力（公一）'!K13 -> 456200 | L13: ='入力（公一）'!L13 -> 520300
B14: 8 | D14: ='入力（公一）'!D14 -> 252900 | E14: ='入力（公一）'!E14 -> 272200 | F14: ='入力（公一）'!F14 -> 292600 | G14: ='入力（公一）'!G14 -> 324900 | H14: ='入力（公一）'!H14 -> 366400 | I14: ='入力（公一）'!I14 -> 390400 | J14: ='入力（公一）'!J14 -> 421700 | K14: ='入力（公一）'!K14 -> 457600 | L14: ='入力（公一）'!L14 -> 522800
B15: 9 | D15: ='入力（公一）'!D15 -> 255100 | E15: ='入力（公一）'!E15 -> 274000 | F15: ='入力（公一）'!F15 -> 293900 | G15: ='入力（公一）'!G15 -> 325500 | H15: ='入力（公一）'!H15 -> 367800 | I15: ='入力（公一）'!I15 -> 391900 | J15: ='入力（公一）'!J15 -> 423200 | K15: ='入力（公一）'!K15 -> 458700 | L15: ='入力（公一）'!L15 -> 525000
B16: 10 | D16: ='入力（公一）'!D16 -> 257200 | E16: ='入力（公一）'!E16 -> 275700 | F16: ='入力（公一）'!F16 -> 295200 | G16: ='入力（公一）'!G16 -> 326200 | H16: ='入力（公一）'!H16 -> 369400 | I16: ='入力（公一）'!I16 -> 393500 | J16: ='入力（公一）'!J16 -> 424800 | K16: ='入力（公一）'!K16 -> 460100 | L16: ='入力（公一）'!L16 -> 0
B17: 11 | D17: ='入力（公一）'!D17 -> 259300 | E17: ='入力（公一）'!E17 -> 277400 | F17: ='入力（公一）'!F17 -> 296400 | G17: ='入力（公一）'!G17 -> 326900 | H17: ='入力（公一）'!H17 -> 371100 | I17: ='入力（公一）'!I17 -> 395100 | J17: ='入力（公一）'!J17 -> 426400 | K17: ='入力（公一）'!K17 -> 461600 | L17: ='入力（公一）'!L17 -> 0
B18: 12 | D18: ='入力（公一）'!D18 -> 261300 | E18: ='入力（公一）'!E18 -> 278800 | F18: ='入力（公一）'!F18 -> 297600 | G18: ='入力（公一）'!G18 -> 327500 | H18: ='入力（公一）'!H18 -> 372700 | I18: ='入力（公一）'!I18 -> 396700 | J18: ='入力（公一）'!J18 -> 428000 | K18: ='入力（公一）'!K18 -> 463100 | L18: ='入力（公一）'!L18 -> 0
... B51: 45 | D51: ='入力（公一）'!D51 -> 303000 | E51: ='入力（公一）'!E51 -> 310900 | F51: ='入力（公一）'!F51 -> 320800 | G51: ='入力（公一）'!G51 -> 363500 | H51: ='入力（公一）'!H51 -> 423400 | I51: ='入力（公一）'!I51 -> 441300 | J51: ='入力（公一）'!J51 -> 464900 | K51: ='入力（公一）'!K51 -> 487400 | L51: ='入力（公一）'!L51 -> 0
B52: 46 | D52: ='入力（公一）'!D52 -> 303500 | E52: ='入力（公一）'!E52 -> 311400 | F52: ='入力（公一）'!F52 -> 321600 | G52: ='入力（公一）'!G52 -> 364800 | H52: ='入力（公一）'!H52 -> 424500 | I52: ='入力（公一）'!I52 -> 442000 | J52: ='入力（公一）'!J52 -> 465200 | K52: ='入力（公一）'!K52 -> 0
B53: 47 | D53: ='入力（公一）'!D53 -> 304000 | E53: ='入力（公一）'!E53 -> 311900 | F53: ='入力（公一）'!F53 -> 322400 | G53: ='入力（公一）'!G53 -> 366000 | H53: ='入力（公一）'!H53 -> 425600 | I53: ='入力（公一）'!I53 -> 442700 | J53: ='入力（公一）'!J53 -> 465500 | K53: ='入力（公一）'!K53 -> 0
B54: 48 | D54: ='入力（公一）'!D54 -> 304500 | E54: ='入力（公一）'!E54 -> 312400 | F54: ='入力（公一）'!F54 -> 323100 | G54: ='入力（公一）'!G54 -> 367200 | H54: ='入力（公一）'!H54 -> 426700 | I54: ='入力（公一）'!I54 -> 443300 | J54: ='入力（公一）'!J54 -> 465700 | K54: ='入力（公一）'!K54 -> 0
B55: 49 | D55: ='入力（公一）'!D55 -> 304900 | E55: ='入力（公一）'!E55 -> 312900 | F55: ='入力（公一）'!F55 -> 323900 | G55: ='入力（公一）'!G55 -> 368500 | H55: ='入力（公一）'!H55 -> 428000 | I55: ='入力（公一）'!I55 -> 444000 | J55: ='入力（公一）'!J55 -> 466000 | K55: ='入力（公一）'!K55 -> 0
B56: 50 | D56: ='入力（公一）'!D56 -> 305400 | E56: ='入力（公一）'!E56 -> 313400 | F56: ='入力（公一）'!F56 -> 324900 | G56: ='入力（公一）'!G56 -> 369800 | H56: ='入力（公一）'!H56 -> 428800 | I56: ='入力（公一）'!I56 -> 444400 | J56: ='入力（公一）'!J56 -> 466300 | K56: ='入力（公一）'!K56 -> 0
B57: 51 | D57: ='入力（公一）'!D57 -> 305900 | E57: ='入力（公一）'!E57 -> 314000 | F57: ='入力（公一）'!F57 -> 325900 | G57: ='入力（公一）'!G57 -> 371000 | H57: ='入力（公一）'!H57 -> 429600 | I57: ='入力（公一）'!I57 -> 445000 | J57: ='入力（公一）'!J57 -> 466600 | K57: ='入力（公一）'!K57 -> 0
B58: 52 | D58: ='入力（公一）'!D58 -> 306400 | E58: ='入力（公一）'!E58 -> 314500 | F58: ='入力（公一）'!F58 -> 326900 | G58: ='入力（公一）'!G58 -> 372300 | H58: ='入力（公一）'!H58 -> 430200 | I58: ='入力（公一）'!I58 -> 445600 | J58: ='入力（公一）'!J58 -> 466900 | K58: ='入力（公一）'!K58 -> 0
B59: 53 | D59: ='入力（公一）'!D59 -> 306900 | E59: ='入力（公一）'!E59 -> 315100 | F59: ='入力（公一）'!F59 -> 328000 | G59: ='入力（公一）'!G59 -> 373200 | H59: ='入力（公一）'!H59 -> 430700 | I59: ='入力（公一）'!I59 -> 446000 | J59: ='入力（公一）'!J59 -> 467100 | K59: ='入力（公一）'!K59 -> 0
B60: 54 | D60: ='入力（公一）'!D60 -> 307500 | E60: ='入力（公一）'!E60 -> 315700 | F60: ='入力（公一）'!F60 -> 329100 | G60: ='入力（公一）'!G60 -> 374500 | H60: ='入力（公一）'!H60 -> 431400 | I60: ='入力（公一）'!I60 -> 446400 | J60: ='入力（公一）'!J60 -> 467400 | K60: ='入力（公一）'!K60 -> 0
B61: 55 | D61: ='入力（公一）'!D61 -> 307900 | E61: ='入力（公一）'!E61 -> 316400 | F61: ='入力（公一）'!F61 -> 330100 | G61: ='入力（公一）'!G61 -> 375700 | H61: ='入力（公一）'!H61 -> 432000 | I61: ='入力（公一）'!I61 -> 446900 | J61: ='入力（公一）'!J61 -> 467600 | K61: ='入力（公一）'!K61 -> 0
B62: 56 | D62: ='入力（公一）'!D62 -> 308300 | E62: ='入力（公一）'!E62 -> 317000 | F62: ='入力（公一）'!F62 -> 331100 | G62: ='入力（公一）'!G62 -> 376900 | H62: ='入力（公一）'!H62 -> 432700 | I62: ='入力（公一）'!I62 -> 447400 | J62: ='入力（公一）'!J62 -> 467900 | K62: ='入力（公一）'!K62 -> 0
B63: 57 | D63: ='入力（公一）'!D63 -> 308800 | E63: ='入力（公一）'!E63 -> 317600 | F63: ='入力（公一）'!F63 -> 332200 | G63: ='入力（公一）'!G63 -> 378000 | H63: ='入力（公一）'!H63 -> 433000 | I63: ='入力（公一）'!I63 -> 447900 | J63: ='入力（公一）'!J63 -> 468100 | K63: ='入力（公一）'!K63 -> 0
... B67: 61 | D67: ='入力（公一）'!D67 -> 310700 | E67: ='入力（公一）'!E67 -> 320700 | F67: ='入力（公一）'!F67 -> 336400 | G67: ='入力（公一）'!G67 -> 383400 | H67: ='入力（公一）'!H67 -> 435300 | I67: ='入力（公一）'!I67 -> 449600 | J67: ='入力（公一）'!J67 -> 469100 | K67: ='入力（公一）'!K67 -> 0
B68: 62 | D68: ='入力（公一）'!D68 -> 311100 | E68: ='入力（公一）'!E68 -> 321500 | F68: ='入力（公一）'!F68 -> 337600 | G68: ='入力（公一）'!G68 -> 384900 | H68: ='入力（公一）'!H68 -> 435700 | I68: ='入力（公一）'!I68 -> 449900 | J68: ='入力（公一）'!J68 -> 469400
B69: 63 | D69: ='入力（公一）'!D69 -> 311600 | E69: ='入力（公一）'!E69 -> 322300 | F69: ='入力（公一）'!F69 -> 338700 | G69: ='入力（公一）'!G69 -> 386400 | H69: ='入力（公一）'!H69 -> 436200 | I69: ='入力（公一）'!I69 -> 450200 | J69: ='入力（公一）'!J69 -> 469700
B70: 64 | D70: ='入力（公一）'!D70 -> 312000 | E70: ='入力（公一）'!E70 -> 323200 | F70: ='入力（公一）'!F70 -> 339800 | G70: ='入力（公一）'!G70 -> 387800 | H70: ='入力（公一）'!H70 -> 436700 | I70: ='入力（公一）'!I70 -> 450500 | J70: ='入力（公一）'!J70 -> 470000
B71: 65 | D71: ='入力（公一）'!D71 -> 312500 | E71: ='入力（公一）'!E71 -> 324000 | F71: ='入力（公一）'!F71 -> 340800 | G71: ='入力（公一）'!G71 -> 389000 | H71: ='入力（公一）'!H71 -> 437200 | I71: ='入力（公一）'!I71 -> 450700 | J71: ='入力（公一）'!J71 -> 470200
B72: 66 | D72: ='入力（公一）'!D72 -> 313000 | E72: ='入力（公一）'!E72 -> 324800 | F72: ='入力（公一）'!F72 -> 341900 | G72: ='入力（公一）'!G72 -> 390400 | H72: ='入力（公一）'!H72 -> 437600 | I72: ='入力（公一）'!I72 -> 451000 | J72: ='入力（公一）'!J72 -> 470500
B73: 67 | D73: ='入力（公一）'!D73 -> 313400 | E73: ='入力（公一）'!E73 -> 325600 | F73: ='入力（公一）'!F73 -> 343000 | G73: ='入力（公一）'!G73 -> 391700 | H73: ='入力（公一）'!H73 -> 438100 | I73: ='入力（公一）'!I73 -> 451300 | J73: ='入力（公一）'!J73 -> 470800
B74: 68 | D74: ='入力（公一）'!D74 -> 313800 | E74: ='入力（公一）'!E74 -> 326400 | F74: ='入力（公一）'!F74 -> 344200 | G74: ='入力（公一）'!G74 -> 393100 | H74: ='入力（公一）'!H74 -> 438600 | I74: ='入力（公一）'!I74 -> 451500 | J74: ='入力（公一）'!J74 -> 471100
B75: 69 | D75: ='入力（公一）'!D75 -> 314300 | E75: ='入力（公一）'!E75 -> 327300 | F75: ='入力（公一）'!F75 -> 345300 | G75: ='入力（公一）'!G75 -> 394200 | H75: ='入力（公一）'!H75 -> 439100 | I75: ='入力（公一）'!I75 -> 451700 | J75: ='入力（公一）'!J75 -> 471300
B76: 70 | D76: ='入力（公一）'!D76 -> 314700 | E76: ='入力（公一）'!E76 -> 328200 | F76: ='入力（公一）'!F76 -> 346400 | G76: ='入力（公一）'!G76 -> 395400 | H76: ='入力（公一）'!H76 -> 439600 | I76: ='入力（公一）'!I76 -> 452000 | J76: ='入力（公一）'!J76 -> 471600
B77: 71 | D77: ='入力（公一）'!D77 -> 315100 | E77: ='入力（公一）'!E77 -> 329100 | F77: ='入力（公一）'!F77 -> 347600 | G77: ='入力（公一）'!G77 -> 396600 | H77: ='入力（公一）'!H77 -> 440200 | I77: ='入力（公一）'!I77 -> 452300 | J77: ='入力（公一）'!J77 -> 471900
...

Sheet 研究
A2: 研 究 職 給 料 表
A4: 職員の区分 | C4: 職務 の級 | D4: 1 | E4: 2 | F4: 3 | G4: 4 | H4: 5
B5: 号給 | D5: 給料月額 | E5: 給料月額 | F5: 給料月額 | G5: 給料月額 | H5: 給料月額
A6: 定年前再任用短時間勤務職員以外の職員 | D6: 円 | E6: 円 | F6: 円 | G6: 円 | H6: 円
B7: 1 | D7: ='入力（研究）'!D7 -> 205800 | E7: ='入力（研究）'!E7 -> 257000 | F7: ='入力（研究）'!F7 -> 350800 | G7: ='入力（研究）'!G7 -> 402100 | H7: ='入力（研究）'!H7 -> 476600
B8: 2 | D8: ='入力（研究）'!D8 -> 206900 | E8: ='入力（研究）'!E8 -> 261300 | F8: ='入力（研究）'!F8 -> 352800 | G8: ='入力（研究）'!G8 -> 403500 | H8: =H7+ROUND((H11-H7)/4,-2) -> 479200
B9: 3 | D9: ='入力（研究）'!D9 -> 208100 | E9: ='入力（研究）'!E9 -> 264100 | F9: ='入力（研究）'!F9 -> 354800 | G9: ='入力（研究）'!G9 -> 404900 | H9: =H7+ROUND((H11-H7)*2/4,-2) -> 481700
B10: 4 | D10: ='入力（研究）'!D10 -> 209200 | E10: ='入力（研究）'!E10 -> 266900 | F10: ='入力（研究）'!F10 -> 356700 | G10: ='入力（研究）'!G10 -> 406300 | H10: =H7+ROUND((H11-H7)*3/4,-2) -> 484300
B11: 5 | D11: ='入力（研究）'!D11 -> 210300 | E11: ='入力（研究）'!E11 -> 269500 | F11: ='入力（研究）'!F11 -> 358700 | G11: ='入力（研究）'!G11 -> 407700 | H11: ='入力（研究）'!H8 -> 486800
B12: 6 | D12: ='入力（研究）'!D12 -> 212500 | E12: ='入力（研究）'!E12 -> 271300 | F12: ='入力（研究）'!F12 -> 360700 | G12: ='入力（研究）'!G12 -> 409100 | H12: =H11+ROUND((H15-H11)/4,-2) -> 487100
B13: 7 | D13: ='入力（研究）'!D13 -> 214600 | E13: ='入力（研究）'!E13 -> 272800 | F13: ='入力（研究）'!F13 -> 362700 | G13: ='入力（研究）'!G13 -> 410400 | H13: =H11+ROUND((H15-H11)*2/4,-2) -> 487400
B14: 8 | D14: ='入力（研究）'!D14 -> 216700 | E14: ='入力（研究）'!E14 -> 274300 | F14: ='入力（研究）'!F14 -> 364600 | G14: ='入力（研究）'!G14 -> 411800 | H14: =H11+ROUND((H15-H11)*3/4,-2) -> 487700
B15: 9 | D15: ='入力（研究）'!D15 -> 218800 | E15: ='入力（研究）'!E15 -> 275800 | F15: ='入力（研究）'!F15 -> 366500 | G15: ='入力（研究）'!G15 -> 413200 | H15: =H11+行政!J$51-行政!J$47 -> 488000
B16: 10 | D16: ='入力（研究）'!D16 -> 220900 | E16: ='入力（研究）'!E16 -> 277800 | F16: ='入力（研究）'!F16 -> 368100 | G16: ='入力（研究）'!G16 -> 414700 | H16: =H15+ROUND((H19-H15)/4,-2) -> 488300
B17: 11 | D17: ='入力（研究）'!D17 -> 222900 | E17: ='入力（研究）'!E17 -> 279800 | F17: ='入力（研究）'!F17 -> 369700 | G17: ='入力（研究）'!G17 -> 416100 | H17: =H15+ROUND((H19-H15)*2/4,-2) -> 488600
B18: 12 | D18: ='入力（研究）'!D18 -> 224900 | E18: ='入力（研究）'!E18 -> 281700 | F18: ='入力（研究）'!F18 -> 371300 | G18: ='入力（研究）'!G18 -> 417500 | H18: =H15+ROUND((H19-H15)*3/4,-2) -> 488900
B19: 13 | D19: ='入力（研究）'!D19 -> 226900 | E19: ='入力（研究）'!E19 -> 283700 | F19: ='入力（研究）'!F19 -> 372900 | G19: ='入力（研究）'!G19 -> 418700 | H19: =H15+行政!J$51-行政!J$47 -> 489200
B20: 14 | D20: ='入力（研究）'!D20 -> 228800 | E20: ='入力（研究）'!E20 -> 285900 | F20: ='入力（研究）'!F20 -> 374000 | G20: ='入力（研究）'!G20 -> 420200 | H20: =H19+ROUND((H23-H19)/4,-2) -> 489500
B21: 15 | D21: ='入力（研究）'!D21 -> 230700 | E21: ='入力（研究）'!E21 -> 288100 | F21: ='入力（研究）'!F21 -> 375000 | G21: ='入力（研究）'!G21 -> 421700 | H21: =H19+ROUND((H23-H19)*2/4,-2) -> 489800
B22: 16 | D22: ='入力（研究）'!D22 -> 232500 | E22: ='入力（研究）'!E22 -> 290300 | F22: ='入力（研究）'!F22 -> 376000 | G22: ='入力（研究）'!G22 -> 423200 | H22: =H19+ROUND((H23-H19)*3/4,-2) -> 490100
B23: 17 | D23: ='入力（研究）'!D23 -> 234200 | E23: ='入力（研究）'!E23 -> 292500 | F23: ='入力（研究）'!F23 -> 377300 | G23: ='入力（研究）'!G23 -> 424700 | H23: =H19+行政!J$51-行政!J$47 -> 490400
B24: 18 | D24: ='入力（研究）'!D24 -> 236000 | E24: ='入力（研究）'!E24 -> 294800 | F24: ='入力（研究）'!F24 -> 378500 | G24: ='入力（研究）'!G24 -> 426300 | H24: =H23+ROUND((H27-H23)/4,-2) -> 490700
B25: 19 | D25: ='入力（研究）'!D25 -> 237800 | E25: ='入力（研究）'!E25 -> 297200 | F25: ='入力（研究）'!F25 -> 379700 | G25: ='入力（研究）'!G25 -> 427900 | H25: =H23+ROUND((H27-H23)*2/4,-2) -> 491000
B26: 20 | D26: ='入力（研究）'!D26 -> 239600 | E26: ='入力（研究）'!E26 -> 299600 | F26: ='入力（研究）'!F26 -> 380900 | G26: ='入力（研究）'!G26 -> 429600 | H26: =H23+ROUND((H27-H23)*3/4,-2) -> 491300
B27: 21 | D27: ='入力（研究）'!D27 -> 241500 | E27: ='入力（研究）'!E27 -> 301900 | F27: ='入力（研究）'!F27 -> 382100 | G27: ='入力（研究）'!G27 -> 430800 | H27: =H23+行政!J$51-行政!J$47 -> 491600
B28: 22 | D28: ='入力（研究）'!D28 -> 243300 | E28: ='入力（研究）'!E28 -> 304100 | F28: ='入力（研究）'!F28 -> 383300 | G28: ='入力（研究）'!G28 -> 432200 | H28: =H27+ROUND((H31-H27)/4,-2) -> 491900
B29: 23 | D29: ='入力（研究）'!D29 -> 245000 | E29: ='入力（研究）'!E29 -> 306200 | F29: ='入力（研究）'!F29 -> 384400 | G29: ='入力（研究）'!G29 -> 433600 | H29: =H27+ROUND((H31-H27)*2/4,-2) -> 492200
B30: 24 | D30: ='入力（研究）'!D30 -> 246700 | E30: ='入力（研究）'!E30 -> 308300 | F30: ='入力（研究）'!F30 -> 385400 | G30: ='入力（研究）'!G30 -> 434900 | H30: =H27+ROUND((H31-H27)*3/4,-2) -> 492500
B31: 25 | D31: ='入力（研究）'!D31 -> 248400 | E31: ='入力（研究）'!E31 -> 310400 | F31: ='入力（研究）'!F31 -> 386500 | G31: ='入力（研究）'!G31 -> 436200 | H31: =H27+行政!J$51-行政!J$47 -> 492800
B32: 26 | D32: ='入力（研究）'!D32 -> 250500 | E32: ='入力（研究）'!E32 -> 312300 | F32: ='入力（研究）'!F32 -> 387500 | G32: ='入力（研究）'!G32 -> 437500 | H32: =H31+ROUND((H35-H31)/4,-2) -> 493100
B33: 27 | D33: ='入力（研究）'!D33 -> 252400 | E33: ='入力（研究）'!E33 -> 314200 | F33: ='入力（研究）'!F33 -> 388400 | G33: ='入力（研究）'!G33 -> 439000 | H33: =H31+ROUND((H35-H31)*2/4,-2) -> 493400
B34: 28 | D34: ='入力（研究）'!D34 -> 254300 | E34: ='入力（研究）'!E34 -> 316100 | F34: ='入力（研究）'!F34 -> 389400 | G34: ='入力（研究）'!G34 -> 440500 | H34: =H31+ROUND((H35-H31)*3/4,-2) -> 493700
B35: 29 | D35: ='入力（研究）'!D35 -> 256200 | E35: ='入力（研究）'!E35 -> 318000 | F35: ='入力（研究）'!F35 -> 390300 | G35: ='入力（研究）'!G35 -> 441700 | H35: =H31+行政!J$51-行政!J$47 -> 494000
B36: 30 | D36: ='入力（研究）'!D36 -> 257400 | E36: ='入力（研究）'!E36 -> 319500 | F36: ='入力（研究）'!F36 -> 391000 | G36: ='入力（研究）'!G36 -> 442900 | H36: =H35+ROUND((H39-H35)/4,-2) -> 494300
B37: 31 | D37: ='入力（研究）'!D37 -> 258500 | E37: ='入力（研究）'!E37 -> 321100 | F37: ='入力（研究）'!F37 -> 391800 | G37: ='入力（研究）'!G37 -> 444500 | H37: =H35+ROUND((H39-H35)*2/4,-2) -> 494600
B38: 32 | D38: ='入力（研究）'!D38 -> 259600 | E38: ='入力（研究）'!E38 -> 322600 | F38: ='入力（研究）'!F38 -> 392500 | G38: ='入力（研究）'!G38 -> 446000 | H38: =H35+ROUND((H39-H35)*3/4,-2) -> 494900
B39: 33 | D39: ='入力（研究）'!D39 -> 261000 | E39: ='入力（研究）'!E39 -> 324100 | F39: ='入力（研究）'!F39 -> 393100 | G39: ='入力（研究）'!G39 -> 447300 | H39: =H35+行政!J$51-行政!J$47 -> 495200
B40: 34 | D40: ='入力（研究）'!D40 -> 262300 | E40: ='入力（研究）'!E40 -> 325600 | F40: ='入力（研究）'!F40 -> 393800 | G40: ='入力（研究）'!G40 -> 448700 | H40: =H39+ROUND((H43-H39)/4,-2) -> 495500
B41: 35 | D41: ='入力（研究）'!D41 -> 263700 | E41: ='入力（研究）'!E41 -> 327100 | F41: ='入力（研究）'!F41 -> 394500 | G41: ='入力（研究）'!G41 -> 450100 | H41: =H39+ROUND((H43-H39)*2/4,-2) -> 495800
B42: 36 | D42: ='入力（研究）'!D42 -> 265100 | E42: ='入力（研究）'!E42 -> 328600 | F42: ='入力（研究）'!F42 -> 395300 | G42: ='入力（研究）'!G42 -> 451500 | H42: =H39+ROUND((H43-H39)*3/4,-2) -> 496100
...

Sheet 医一
A2: 医 療 職 給 料 表
A3: イ 医療職給料表（一）
A4: 職員の区分 | C4: 職務 の級 | D4: 1 | E4: 2 | F4: 3 | G4: 4
B5: 号給 | D5: 給料月額 | E5: 給料月額 | F5: 給料月額 | G5: 給料月額
A6: 定年前再任用短時間勤務職員以外の職員 | D6: 円 | E6: 円 | F6: 円 | G6: 円
B7: 1 | D7: ='入力（医一）'!D7 -> 317300 | E7: ='入力（医一）'!E7 -> 430100 | F7: ='入力（医一）'!F7 -> 486900 | G7: ='入力（医一）'!G7 -> 584000
B8: 2 | D8: ='入力（医一）'!D8 -> 319700 | E8: ='入力（医一）'!E8 -> 432800 | F8: ='入力（医一）'!F8 -> 488900 | G8: ='入力（医一）'!G8 -> 590100 | H8: =G8-G7 -> 6100
B9: 3 | D9: ='入力（医一）'!D9 -> 322000 | E9: ='入力（医一）'!E9 -> 435500 | F9: ='入力（医一）'!F9 -> 490800 | G9: ='入力（医一）'!G9 -> 595200 | H9: =G9-G8 -> 5100
B10: 4 | D10: ='入力（医一）'!D10 -> 324200 | E10: ='入力（医一）'!E10 -> 438100 | F10: ='入力（医一）'!F10 -> 492700 | G10: ='入力（医一）'!G10 -> 599900 | H10: =G10-G9 -> 4700
B11: 5 | D11: ='入力（医一）'!D11 -> 326400 | E11: ='入力（医一）'!E11 -> 440600 | F11: ='入力（医一）'!F11 -> 494200 | G11: ='入力（医一）'!G11 -> 604200 | H11: =G11-G10 -> 4300
B12: 6 | D12: ='入力（医一）'!D12 -> 329900 | E12: ='入力（医一）'!E12 -> 442800 | F12: ='入力（医一）'!F12 -> 495900 | G12: ='入力（医一）'!G12 -> 608500 | H12: =G12-G11 -> 4300
B13: 7 | D13: ='入力（医一）'!D13 -> 333400 | E13: ='入力（医一）'!E13 -> 444800 | F13: ='入力（医一）'!F13 -> 497700 | G13: ='入力（医一）'!G13 -> 611900 | H13: =G13-G12 -> 3400
B14: 8 | D14: ='入力（医一）'!D14 -> 336900 | E14: ='入力（医一）'!E14 -> 446900 | F14: ='入力（医一）'!F14 -> 499500 | G14: ='入力（医一）'!G14 -> 614800 | H14: =G14-G13 -> 2900
B15: 9 | D15: ='入力（医一）'!D15 -> 340500 | E15: ='入力（医一）'!E15 -> 449000 | F15: ='入力（医一）'!F15 -> 501300 | G15: ='入力（医一）'!G15 -> 617300 | H15: =G15-G14 -> 2500
B16: 10 | D16: ='入力（医一）'!D16 -> 344000 | E16: ='入力（医一）'!E16 -> 450600 | F16: ='入力（医一）'!F16 -> 503000 | G16: ='入力（医一）'!G16 -> 619600 | H16: =G16-G15 -> 2300
B17: 11 | D17: ='入力（医一）'!D17 -> 347500 | E17: ='入力（医一）'!E17 -> 452200 | F17: ='入力（医一）'!F17 -> 504800 | G17: ='入力（医一）'!G17 -> 0 | H17: =G17-G16 -> -619600
B18: 12 | D18: ='入力（医一）'!D18 -> 351000 | E18: ='入力（医一）'!E18 -> 453800 | F18: ='入力（医一）'!F18 -> 506600 | G18: ='入力（医一）'!G18 -> 0 | H18: =G18-G17 -> 0
B19: 13 | D19: ='入力（医一）'!D19 -> 354500 | E19: ='入力（医一）'!E19 -> 455400 | F19: ='入力（医一）'!F19 -> 508400 | G19: ='入力（医一）'!G19 -> 0 | H19: =G19-G18 -> 0
... B34: 28 | D34: ='入力（医一）'!D34 -> 401200 | E34: ='入力（医一）'!E34 -> 476600 | F34: ='入力（医一）'!F34 -> 535100 | G34: ='入力（医一）'!G34 -> 0 | H34: =G34-G33 -> 0
B35: 29 | D35: ='入力（医一）'!D35 -> 403200 | E35: ='入力（医一）'!E35 -> 478000 | F35: ='入力（医一）'!F35 -> 536500 | H35: =G35-G34 -> 0
B36: 30 | D36: ='入力（医一）'!D36 -> 404900 | E36: ='入力（医一）'!E36 -> 479300 | F36: ='入力（医一）'!F36 -> 538200 | H36: =G36-G35 -> 0
B37: 31 | D37: ='入力（医一）'!D37 -> 406600 | E37: ='入力（医一）'!E37 -> 480700 | F37: ='入力（医一）'!F37 -> 540000 | H37: =G37-G36 -> 0
B38: 32 | D38: ='入力（医一）'!D38 -> 408400 | E38: ='入力（医一）'!E38 -> 482100 | F38: ='入力（医一）'!F38 -> 541700 | H38: =G38-G37 -> 0
