Workbook

Sheet Sheet1
A1: 放射性物質に対する農林水産物等の検査結果について(令和８年４月以降)
A3: ※ 一般食品の基準値：放射性セシウム（セシウム134とセシウム137の合計） １００Bq／kg(H24.4.1～)
A4: ※ 出荷制限又は出荷自粛は品目及び区域(水域)ごとに実施されており、これに該当する食品が流通することはありません。
A5: なお、出荷制限等の詳細については｢群馬県内の出荷制限・出荷自粛の一覧｣をご覧ください。
A6: ※ 「検出せず」とは、同欄下段の（ ）内に記載した検出下限値を下回ったことを示します。
A7: ※ 検査法のうち、Nalはシンチレーションスペクトロメーター、Geはゲルマニウム半導体検出器
A8: 結果判明日 | B8: 採取市町村名 | C8: 区分 | D8: 農林水産物名 | E8: 野生・栽培等 | F8: その他 | G8: セシウム134結果 | H8: セシウム137結果 | I8: セシウム計 | J8: 検査法 | K8: 出荷制限
A9: 46121 | B9: 安中市 | C9: 山菜類（野生） | D9: わらび | E9: 野生 | F9: － | G9: 検出せず (<9.22) | H9: 検出せず (<7.21) | I9: - | J9: Ge | K9: 制限なし
A10: 46121 | B10: 安中市 | C10: 山菜類（野生） | D10: たらのめ | E10: 野生 | F10: － | G10: 検出せず (<9.64) | H10: 検出せず (<7.84) | I10: - | J10: Ge | K10: 制限なし
A11: 46121 | B11: 安中市 | C11: きのこ類（栽培） | D11: 生しいたけ | E11: 栽培 | F11: 原木・露地栽培 | G11: 検出せず (<8.91) | H11: 検出せず (<7.76) | I11: - | J11: Ge | K11: 制限なし
A12: 46121 | B12: 安中市 | C12: きのこ類（栽培） | D12: 生しいたけ | E12: 栽培 | F12: 原木・露地栽培 | G12: 検出せず (<7.28) | H12: 9.56 | I12: 9.6 | J12: Ge | K12: 制限なし
A13: 46121 | B13: 安中市 | C13: きのこ類（栽培） | D13: 生しいたけ | E13: 栽培 | F13: 原木・露地栽培 | G13: 検出せず (<9.03) | H13: 検出せず (<9.45) | I13: - | J13: Ge | K13: 制限なし
A14: 46121 | B14: 渋川市 | C14: きのこ類（栽培） | D14: 生しいたけ | E14: 栽培 | F14: 原木・施設栽培 | G14: 検出せず (<9.47) | H14: 検出せず (<8.68) | I14: - | J14: Ge | K14: 制限なし
A15: 46121 | B15: 富岡市 | C15: きのこ類（栽培） | D15: 生しいたけ | E15: 栽培 | F15: 原木・露地栽培 | G15: 検出せず (<9.60) | H15: 検出せず (<8.68) | I15: - | J15: Ge | K15: 制限なし
A16: 46128 | B16: 渋川市 | C16: 山菜類（野生） | D16: たけのこ（モウソウチク） | E16: 野生 | F16: － | G16: 検出せず (<6.83) | H16: 検出せず (<6.15) | I16: - | J16: Ge | K16: 制限なし
A17: 46128 | B17: 桐生市 | C17: 山菜類（野生） | D17: たけのこ（モウソウチク） | E17: 野生 | F17: － | G17: 検出せず (<9.67) | H17: 検出せず (<9.37) | I17: - | J17: Ge | K17: 制限なし
A18: 46128 | B18: 伊勢崎市 | C18: 山菜類（野生） | D18: たけのこ（モウソウチク） | E18: 野生 | F18: － | G18: 検出せず (<9.65) | H18: 検出せず (<7.55) | I18: - | J18: Ge | K18: 制限なし
A19: 46128 | B19: 伊勢崎市 | C19: 山菜類（野生） | D19: わらび | E19: 野生 | F19: － | G19: 検出せず (<9.58) | H19: 検出せず (<8.52) | I19: - | J19: Ge | K19: 制限なし
A20: 46128 | B20: 嬬恋村 | C20: きのこ類（栽培） | D20: 生しいたけ | E20: 栽培 | F20: 原木・施設栽培 | G20: 検出せず (<9.06) | H20: 検出せず (<9.73) | I20: - | J20: Ge | K20: 制限なし
A21: 46128 | B21: 嬬恋村 | C21: きのこ類（栽培） | D21: 生しいたけ | E21: 栽培 | F21: 原木・施設栽培 | G21: 検出せず (<9.45) | H21: 検出せず (<8.13) | I21: - | J21: Ge | K21: 制限なし
A22: 46128 | B22: 嬬恋村 | C22: きのこ類（栽培） | D22: 生しいたけ | E22: 栽培 | F22: 原木・施設栽培 | G22: 検出せず (<9.63) | H22: 検出せず (<7.88) | I22: - | J22: Ge | K22: 制限なし
A23: 46128 | B23: 下仁田町 | C23: きのこ類（栽培） | D23: 乾しいたけ | E23: 栽培 | F23: 原木・施設栽培 | G23: 検出せず (<9.17) | H23: 8.93 | I23: 8.9 | J23: Ge | K23: 制限なし
A24: 46128 | B24: 藤岡市 | C24: きのこ類（栽培） | D24: 生しいたけ | E24: 栽培 | F24: 原木・露地栽培 | G24: 検出せず (<8.87) | H24: 12.6 | I24: 13 | J24: Ge | K24: 制限なし
A25: 46128 | B25: 藤岡市 | C25: きのこ類（栽培） | D25: 生しいたけ | E25: 栽培 | F25: 原木・露地栽培 | G25: 検出せず (<8.34) | H25: 検出せず (<9.77) | I25: - | J25: Ge | K25: 制限なし
A26: 46135 | B26: みどり市 | C26: 山菜類（野生） | D26: たけのこ（モウソウチク） | E26: 野生 | F26: － | G26: 検出せず (<9.70) | H26: 検出せず (<8.68) | I26: - | J26: Ge | K26: 制限なし
A27: 46135 | B27: 中之条町 | C27: 山菜類（野生） | D27: たけのこ（モウソウチク） | E27: 野生 | F27: － | G27: 検出せず (<9.55) | H27: 検出せず (<7.65) | I27: - | J27: Ge | K27: 制限なし
A28: 46135 | B28: 昭和村 | C28: 山菜類（野生） | D28: たらのめ | E28: 野生 | F28: － | G28: 検出せず (<7.61) | H28: 15.1 | I28: 15 | J28: Ge | K28: 制限なし
A29: 46134 | B29: 川場村 | C29: 野菜 | D29: たらのめ | E29: 栽培 | F29: 露地栽培 | G29: 検出せず (<2.00) | H29: 検出せず (<2.40) | I29: - | J29: Ｇｅ | K29: 制限なし
A30: 46156 | B30: 東吾妻町 | C30: 山菜類（野生） | D30: たけのこ（モウソウチク） | E30: 野生 | F30: － | G30: 検出せず (<8.86) | H30: 検出せず (<9.57) | I30: - | J30: Ge | K30: 制限なし
A31: 46156 | B31: 東吾妻町 | C31: 山菜類（野生） | D31: わらび | E31: 野生 | F31: － | G31: 検出せず (<9.57) | H31: 検出せず (<8.64) | I31: - | J31: Ge | K31: 制限なし
A32: 46156 | B32: 邑楽町 | C32: 山菜類（野生） | D32: たけのこ（モウソウチク） | E32: 野生 | F32: － | G32: 検出せず (<9.74) | H32: 検出せず (<8.18) | I32: - | J32: Ge | K32: 制限なし
A33: 46156 | B33: 沼田市 | C33: 山菜類（野生） | D33: たらのめ | E33: 野生 | F33: － | G33: 検出せず (<9.52) | H33: 27 | I33: 27 | J33: Ge | K33: 制限なし
A34: 46156 | B34: 沼田市 | C34: 山菜類（野生） | D34: たらのめ | E34: 野生 | F34: － | G34: 検出せず (<9.61) | H34: 22.6 | I34: 23 | J34: Ge | K34: 制限なし
A35: 46156 | B35: 沼田市 | C35: 山菜類（野生） | D35: たらのめ | E35: 野生 | F35: － | G35: 検出せず (<9.47) | H35: 48.2 | I35: 48 | J35: Ge | K35: 制限なし
A36: 46156 | B36: 下仁田町 | C36: 山菜類（野生） | D36: たらのめ | E36: 野生 | F36: － | G36: 検出せず (<9.43) | H36: 検出せず (<7.93) | I36: - | J36: Ge | K36: 制限なし
A37: 46156 | B37: 沼田市 | C37: 山菜類（野生） | D37: たけのこ（モウソウチク） | E37: 野生 | F37: － | G37: 検出せず (<9.51) | H37: 検出せず (<9.62) | I37: - | J37: Ge | K37: 制限なし
A38: 46156 | B38: 渋川市 | C38: 山菜類（野生） | D38: たらのめ | E38: 野生 | F38: － | G38: 検出せず (<9.57) | H38: 108 | I38: 110 | J38: Ge | K38: 制限なし
A39: 46156 | B39: 榛東村 | C39: 山菜類（野生） | D39: たけのこ（モウソウチク） | E39: 野生 | F39: － | G39: 検出せず (<9.59) | H39: 検出せず (<7.38) | I39: - | J39: Ge | K39: 制限なし
A40: 46156 | B40: 高崎市 | C40: 山菜類（野生） | D40: たらのめ | E40: 野生 | F40: － | G40: 検出せず (<9.58) | H40: 検出せず (<7.60) | I40: - | J40: Ge | K40: 制限なし
A41: 46171 | B41: 千代田町 | C41: 水産物（天然） | D41: アユ | E41: 天然 | G41: 検出せず (<4.6) | H41: 検出せず (<4.20) | I41: - | J41: Ge | K41: 制限なし
A42: 46171 | B42: 渋川市 | C42: 水産物（養殖） | D42: アユ | E42: 養殖 | G42: 検出せず (<4.70) | H42: 検出せず (<4.40) | I42: - | J42: Ge | K42: 制限なし
A43: 46171 | B43: 嬬恋村 | C43: 水産物（養殖） | D43: ニジマス | E43: 養殖 | G43: 検出せず (<7.30) | H43: 検出せず (<7.00) | I43: - | J43: Ge | K43: 制限なし
A44: 46171 | B44: 嬬恋村 | C44: 水産物（養殖） | D44: ニジマス | E44: 養殖 | G44: 検出せず (<5.50) | H44: 検出せず (<5.60) | I44: - | J44: Ge | K44: 制限なし
A45: 46171 | B45: 高崎市 | C45: 水産物（養殖） | D45: ニジマス | E45: 養殖 | G45: 検出せず (<4.00) | H45: 検出せず (<4.40) | I45: - | J45: Ge | K45: 制限なし
A46: 46171 | B46: 桐生市 | C46: 水産物（養殖） | D46: ニジマス | E46: 養殖 | G46: 検出せず (<3.70) | H46: 検出せず (<4.00) | I46: - | J46: Ge | K46: 制限なし
A47: 46171 | B47: 嬬恋村 | C47: 水産物（養殖） | D47: ヤマメ | E47: 養殖 | G47: 検出せず (<4.40) | H47: 検出せず (<4.10) | I47: - | J47: Ge | K47: 制限なし
A48: 46171 | B48: 嬬恋村 | C48: 水産物（養殖） | D48: ヤマメ | E48: 養殖 | G48: 検出せず (<6.10) | H48: 検出せず (<4.90) | I48: - | J48: Ge | K48: 制限なし
A49: 46171 | B49: 嬬恋村 | C49: 水産物（養殖） | D49: イワナ | E49: 養殖 | G49: 検出せず (<5.30) | H49: 検出せず (<5.30) | I49: - | J49: Ge | K49: 制限なし
A50: 46171 | B50: 嬬恋村 | C50: 水産物（養殖） | D50: イワナ | E50: 養殖 | G50: 検出せず (<5.30) | H50: 検出せず (<5.30) | I50: - | J50: Ge | K50: 制限なし
A51: 46171 | B51: 高崎市 | C51: 水産物（養殖） | D51: イワナ | E51: 養殖 | G51: 検出せず (<4.60) | H51: 検出せず (<4.70) | I51: - | J51: Ge | K51: 制限なし
A52: 46171 | B52: 嬬恋村 | C52: 水産物（養殖） | D52: ギンヒカリ | E52: 養殖 | G52: 検出せず (<4.70) | H52: 検出せず (<5.00) | I52: - | J52: Ge | K52: 制限なし
... A56: 46171 | B56: 嬬恋村 | C56: 水産物（養殖） | D56: ハコスチ | E56: 養殖 | G56: 検出せず (<6.70) | H56: 検出せず (<6.70) | I56: - | J56: Ge | K56: 制限なし
A57: 46162 | B57: 沼田市 | C57: 山菜類（野生） | D57: わらび | E57: 野生 | F57: － | G57: 検出せず (<8.89) | H57: 96.1 | I57: 96 | J57: Ge | K57: 制限なし
A58: 46162 | B58: 沼田市 | C58: 山菜類（野生） | D58: わらび | E58: 野生 | F58: － | G58: 検出せず (<9.73) | H58: 139 | I58: 140 | J58: Ge | K58: 制限なし
A59: 46169 | B59: 中之条町 | C59: 山菜類（野生） | D59: たらのめ | E59: 野生 | F59: － | G59: 検出せず (<9.56) | H59: 45.7 | I59: 46 | J59: Ge | K59: 制限なし
A60: 46169 | B60: 中之条町 | C60: 山菜類（野生） | D60: たらのめ | E60: 野生 | F60: － | G60: 検出せず (<9.79) | H60: 25.4 | I60: 25 | J60: Ge | K60: 制限なし
A61: 46169 | B61: 中之条町 | C61: 山菜類（野生） | D61: わらび | E61: 野生 | F61: － | G61: 検出せず (<9.30) | H61: 40.5 | I61: 41 | J61: Ge | K61: 制限なし
A62: 46169 | B62: 南牧村 | C62: 山菜類（野生） | D62: わらび | E62: 野生 | F62: － | G62: 検出せず (<9.21) | H62: 検出せず (<9.66) | I62: - | J62: Ge | K62: 制限なし
A63: =VLOOKUP(ROW()-8,[1]データ入力!$C:$W,17,FALSE) -> 46177 | B63: =VLOOKUP(ROW()-8,[1]データ入力!$C:$W,6,FALSE) -> 嬬恋村 | C63: =VLOOKUP(ROW()-8,[1]データ入力!$C:$W,21,FALSE) -> きのこ類（栽培） | D63: =VLOOKUP(ROW()-8,[1]データ入力!$C:$W,10,FALSE) -> 生しいたけ | E63: =IF(ISBLANK(VLOOKUP(ROW()-8,[1]データ入力!$C:$W,11,FALSE)),"",VLOOKUP(ROW()-8,[1]データ入力!$C:$W,11,FALSE)) -> 栽培 | F63: =IF(ISBLANK(VLOOKUP(ROW()-8,[1]データ入力!$C:$W,12,FALSE)),"",VLOOKUP(ROW()-8,[1]データ入力!$C:$W,12,FALSE)) -> 原木・施設栽培 | G63: =IF(ISNUMBER(VLOOKUP(ROW()-8,[1]データ入力!$C:$W,18,FALSE)),TEXT(ROUNDDOWN(VLOOKUP(ROW()-8,[1]データ入力!$C:$W,18,FALSE),2-INT(LOG(ABS(VLOOKUP(ROW()-8,[1]データ入力!$C:$W,18,FALSE))))),"0"&IF(LOG(ROUNDDOWN(VLOOKUP(ROW()-8,[1]データ入力!$C:$W,18,FALSE),2-INT(LOG(ABS(VLOOKUP(ROW()-8,[1]データ入力!$C:$W,18,FALSE))))))<2,"."&REPT("0",INT(3-LOG(ROUNDDOWN(VLOOKUP(ROW()-8,[1]データ入力!$C:$W,18,FALSE),2-INT(LOG(ABS(VLOOKUP(ROW()-8,[1]データ入力!$C:$W,18,FALSE)))))))),"")),"検出せず"&CHAR(10)&"(<"&TEXT(ROUNDDOWN(SUBSTITUTE(VLOOKUP(ROW()-8,[1]データ入力!$C:$W,18,FALSE),"<","")*1,2-INT(LOG(ABS(SUBSTITUTE(VLOOKUP(ROW()-8,[1]データ入力!$C:$W,18,FALSE),"<","")*1)))),"0"&IF(LOG(ROUNDDOWN(SUBSTITUTE(VLOOKUP(ROW()-8,[1]データ入力!$C:$W,18,FALSE),"<","")*1,2-INT(LOG(ABS(SUBSTITUTE(VLOOKUP(ROW()-8,[1]データ入力!$C:$W,18,FALSE),"<","")*1)))))<2,"."&REPT("0",INT(3-LOG(ROUNDDOWN(SUBSTITUTE(VLOOKUP(ROW()-8,[1]データ入力!$C:$W,18,FALSE),"<","")*1,2-INT(LOG(ABS(SUBSTITUTE(VLOOKUP(ROW()-8,[1]データ入力!$C:$W,18,FALSE),"<","")*1))))))),""))&")") -> 検出せず (<9.44) | H63: =IF(ISNUMBER(VLOOKUP(ROW()-8,[1]データ入力!$C:$W,19,FALSE)),TEXT(ROUNDDOWN(VLOOKUP(ROW()-8,[1]データ入力!$C:$W,19,FALSE),2-INT(LOG(ABS(VLOOKUP(ROW()-8,[1]データ入力!$C:$W,19,FALSE))))),"0"&IF(LOG(ROUNDDOWN(VLOOKUP(ROW()-8,[1]データ入力!$C:$W,19,FALSE),2-INT(LOG(ABS(VLOOKUP(ROW()-8,[1]データ入力!$C:$W,19,FALSE))))))<2,"."&REPT("0",INT(3-LOG(ROUNDDOWN(VLOOKUP(ROW()-8,[1]データ入力!$C:$W,19,FALSE),2-INT(LOG(ABS(VLOOKUP(ROW()-8,[1]データ入力!$C:$W,19,FALSE)))))))),"")),"検出せず"&CHAR(10)&"(<"&TEXT(ROUNDDOWN(SUBSTITUTE(VLOOKUP(ROW()-8,[1]データ入力!$C:$W,19,FALSE),"<","")*1,2-INT(LOG(ABS(SUBSTITUTE(VLOOKUP(ROW()-8,[1]データ入力!$C:$W,19,FALSE),"<","")*1)))),"0"&IF(LOG(ROUNDDOWN(SUBSTITUTE(VLOOKUP(ROW()-8,[1]データ入力!$C:$W,19,FALSE),"<","")*1,2-INT(LOG(ABS(SUBSTITUTE(VLOOKUP(ROW()-8,[1]データ入力!$C:$W,19,FALSE),"<","")*1)))))<2,"."&REPT("0",INT(3-LOG(ROUNDDOWN(SUBSTITUTE(VLOOKUP(ROW()-8,[1]データ入力!$C:$W,19,FALSE),"<","")*1,2-INT(LOG(ABS(SUBSTITUTE(VLOOKUP(ROW()-8,[1]データ入力!$C:$W,19,FALSE),"<","")*1))))))),""))&")") -> 検出せず (<6.47) | I63: =IF(ISNUMBER(VLOOKUP(ROW()-8,[1]データ入力!$C:$W,20,FALSE)),TEXT(ROUND(VLOOKUP(ROW()-8,[1]データ入力!$C:$W,20,FALSE),1-INT(LOG(ABS(VLOOKUP(ROW()-8,[1]データ入力!$C:$W,20,FALSE))))),"0"&IF(LOG(ROUND(VLOOKUP(ROW()-8,[1]データ入力!$C:$W,20,FALSE),1-INT(LOG(ABS(VLOOKUP(ROW()-8,[1]データ入力!$C:$W,20,FALSE))))))<1,"."&REPT("0",INT(2-LOG(ABS(VLOOKUP(ROW()-8,[1]データ入力!$C:$W,20,FALSE))))),"")),"-") -> - | J63: =VLOOKUP(ROW()-8,[1]データ入力!$C:$W,15,FALSE) -> Ge | K63: =VLOOKUP(ROW()-8,[1]データ入力!$C:$W,13,FALSE) -> 制限なし
A64: =VLOOKUP(ROW()-8,[1]データ入力!$C:$W,17,FALSE) -> 46177 | B64: =VLOOKUP(ROW()-8,[1]データ入力!$C:$W,6,FALSE) -> 桐生市 | C64: =VLOOKUP(ROW()-8,[1]データ入力!$C:$W,21,FALSE) -> 山菜類（野生） | D64: =VLOOKUP(ROW()-8,[1]データ入力!$C:$W,10,FALSE) -> たけのこ(マダケ) | E64: =IF(ISBLANK(VLOOKUP(ROW()-8,[1]データ入力!$C:$W,11,FALSE)),"",VLOOKUP(ROW()-8,[1]データ入力!$C:$W,11,FALSE)) -> 野生 | F64: =IF(ISBLANK(VLOOKUP(ROW()-8,[1]データ入力!$C:$W,12,FALSE)),"",VLOOKUP(ROW()-8,[1]データ入力!$C:$W,12,FALSE)) -> － | G64: =IF(ISNUMBER(VLOOKUP(ROW()-8,[1]データ入力!$C:$W,18,FALSE)),TEXT(ROUNDDOWN(VLOOKUP(ROW()-8,[1]データ入力!$C:$W,18,FALSE),2-INT(LOG(ABS(VLOOKUP(ROW()-8,[1]データ入力!$C:$W,18,FALSE))))),"0"&IF(LOG(ROUNDDOWN(VLOOKUP(ROW()-8,[1]データ入力!$C:$W,18,FALSE),2-INT(LOG(ABS(VLOOKUP(ROW()-8,[1]データ入力!$C:$W,18,FALSE))))))<2,"."&REPT("0",INT(3-LOG(ROUNDDOWN(VLOOKUP(ROW()-8,[1]データ入力!$C:$W,18,FALSE),2-INT(LOG(ABS(VLOOKUP(ROW()-8,[1]データ入力!$C:$W,18,FALSE)))))))),"")),"検出せず"&CHAR(10)&"(<"&TEXT(ROUNDDOWN(SUBSTITUTE(VLOOKUP(ROW()-8,[1]データ入力!$C:$W,18,FALSE),"<","")*1,2-INT(LOG(ABS(SUBSTITUTE(VLOOKUP(ROW()-8,[1]データ入力!$C:$W,18,FALSE),"<","")*1)))),"0"&IF(LOG(ROUNDDOWN(SUBSTITUTE(VLOOKUP(ROW()-8,[1]データ入力!$C:$W,18,FALSE),"<","")*1,2-INT(LOG(ABS(SUBSTITUTE(VLOOKUP(ROW()-8,[1]データ入力!$C:$W,18,FALSE),"<","")*1)))))<2,"."&REPT("0",INT(3-LOG(ROUNDDOWN(SUBSTITUTE(VLOOKUP(ROW()-8,[1]データ入力!$C:$W,18,FALSE),"<","")*1,2-INT(LOG(ABS(SUBSTITUTE(VLOOKUP(ROW()-8,[1]データ入力!$C:$W,18,FALSE),"<","")*1))))))),""))&")") -> 検出せず (<9.76) | H64: =IF(ISNUMBER(VLOOKUP(ROW()-8,[1]データ入力!$C:$W,19,FALSE)),TEXT(ROUNDDOWN(VLOOKUP(ROW()-8,[1]データ入力!$C:$W,19,FALSE),2-INT(LOG(ABS(VLOOKUP(ROW()-8,[1]データ入力!$C:$W,19,FALSE))))),"0"&IF(LOG(ROUNDDOWN(VLOOKUP(ROW()-8,[1]データ入力!$C:$W,19,FALSE),2-INT(LOG(ABS(VLOOKUP(ROW()-8,[1]データ入力!$C:$W,19,FALSE))))))<2,"."&REPT("0",INT(3-LOG(ROUNDDOWN(VLOOKUP(ROW()-8,[1]データ入力!$C:$W,19,FALSE),2-INT(LOG(ABS(VLOOKUP(ROW()-8,[1]データ入力!$C:$W,19,FALSE)))))))),"")),"検出せず"&CHAR(10)&"(<"&TEXT(ROUNDDOWN(SUBSTITUTE(VLOOKUP(ROW()-8,[1]データ入力!$C:$W,19,FALSE),"<","")*1,2-INT(LOG(ABS(SUBSTITUTE(VLOOKUP(ROW()-8,[1]データ入力!$C:$W,19,FALSE),"<","")*1)))),"0"&IF(LOG(ROUNDDOWN(SUBSTITUTE(VLOOKUP(ROW()-8,[1]データ入力!$C:$W,19,FALSE),"<","")*1,2-INT(LOG(ABS(SUBSTITUTE(VLOOKUP(ROW()-8,[1]データ入力!$C:$W,19,FALSE),"<","")*1)))))<2,"."&REPT("0",INT(3-LOG(ROUNDDOWN(SUBSTITUTE(VLOOKUP(ROW()-8,[1]データ入力!$C:$W,19,FALSE),"<","")*1,2-INT(LOG(ABS(SUBSTITUTE(VLOOKUP(ROW()-8,[1]データ入力!$C:$W,19,FALSE),"<","")*1))))))),""))&")") -> 検出せず (<5.93) | I64: =IF(ISNUMBER(VLOOKUP(ROW()-8,[1]データ入力!$C:$W,20,FALSE)),TEXT(ROUND(VLOOKUP(ROW()-8,[1]データ入力!$C:$W,20,FALSE),1-INT(LOG(ABS(VLOOKUP(ROW()-8,[1]データ入力!$C:$W,20,FALSE))))),"0"&IF(LOG(ROUND(VLOOKUP(ROW()-8,[1]データ入力!$C:$W,20,FALSE),1-INT(LOG(ABS(VLOOKUP(ROW()-8,[1]データ入力!$C:$W,20,FALSE))))))<1,"."&REPT("0",INT(2-LOG(ABS(VLOOKUP(ROW()-8,[1]データ入力!$C:$W,20,FALSE))))),"")),"-") -> - | J64: =VLOOKUP(ROW()-8,[1]データ入力!$C:$W,15,FALSE) -> Ge | K64: =VLOOKUP(ROW()-8,[1]データ入力!$C:$W,13,FALSE) -> 制限なし
A65: =VLOOKUP(ROW()-8,[1]データ入力!$C:$W,17,FALSE) -> 46177 | B65: =VLOOKUP(ROW()-8,[1]データ入力!$C:$W,6,FALSE) -> 片品村 | C65: =VLOOKUP(ROW()-8,[1]データ入力!$C:$W,21,FALSE) -> 山菜類（野生） | D65: =VLOOKUP(ROW()-8,[1]データ入力!$C:$W,10,FALSE) -> わらび | E65: =IF(ISBLANK(VLOOKUP(ROW()-8,[1]データ入力!$C:$W,11,FALSE)),"",VLOOKUP(ROW()-8,[1]データ入力!$C:$W,11,FALSE)) -> 野生 | F65: =IF(ISBLANK(VLOOKUP(ROW()-8,[1]データ入力!$C:$W,12,FALSE)),"",VLOOKUP(ROW()-8,[1]データ入力!$C:$W,12,FALSE)) -> － | G65: =IF(ISNUMBER(VLOOKUP(ROW()-8,[1]データ入力!$C:$W,18,FALSE)),TEXT(ROUNDDOWN(VLOOKUP(ROW()-8,[1]データ入力!$C:$W,18,FALSE),2-INT(LOG(ABS(VLOOKUP(ROW()-8,[1]データ入力!$C:$W,18,FALSE))))),"0"&IF(LOG(ROUNDDOWN(VLOOKUP(ROW()-8,[1]データ入力!$C:$W,18,FALSE),2-INT(LOG(ABS(VLOOKUP(ROW()-8,[1]データ入力!$C:$W,18,FALSE))))))<2,"."&REPT("0",INT(3-LOG(ROUNDDOWN(VLOOKUP(ROW()-8,[1]データ入力!$C:$W,18,FALSE),2-INT(LOG(ABS(VLOOKUP(ROW()-8,[1]データ入力!$C:$W,18,FALSE)))))))),"")),"検出せず"&CHAR(10)&"(<"&TEXT(ROUNDDOWN(SUBSTITUTE(VLOOKUP(ROW()-8,[1]データ入力!$C:$W,18,FALSE),"<","")*1,2-INT(LOG(ABS(SUBSTITUTE(VLOOKUP(ROW()-8,[1]データ入力!$C:$W,18,FALSE),"<","")*1)))),"0"&IF(LOG(ROUNDDOWN(SUBSTITUTE(VLOOKUP(ROW()-8,[1]データ入力!$C:$W,18,FALSE),"<","")*1,2-INT(LOG(ABS(SUBSTITUTE(VLOOKUP(ROW()-8,[1]データ入力!$C:$W,18,FALSE),"<","")*1)))))<2,"."&REPT("0",INT(3-LOG(ROUNDDOWN(SUBSTITUTE(VLOOKUP(ROW()-8,[1]データ入力!$C:$W,18,FALSE),"<","")*1,2-INT(LOG(ABS(SUBSTITUTE(VLOOKUP(ROW()-8,[1]データ入力!$C:$W,18,FALSE),"<","")*1))))))),""))&")") -> 検出せず (<8.46) | H65: =IF(ISNUMBER(VLOOKUP(ROW()-8,[1]データ入力!$C:$W,19,FALSE)),TEXT(ROUNDDOWN(VLOOKUP(ROW()-8,[1]データ入力!$C:$W,19,FALSE),2-INT(LOG(ABS(VLOOKUP(ROW()-8,[1]データ入力!$C:$W,19,FALSE))))),"0"&IF(LOG(ROUNDDOWN(VLOOKUP(ROW()-8,[1]データ入力!$C:$W,19,FALSE),2-INT(LOG(ABS(VLOOKUP(ROW()-8,[1]データ入力!$C:$W,19,FALSE))))))<2,"."&REPT("0",INT(3-LOG(ROUNDDOWN(VLOOKUP(ROW()-8,[1]データ入力!$C:$W,19,FALSE),2-INT(LOG(ABS(VLOOKUP(ROW()-8,[1]データ入力!$C:$W,19,FALSE)))))))),"")),"検出せず"&CHAR(10)&"(<"&TEXT(ROUNDDOWN(SUBSTITUTE(VLOOKUP(ROW()-8,[1]データ入力!$C:$W,19,FALSE),"<","")*1,2-INT(LOG(ABS(SUBSTITUTE(VLOOKUP(ROW()-8,[1]データ入力!$C:$W,19,FALSE),"<","")*1)))),"0"&IF(LOG(ROUNDDOWN(SUBSTITUTE(VLOOKUP(ROW()-8,[1]データ入力!$C:$W,19,FALSE),"<","")*1,2-INT(LOG(ABS(SUBSTITUTE(VLOOKUP(ROW()-8,[1]データ入力!$C:$W,19,FALSE),"<","")*1)))))<2,"."&REPT("0",INT(3-LOG(ROUNDDOWN(SUBSTITUTE(VLOOKUP(ROW()-8,[1]データ入力!$C:$W,19,FALSE),"<","")*1,2-INT(LOG(ABS(SUBSTITUTE(VLOOKUP(ROW()-8,[1]データ入力!$C:$W,19,FALSE),"<","")*1))))))),""))&")") -> 検出せず (<9.71) | I65: =IF(ISNUMBER(VLOOKUP(ROW()-8,[1]データ入力!$C:$W,20,FALSE)),TEXT(ROUND(VLOOKUP(ROW()-8,[1]データ入力!$C:$W,20,FALSE),1-INT(LOG(ABS(VLOOKUP(ROW()-8,[1]データ入力!$C:$W,20,FALSE))))),"0"&IF(LOG(ROUND(VLOOKUP(ROW()-8,[1]データ入力!$C:$W,20,FALSE),1-INT(LOG(ABS(VLOOKUP(ROW()-8,[1]データ入力!$C:$W,20,FALSE))))))<1,"."&REPT("0",INT(2-LOG(ABS(VLOOKUP(ROW()-8,[1]データ入力!$C:$W,20,FALSE))))),"")),"-") -> - | J65: =VLOOKUP(ROW()-8,[1]データ入力!$C:$W,15,FALSE) -> Ge | K65: =VLOOKUP(ROW()-8,[1]データ入力!$C:$W,13,FALSE) -> 制限なし
A66: =VLOOKUP(ROW()-8,[1]データ入力!$C:$W,17,FALSE) -> 46177 | B66: =VLOOKUP(ROW()-8,[1]データ入力!$C:$W,6,FALSE) -> 吉岡町 | C66: =VLOOKUP(ROW()-8,[1]データ入力!$C:$W,21,FALSE) -> 山菜類（野生） | D66: =VLOOKUP(ROW()-8,[1]データ入力!$C:$W,10,FALSE) -> たけのこ(マダケ) | E66: =IF(ISBLANK(VLOOKUP(ROW()-8,[1]データ入力!$C:$W,11,FALSE)),"",VLOOKUP(ROW()-8,[1]データ入力!$C:$W,11,FALSE)) -> 野生 | F66: =IF(ISBLANK(VLOOKUP(ROW()-8,[1]データ入力!$C:$W,12,FALSE)),"",VLOOKUP(ROW()-8,[1]データ入力!$C:$W,12,FALSE)) -> － | G66: =IF(ISNUMBER(VLOOKUP(ROW()-8,[1]データ入力!$C:$W,18,FALSE)),TEXT(ROUNDDOWN(VLOOKUP(ROW()-8,[1]データ入力!$C:$W,18,FALSE),2-INT(LOG(ABS(VLOOKUP(ROW()-8,[1]データ入力!$C:$W,18,FALSE))))),"0"&IF(LOG(ROUNDDOWN(VLOOKUP(ROW()-8,[1]データ入力!$C:$W,18,FALSE),2-INT(LOG(ABS(VLOOKUP(ROW()-8,[1]データ入力!$C:$W,18,FALSE))))))<2,"."&REPT("0",INT(3-LOG(ROUNDDOWN(VLOOKUP(ROW()-8,[1]データ入力!$C:$W,18,FALSE),2-INT(LOG(ABS(VLOOKUP(ROW()-8,[1]データ入力!$C:$W,18,FALSE)))))))),"")),"検出せず"&CHAR(10)&"(<"&TEXT(ROUNDDOWN(SUBSTITUTE(VLOOKUP(ROW()-8,[1]データ入力!$C:$W,18,FALSE),"<","")*1,2-INT(LOG(ABS(SUBSTITUTE(VLOOKUP(ROW()-8,[1]データ入力!$C:$W,18,FALSE),"<","")*1)))),"0"&IF(LOG(ROUNDDOWN(SUBSTITUTE(VLOOKUP(ROW()-8,[1]データ入力!$C:$W,18,FALSE),"<","")*1,2-INT(LOG(ABS(SUBSTITUTE(VLOOKUP(ROW()-8,[1]データ入力!$C:$W,18,FALSE),"<","")*1)))))<2,"."&REPT("0",INT(3-LOG(ROUNDDOWN(SUBSTITUTE(VLOOKUP(ROW()-8,[1]データ入力!$C:$W,18,FALSE),"<","")*1,2-INT(LOG(ABS(SUBSTITUTE(VLOOKUP(ROW()-8,[1]データ入力!$C:$W,18,FALSE),"<","")*1))))))),""))&")") -> 検出せず (<9.71) | H66: =IF(ISNUMBER(VLOOKUP(ROW()-8,[1]データ入力!$C:$W,19,FALSE)),TEXT(ROUNDDOWN(VLOOKUP(ROW()-8,[1]データ入力!$C:$W,19,FALSE),2-INT(LOG(ABS(VLOOKUP(ROW()-8,[1]データ入力!$C:$W,19,FALSE))))),"0"&IF(LOG(ROUNDDOWN(VLOOKUP(ROW()-8,[1]データ入力!$C:$W,19,FALSE),2-INT(LOG(ABS(VLOOKUP(ROW()-8,[1]データ入力!$C:$W,19,FALSE))))))<2,"."&REPT("0",INT(3-LOG(ROUNDDOWN(VLOOKUP(ROW()-8,[1]データ入力!$C:$W,19,FALSE),2-INT(LOG(ABS(VLOOKUP(ROW()-8,[1]データ入力!$C:$W,19,FALSE)))))))),"")),"検出せず"&CHAR(10)&"(<"&TEXT(ROUNDDOWN(SUBSTITUTE(VLOOKUP(ROW()-8,[1]データ入力!$C:$W,19,FALSE),"<","")*1,2-INT(LOG(ABS(SUBSTITUTE(VLOOKUP(ROW()-8,[1]データ入力!$C:$W,19,FALSE),"<","")*1)))),"0"&IF(LOG(ROUNDDOWN(SUBSTITUTE(VLOOKUP(ROW()-8,[1]データ入力!$C:$W,19,FALSE),"<","")*1,2-INT(LOG(ABS(SUBSTITUTE(VLOOKUP(ROW()-8,[1]データ入力!$C:$W,19,FALSE),"<","")*1)))))<2,"."&REPT("0",INT(3-LOG(ROUNDDOWN(SUBSTITUTE(VLOOKUP(ROW()-8,[1]データ入力!$C:$W,19,FALSE),"<","")*1,2-INT(LOG(ABS(SUBSTITUTE(VLOOKUP(ROW()-8,[1]データ入力!$C:$W,19,FALSE),"<","")*1))))))),""))&")") -> 検出せず (<8.25) | I66: =IF(ISNUMBER(VLOOKUP(ROW()-8,[1]データ入力!$C:$W,20,FALSE)),TEXT(ROUND(VLOOKUP(ROW()-8,[1]データ入力!$C:$W,20,FALSE),1-INT(LOG(ABS(VLOOKUP(ROW()-8,[1]データ入力!$C:$W,20,FALSE))))),"0"&IF(LOG(ROUND(VLOOKUP(ROW()-8,[1]データ入力!$C:$W,20,FALSE),1-INT(LOG(ABS(VLOOKUP(ROW()-8,[1]データ入力!$C:$W,20,FALSE))))))<1,"."&REPT("0",INT(2-LOG(ABS(VLOOKUP(ROW()-8,[1]データ入力!$C:$W,20,FALSE))))),"")),"-") -> - | J66: =VLOOKUP(ROW()-8,[1]データ入力!$C:$W,15,FALSE) -> Ge | K66: =VLOOKUP(ROW()-8,[1]データ入力!$C:$W,13,FALSE) -> 制限なし
A67: =VLOOKUP(ROW()-8,[1]データ入力!$C:$W,17,FALSE) -> 46177 | B67: =VLOOKUP(ROW()-8,[1]データ入力!$C:$W,6,FALSE) -> 桐生市 | C67: =VLOOKUP(ROW()-8,[1]データ入力!$C:$W,21,FALSE) -> 山菜類（野生） | D67: =VLOOKUP(ROW()-8,[1]データ入力!$C:$W,10,FALSE) -> たけのこ(マダケ) | E67: =IF(ISBLANK(VLOOKUP(ROW()-8,[1]データ入力!$C:$W,11,FALSE)),"",VLOOKUP(ROW()-8,[1]データ入力!$C:$W,11,FALSE)) -> 野生 | F67: =IF(ISBLANK(VLOOKUP(ROW()-8,[1]データ入力!$C:$W,12,FALSE)),"",VLOOKUP(ROW()-8,[1]データ入力!$C:$W,12,FALSE)) -> － | G67: =IF(ISNUMBER(VLOOKUP(ROW()-8,[1]データ入力!$C:$W,18,FALSE)),TEXT(ROUNDDOWN(VLOOKUP(ROW()-8,[1]データ入力!$C:$W,18,FALSE),2-INT(LOG(ABS(VLOOKUP(ROW()-8,[1]データ入力!$C:$W,18,FALSE))))),"0"&IF(LOG(ROUNDDOWN(VLOOKUP(ROW()-8,[1]データ入力!$C:$W,18,FALSE),2-INT(LOG(ABS(VLOOKUP(ROW()-8,[1]データ入力!$C:$W,18,FALSE))))))<2,"."&REPT("0",INT(3-LOG(ROUNDDOWN(VLOOKUP(ROW()-8,[1]データ入力!$C:$W,18,FALSE),2-INT(LOG(ABS(VLOOKUP(ROW()-8,[1]データ入力!$C:$W,18,FALSE)))))))),"")),"検出せず"&CHAR(10)&"(<"&TEXT(ROUNDDOWN(SUBSTITUTE(VLOOKUP(ROW()-8,[1]データ入力!$C:$W,18,FALSE),"<","")*1,2-INT(LOG(ABS(SUBSTITUTE(VLOOKUP(ROW()-8,[1]データ入力!$C:$W,18,FALSE),"<","")*1)))),"0"&IF(LOG(ROUNDDOWN(SUBSTITUTE(VLOOKUP(ROW()-8,[1]データ入力!$C:$W,18,FALSE),"<","")*1,2-INT(LOG(ABS(SUBSTITUTE(VLOOKUP(ROW()-8,[1]データ入力!$C:$W,18,FALSE),"<","")*1)))))<2,"."&REPT("0",INT(3-LOG(ROUNDDOWN(SUBSTITUTE(VLOOKUP(ROW()-8,[1]データ入力!$C:$W,18,FALSE),"<","")*1,2-INT(LOG(ABS(SUBSTITUTE(VLOOKUP(ROW()-8,[1]データ入力!$C:$W,18,FALSE),"<","")*1))))))),""))&")") -> 検出せず (<9.60) | H67: =IF(ISNUMBER(VLOOKUP(ROW()-8,[1]データ入力!$C:$W,19,FALSE)),TEXT(ROUNDDOWN(VLOOKUP(ROW()-8,[1]データ入力!$C:$W,19,FALSE),2-INT(LOG(ABS(VLOOKUP(ROW()-8,[1]データ入力!$C:$W,19,FALSE))))),"0"&IF(LOG(ROUNDDOWN(VLOOKUP(ROW()-8,[1]データ入力!$C:$W,19,FALSE),2-INT(LOG(ABS(VLOOKUP(ROW()-8,[1]データ入力!$C:$W,19,FALSE))))))<2,"."&REPT("0",INT(3-LOG(ROUNDDOWN(VLOOKUP(ROW()-8,[1]データ入力!$C:$W,19,FALSE),2-INT(LOG(ABS(VLOOKUP(ROW()-8,[1]データ入力!$C:$W,19,FALSE)))))))),"")),"検出せず"&CHAR(10)&"(<"&TEXT(ROUNDDOWN(SUBSTITUTE(VLOOKUP(ROW()-8,[1]データ入力!$C:$W,19,FALSE),"<","")*1,2-INT(LOG(ABS(SUBSTITUTE(VLOOKUP(ROW()-8,[1]データ入力!$C:$W,19,FALSE),"<","")*1)))),"0"&IF(LOG(ROUNDDOWN(SUBSTITUTE(VLOOKUP(ROW()-8,[1]データ入力!$C:$W,19,FALSE),"<","")*1,2-INT(LOG(ABS(SUBSTITUTE(VLOOKUP(ROW()-8,[1]データ入力!$C:$W,19,FALSE),"<","")*1)))))<2,"."&REPT("0",INT(3-LOG(ROUNDDOWN(SUBSTITUTE(VLOOKUP(ROW()-8,[1]データ入力!$C:$W,19,FALSE),"<","")*1,2-INT(LOG(ABS(SUBSTITUTE(VLOOKUP(ROW()-8,[1]データ入力!$C:$W,19,FALSE),"<","")*1))))))),""))&")") -> 検出せず (<8.42) | I67: =IF(ISNUMBER(VLOOKUP(ROW()-8,[1]データ入力!$C:$W,20,FALSE)),TEXT(ROUND(VLOOKUP(ROW()-8,[1]データ入力!$C:$W,20,FALSE),1-INT(LOG(ABS(VLOOKUP(ROW()-8,[1]データ入力!$C:$W,20,FALSE))))),"0"&IF(LOG(ROUND(VLOOKUP(ROW()-8,[1]データ入力!$C:$W,20,FALSE),1-INT(LOG(ABS(VLOOKUP(ROW()-8,[1]データ入力!$C:$W,20,FALSE))))))<1,"."&REPT("0",INT(2-LOG(ABS(VLOOKUP(ROW()-8,[1]データ入力!$C:$W,20,FALSE))))),"")),"-") -> - | J67: =VLOOKUP(ROW()-8,[1]データ入力!$C:$W,15,FALSE) -> Ge | K67: =VLOOKUP(ROW()-8,[1]データ入力!$C:$W,13,FALSE) -> 制限なし
A68: =VLOOKUP(ROW()-8,[1]データ入力!$C:$W,17,FALSE) -> 46177 | B68: =VLOOKUP(ROW()-8,[1]データ入力!$C:$W,6,FALSE) -> 昭和村 | C68: =VLOOKUP(ROW()-8,[1]データ入力!$C:$W,21,FALSE) -> 山菜類（野生） | D68: =VLOOKUP(ROW()-8,[1]データ入力!$C:$W,10,FALSE) -> わらび | E68: =IF(ISBLANK(VLOOKUP(ROW()-8,[1]データ入力!$C:$W,11,FALSE)),"",VLOOKUP(ROW()-8,[1]データ入力!$C:$W,11,FALSE)) -> 野生 | F68: =IF(ISBLANK(VLOOKUP(ROW()-8,[1]データ入力!$C:$W,12,FALSE)),"",VLOOKUP(ROW()-8,[1]データ入力!$C:$W,12,FALSE)) -> － | G68: =IF(ISNUMBER(VLOOKUP(ROW()-8,[1]データ入力!$C:$W,18,FALSE)),TEXT(ROUNDDOWN(VLOOKUP(ROW()-8,[1]データ入力!$C:$W,18,FALSE),2-INT(LOG(ABS(VLOOKUP(ROW()-8,[1]データ入力!$C:$W,18,FALSE))))),"0"&IF(LOG(ROUNDDOWN(VLOOKUP(ROW()-8,[1]データ入力!$C:$W,18,FALSE),2-INT(LOG(ABS(VLOOKUP(ROW()-8,[1]データ入力!$C:$W,18,FALSE))))))<2,"."&REPT("0",INT(3-LOG(ROUNDDOWN(VLOOKUP(ROW()-8,[1]データ入力!$C:$W,18,FALSE),2-INT(LOG(ABS(VLOOKUP(ROW()-8,[1]データ入力!$C:$W,18,FALSE)))))))),"")),"検出せず"&CHAR(10)&"(<"&TEXT(ROUNDDOWN(SUBSTITUTE(VLOOKUP(ROW()-8,[1]データ入力!$C:$W,18,FALSE),"<","")*1,2-INT(LOG(ABS(SUBSTITUTE(VLOOKUP(ROW()-8,[1]データ入力!$C:$W,18,FALSE),"<","")*1)))),"0"&IF(LOG(ROUNDDOWN(SUBSTITUTE(VLOOKUP(ROW()-8,[1]データ入力!$C:$W,18,FALSE),"<","")*1,2-INT(LOG(ABS(SUBSTITUTE(VLOOKUP(ROW()-8,[1]データ入力!$C:$W,18,FALSE),"<","")*1)))))<2,"."&REPT("0",INT(3-LOG(ROUNDDOWN(SUBSTITUTE(VLOOKUP(ROW()-8,[1]データ入力!$C:$W,18,FALSE),"<","")*1,2-INT(LOG(ABS(SUBSTITUTE(VLOOKUP(ROW()-8,[1]データ入力!$C:$W,18,FALSE),"<","")*1))))))),""))&")") -> 検出せず (<8.19) | H68: =IF(ISNUMBER(VLOOKUP(ROW()-8,[1]データ入力!$C:$W,19,FALSE)),TEXT(ROUNDDOWN(VLOOKUP(ROW()-8,[1]データ入力!$C:$W,19,FALSE),2-INT(LOG(ABS(VLOOKUP(ROW()-8,[1]データ入力!$C:$W,19,FALSE))))),"0"&IF(LOG(ROUNDDOWN(VLOOKUP(ROW()-8,[1]データ入力!$C:$W,19,FALSE),2-INT(LOG(ABS(VLOOKUP(ROW()-8,[1]データ入力!$C:$W,19,FALSE))))))<2,"."&REPT("0",INT(3-LOG(ROUNDDOWN(VLOOKUP(ROW()-8,[1]データ入力!$C:$W,19,FALSE),2-INT(LOG(ABS(VLOOKUP(ROW()-8,[1]データ入力!$C:$W,19,FALSE)))))))),"")),"検出せず"&CHAR(10)&"(<"&TEXT(ROUNDDOWN(SUBSTITUTE(VLOOKUP(ROW()-8,[1]データ入力!$C:$W,19,FALSE),"<","")*1,2-INT(LOG(ABS(SUBSTITUTE(VLOOKUP(ROW()-8,[1]データ入力!$C:$W,19,FALSE),"<","")*1)))),"0"&IF(LOG(ROUNDDOWN(SUBSTITUTE(VLOOKUP(ROW()-8,[1]データ入力!$C:$W,19,FALSE),"<","")*1,2-INT(LOG(ABS(SUBSTITUTE(VLOOKUP(ROW()-8,[1]データ入力!$C:$W,19,FALSE),"<","")*1)))))<2,"."&REPT("0",INT(3-LOG(ROUNDDOWN(SUBSTITUTE(VLOOKUP(ROW()-8,[1]データ入力!$C:$W,19,FALSE),"<","")*1,2-INT(LOG(ABS(SUBSTITUTE(VLOOKUP(ROW()-8,[1]データ入力!$C:$W,19,FALSE),"<","")*1))))))),""))&")") -> 31.5 | I68: =IF(ISNUMBER(VLOOKUP(ROW()-8,[1]データ入力!$C:$W,20,FALSE)),TEXT(ROUND(VLOOKUP(ROW()-8,[1]データ入力!$C:$W,20,FALSE),1-INT(LOG(ABS(VLOOKUP(ROW()-8,[1]データ入力!$C:$W,20,FALSE))))),"0"&IF(LOG(ROUND(VLOOKUP(ROW()-8,[1]データ入力!$C:$W,20,FALSE),1-INT(LOG(ABS(VLOOKUP(ROW()-8,[1]データ入力!$C:$W,20,FALSE))))))<1,"."&REPT("0",INT(2-LOG(ABS(VLOOKUP(ROW()-8,[1]データ入力!$C:$W,20,FALSE))))),"")),"-") -> 32 | J68: =VLOOKUP(ROW()-8,[1]データ入力!$C:$W,15,FALSE) -> Ge | K68: =VLOOKUP(ROW()-8,[1]データ入力!$C:$W,13,FALSE) -> 制限なし
A69: =VLOOKUP(ROW()-8,[1]データ入力!$C:$W,17,FALSE) -> 46177 | B69: =VLOOKUP(ROW()-8,[1]データ入力!$C:$W,6,FALSE) -> 昭和村 | C69: =VLOOKUP(ROW()-8,[1]データ入力!$C:$W,21,FALSE) -> 山菜類（野生） | D69: =VLOOKUP(ROW()-8,[1]データ入力!$C:$W,10,FALSE) -> わらび | E69: =IF(ISBLANK(VLOOKUP(ROW()-8,[1]データ入力!$C:$W,11,FALSE)),"",VLOOKUP(ROW()-8,[1]データ入力!$C:$W,11,FALSE)) -> 野生 | F69: =IF(ISBLANK(VLOOKUP(ROW()-8,[1]データ入力!$C:$W,12,FALSE)),"",VLOOKUP(ROW()-8,[1]データ入力!$C:$W,12,FALSE)) -> － | G69: =IF(ISNUMBER(VLOOKUP(ROW()-8,[1]データ入力!$C:$W,18,FALSE)),TEXT(ROUNDDOWN(VLOOKUP(ROW()-8,[1]データ入力!$C:$W,18,FALSE),2-INT(LOG(ABS(VLOOKUP(ROW()-8,[1]データ入力!$C:$W,18,FALSE))))),"0"&IF(LOG(ROUNDDOWN(VLOOKUP(ROW()-8,[1]データ入力!$C:$W,18,FALSE),2-INT(LOG(ABS(VLOOKUP(ROW()-8,[1]データ入力!$C:$W,18,FALSE))))))<2,"."&REPT("0",INT(3-LOG(ROUNDDOWN(VLOOKUP(ROW()-8,[1]データ入力!$C:$W,18,FALSE),2-INT(LOG(ABS(VLOOKUP(ROW()-8,[1]データ入力!$C:$W,18,FALSE)))))))),"")),"検出せず"&CHAR(10)&"(<"&TEXT(ROUNDDOWN(SUBSTITUTE(VLOOKUP(ROW()-8,[1]データ入力!$C:$W,18,FALSE),"<","")*1,2-INT(LOG(ABS(SUBSTITUTE(VLOOKUP(ROW()-8,[1]データ入力!$C:$W,18,FALSE),"<","")*1)))),"0"&IF(LOG(ROUNDDOWN(SUBSTITUTE(VLOOKUP(ROW()-8,[1]データ入力!$C:$W,18,FALSE),"<","")*1,2-INT(LOG(ABS(SUBSTITUTE(VLOOKUP(ROW()-8,[1]データ入力!$C:$W,18,FALSE),"<","")*1)))))<2,"."&REPT("0",INT(3-LOG(ROUNDDOWN(SUBSTITUTE(VLOOKUP(ROW()-8,[1]データ入力!$C:$W,18,FALSE),"<","")*1,2-INT(LOG(ABS(SUBSTITUTE(VLOOKUP(ROW()-8,[1]データ入力!$C:$W,18,FALSE),"<","")*1))))))),""))&")") -> 検出せず (<9.46) | H69: =IF(ISNUMBER(VLOOKUP(ROW()-8,[1]データ入力!$C:$W,19,FALSE)),TEXT(ROUNDDOWN(VLOOKUP(ROW()-8,[1]データ入力!$C:$W,19,FALSE),2-INT(LOG(ABS(VLOOKUP(ROW()-8,[1]データ入力!$C:$W,19,FALSE))))),"0"&IF(LOG(ROUNDDOWN(VLOOKUP(ROW()-8,[1]データ入力!$C:$W,19,FALSE),2-INT(LOG(ABS(VLOOKUP(ROW()-8,[1]データ入力!$C:$W,19,FALSE))))))<2,"."&REPT("0",INT(3-LOG(ROUNDDOWN(VLOOKUP(ROW()-8,[1]データ入力!$C:$W,19,FALSE),2-INT(LOG(ABS(VLOOKUP(ROW()-8,[1]データ入力!$C:$W,19,FALSE)))))))),"")),"検出せず"&CHAR(10)&"(<"&TEXT(ROUNDDOWN(SUBSTITUTE(VLOOKUP(ROW()-8,[1]データ入力!$C:$W,19,FALSE),"<","")*1,2-INT(LOG(ABS(SUBSTITUTE(VLOOKUP(ROW()-8,[1]データ入力!$C:$W,19,FALSE),"<","")*1)))),"0"&IF(LOG(ROUNDDOWN(SUBSTITUTE(VLOOKUP(ROW()-8,[1]データ入力!$C:$W,19,FALSE),"<","")*1,2-INT(LOG(ABS(SUBSTITUTE(VLOOKUP(ROW()-8,[1]データ入力!$C:$W,19,FALSE),"<","")*1)))))<2,"."&REPT("0",INT(3-LOG(ROUNDDOWN(SUBSTITUTE(VLOOKUP(ROW()-8,[1]データ入力!$C:$W,19,FALSE),"<","")*1,2-INT(LOG(ABS(SUBSTITUTE(VLOOKUP(ROW()-8,[1]データ入力!$C:$W,19,FALSE),"<","")*1))))))),""))&")") -> 31.4 | I69: =IF(ISNUMBER(VLOOKUP(ROW()-8,[1]データ入力!$C:$W,20,FALSE)),TEXT(ROUND(VLOOKUP(ROW()-8,[1]データ入力!$C:$W,20,FALSE),1-INT(LOG(ABS(VLOOKUP(ROW()-8,[1]データ入力!$C:$W,20,FALSE))))),"0"&IF(LOG(ROUND(VLOOKUP(ROW()-8,[1]データ入力!$C:$W,20,FALSE),1-INT(LOG(ABS(VLOOKUP(ROW()-8,[1]データ入力!$C:$W,20,FALSE))))))<1,"."&REPT("0",INT(2-LOG(ABS(VLOOKUP(ROW()-8,[1]データ入力!$C:$W,20,FALSE))))),"")),"-") -> 31 | J69: =VLOOKUP(ROW()-8,[1]データ入力!$C:$W,15,FALSE) -> Ge | K69: =VLOOKUP(ROW()-8,[1]データ入力!$C:$W,13,FALSE) -> 制限なし
A70: =VLOOKUP(ROW()-8,[1]データ入力!$C:$W,17,FALSE) -> 46177 | B70: =VLOOKUP(ROW()-8,[1]データ入力!$C:$W,6,FALSE) -> 前橋市 | C70: =VLOOKUP(ROW()-8,[1]データ入力!$C:$W,21,FALSE) -> きのこ類（栽培） | D70: =VLOOKUP(ROW()-8,[1]データ入力!$C:$W,10,FALSE) -> 生しいたけ | E70: =IF(ISBLANK(VLOOKUP(ROW()-8,[1]データ入力!$C:$W,11,FALSE)),"",VLOOKUP(ROW()-8,[1]データ入力!$C:$W,11,FALSE)) -> 栽培 | F70: =IF(ISBLANK(VLOOKUP(ROW()-8,[1]データ入力!$C:$W,12,FALSE)),"",VLOOKUP(ROW()-8,[1]データ入力!$C:$W,12,FALSE)) -> 原木・施設栽培 | G70: =IF(ISNUMBER(VLOOKUP(ROW()-8,[1]データ入力!$C:$W,18,FALSE)),TEXT(ROUNDDOWN(VLOOKUP(ROW()-8,[1]データ入力!$C:$W,18,FALSE),2-INT(LOG(ABS(VLOOKUP(ROW()-8,[1]データ入力!$C:$W,18,FALSE))))),"0"&IF(LOG(ROUNDDOWN(VLOOKUP(ROW()-8,[1]データ入力!$C:$W,18,FALSE),2-INT(LOG(ABS(VLOOKUP(ROW()-8,[1]データ入力!$C:$W,18,FALSE))))))<2,"."&REPT("0",INT(3-LOG(ROUNDDOWN(VLOOKUP(ROW()-8,[1]データ入力!$C:$W,18,FALSE),2-INT(LOG(ABS(VLOOKUP(ROW()-8,[1]データ入力!$C:$W,18,FALSE)))))))),"")),"検出せず"&CHAR(10)&"(<"&TEXT(ROUNDDOWN(SUBSTITUTE(VLOOKUP(ROW()-8,[1]データ入力!$C:$W,18,FALSE),"<","")*1,2-INT(LOG(ABS(SUBSTITUTE(VLOOKUP(ROW()-8,[1]データ入力!$C:$W,18,FALSE),"<","")*1)))),"0"&IF(LOG(ROUNDDOWN(SUBSTITUTE(VLOOKUP(ROW()-8,[1]データ入力!$C:$W,18,FALSE),"<","")*1,2-INT(LOG(ABS(SUBSTITUTE(VLOOKUP(ROW()-8,[1]データ入力!$C:$W,18,FALSE),"<","")*1)))))<2,"."&REPT("0",INT(3-LOG(ROUNDDOWN(SUBSTITUTE(VLOOKUP(ROW()-8,[1]データ入力!$C:$W,18,FALSE),"<","")*1,2-INT(LOG(ABS(SUBSTITUTE(VLOOKUP(ROW()-8,[1]データ入力!$C:$W,18,FALSE),"<","")*1))))))),""))&")") -> 検出せず (<9.63) | H70: =IF(ISNUMBER(VLOOKUP(ROW()-8,[1]データ入力!$C:$W,19,FALSE)),TEXT(ROUNDDOWN(VLOOKUP(ROW()-8,[1]データ入力!$C:$W,19,FALSE),2-INT(LOG(ABS(VLOOKUP(ROW()-8,[1]データ入力!$C:$W,19,FALSE))))),"0"&IF(LOG(ROUNDDOWN(VLOOKUP(ROW()-8,[1]データ入力!$C:$W,19,FALSE),2-INT(LOG(ABS(VLOOKUP(ROW()-8,[1]データ入力!$C:$W,19,FALSE))))))<2,"."&REPT("0",INT(3-LOG(ROUNDDOWN(VLOOKUP(ROW()-8,[1]データ入力!$C:$W,19,FALSE),2-INT(LOG(ABS(VLOOKUP(ROW()-8,[1]データ入力!$C:$W,19,FALSE)))))))),"")),"検出せず"&CHAR(10)&"(<"&TEXT(ROUNDDOWN(SUBSTITUTE(VLOOKUP(ROW()-8,[1]データ入力!$C:$W,19,FALSE),"<","")*1,2-INT(LOG(ABS(SUBSTITUTE(VLOOKUP(ROW()-8,[1]データ入力!$C:$W,19,FALSE),"<","")*1)))),"0"&IF(LOG(ROUNDDOWN(SUBSTITUTE(VLOOKUP(ROW()-8,[1]データ入力!$C:$W,19,FALSE),"<","")*1,2-INT(LOG(ABS(SUBSTITUTE(VLOOKUP(ROW()-8,[1]データ入力!$C:$W,19,FALSE),"<","")*1)))))<2,"."&REPT("0",INT(3-LOG(ROUNDDOWN(SUBSTITUTE(VLOOKUP(ROW()-8,[1]データ入力!$C:$W,19,FALSE),"<","")*1,2-INT(LOG(ABS(SUBSTITUTE(VLOOKUP(ROW()-8,[1]データ入力!$C:$W,19,FALSE),"<","")*1))))))),""))&")") -> 14.5 | I70: =IF(ISNUMBER(VLOOKUP(ROW()-8,[1]データ入力!$C:$W,20,FALSE)),TEXT(ROUND(VLOOKUP(ROW()-8,[1]データ入力!$C:$W,20,FALSE),1-INT(LOG(ABS(VLOOKUP(ROW()-8,[1]データ入力!$C:$W,20,FALSE))))),"0"&IF(LOG(ROUND(VLOOKUP(ROW()-8,[1]データ入力!$C:$W,20,FALSE),1-INT(LOG(ABS(VLOOKUP(ROW()-8,[1]データ入力!$C:$W,20,FALSE))))))<1,"."&REPT("0",INT(2-LOG(ABS(VLOOKUP(ROW()-8,[1]データ入力!$C:$W,20,FALSE))))),"")),"-") -> 15 | J70: =VLOOKUP(ROW()-8,[1]データ入力!$C:$W,15,FALSE) -> Ge | K70: =VLOOKUP(ROW()-8,[1]データ入力!$C:$W,13,FALSE) -> 制限なし
A71: =VLOOKUP(ROW()-8,[1]データ入力!$C:$W,17,FALSE) -> 46183 | B71: =VLOOKUP(ROW()-8,[1]データ入力!$C:$W,6,FALSE) -> みなかみ町 | C71: =VLOOKUP(ROW()-8,[1]データ入力!$C:$W,21,FALSE) -> 山菜類（野生） | D71: =VLOOKUP(ROW()-8,[1]データ入力!$C:$W,10,FALSE) -> わらび | E71: =IF(ISBLANK(VLOOKUP(ROW()-8,[1]データ入力!$C:$W,11,FALSE)),"",VLOOKUP(ROW()-8,[1]データ入力!$C:$W,11,FALSE)) -> 野生 | F71: =IF(ISBLANK(VLOOKUP(ROW()-8,[1]データ入力!$C:$W,12,FALSE)),"",VLOOKUP(ROW()-8,[1]データ入力!$C:$W,12,FALSE)) -> － | G71: =IF(ISNUMBER(VLOOKUP(ROW()-8,[1]データ入力!$C:$W,18,FALSE)),TEXT(ROUNDDOWN(VLOOKUP(ROW()-8,[1]データ入力!$C:$W,18,FALSE),2-INT(LOG(ABS(VLOOKUP(ROW()-8,[1]データ入力!$C:$W,18,FALSE))))),"0"&IF(LOG(ROUNDDOWN(VLOOKUP(ROW()-8,[1]データ入力!$C:$W,18,FALSE),2-INT(LOG(ABS(VLOOKUP(ROW()-8,[1]データ入力!$C:$W,18,FALSE))))))<2,"."&REPT("0",INT(3-LOG(ROUNDDOWN(VLOOKUP(ROW()-8,[1]データ入力!$C:$W,18,FALSE),2-INT(LOG(ABS(VLOOKUP(ROW()-8,[1]データ入力!$C:$W,18,FALSE)))))))),"")),"検出せず"&CHAR(10)&"(<"&TEXT(ROUNDDOWN(SUBSTITUTE(VLOOKUP(ROW()-8,[1]データ入力!$C:$W,18,FALSE),"<","")*1,2-INT(LOG(ABS(SUBSTITUTE(VLOOKUP(ROW()-8,[1]データ入力!$C:$W,18,FALSE),"<","")*1)))),"0"&IF(LOG(ROUNDDOWN(SUBSTITUTE(VLOOKUP(ROW()-8,[1]データ入力!$C:$W,18,FALSE),"<","")*1,2-INT(LOG(ABS(SUBSTITUTE(VLOOKUP(ROW()-8,[1]データ入力!$C:$W,18,FALSE),"<","")*1)))))<2,"."&REPT("0",INT(3-LOG(ROUNDDOWN(SUBSTITUTE(VLOOKUP(ROW()-8,[1]データ入力!$C:$W,18,FALSE),"<","")*1,2-INT(LOG(ABS(SUBSTITUTE(VLOOKUP(ROW()-8,[1]データ入力!$C:$W,18,FALSE),"<","")*1))))))),""))&")") -> 検出せず (<8.67) | H71: =IF(ISNUMBER(VLOOKUP(ROW()-8,[1]データ入力!$C:$W,19,FALSE)),TEXT(ROUNDDOWN(VLOOKUP(ROW()-8,[1]データ入力!$C:$W,19,FALSE),2-INT(LOG(ABS(VLOOKUP(ROW()-8,[1]データ入力!$C:$W,19,FALSE))))),"0"&IF(LOG(ROUNDDOWN(VLOOKUP(ROW()-8,[1]データ入力!$C:$W,19,FALSE),2-INT(LOG(ABS(VLOOKUP(ROW()-8,[1]データ入力!$C:$W,19,FALSE))))))<2,"."&REPT("0",INT(3-LOG(ROUNDDOWN(VLOOKUP(ROW()-8,[1]データ入力!$C:$W,19,FALSE),2-INT(LOG(ABS(VLOOKUP(ROW()-8,[1]データ入力!$C:$W,19,FALSE)))))))),"")),"検出せず"&CHAR(10)&"(<"&TEXT(ROUNDDOWN(SUBSTITUTE(VLOOKUP(ROW()-8,[1]データ入力!$C:$W,19,FALSE),"<","")*1,2-INT(LOG(ABS(SUBSTITUTE(VLOOKUP(ROW()-8,[1]データ入力!$C:$W,19,FALSE),"<","")*1)))),"0"&IF(LOG(ROUNDDOWN(SUBSTITUTE(VLOOKUP(ROW()-8,[1]データ入力!$C:$W,19,FALSE),"<","")*1,2-INT(LOG(ABS(SUBSTITUTE(VLOOKUP(ROW()-8,[1]データ入力!$C:$W,19,FALSE),"<","")*1)))))<2,"."&REPT("0",INT(3-LOG(ROUNDDOWN(SUBSTITUTE(VLOOKUP(ROW()-8,[1]データ入力!$C:$W,19,FALSE),"<","")*1,2-INT(LOG(ABS(SUBSTITUTE(VLOOKUP(ROW()-8,[1]データ入力!$C:$W,19,FALSE),"<","")*1))))))),""))&")") -> 検出せず (<8.14) | I71: =IF(ISNUMBER(VLOOKUP(ROW()-8,[1]データ入力!$C:$W,20,FALSE)),TEXT(ROUND(VLOOKUP(ROW()-8,[1]データ入力!$C:$W,20,FALSE),1-INT(LOG(ABS(VLOOKUP(ROW()-8,[1]データ入力!$C:$W,20,FALSE))))),"0"&IF(LOG(ROUND(VLOOKUP(ROW()-8,[1]データ入力!$C:$W,20,FALSE),1-INT(LOG(ABS(VLOOKUP(ROW()-8,[1]データ入力!$C:$W,20,FALSE))))))<1,"."&REPT("0",INT(2-LOG(ABS(VLOOKUP(ROW()-8,[1]データ入力!$C:$W,20,FALSE))))),"")),"-") -> - | J71: =VLOOKUP(ROW()-8,[1]データ入力!$C:$W,15,FALSE) -> Ge | K71: =VLOOKUP(ROW()-8,[1]データ入力!$C:$W,13,FALSE) -> 制限なし
A72: =VLOOKUP(ROW()-8,[1]データ入力!$C:$W,17,FALSE) -> 46183 | B72: =VLOOKUP(ROW()-8,[1]データ入力!$C:$W,6,FALSE) -> 下仁田町 | C72: =VLOOKUP(ROW()-8,[1]データ入力!$C:$W,21,FALSE) -> きのこ類（栽培） | D72: =VLOOKUP(ROW()-8,[1]データ入力!$C:$W,10,FALSE) -> 生しいたけ | E72: =IF(ISBLANK(VLOOKUP(ROW()-8,[1]データ入力!$C:$W,11,FALSE)),"",VLOOKUP(ROW()-8,[1]データ入力!$C:$W,11,FALSE)) -> 栽培 | F72: =IF(ISBLANK(VLOOKUP(ROW()-8,[1]データ入力!$C:$W,12,FALSE)),"",VLOOKUP(ROW()-8,[1]データ入力!$C:$W,12,FALSE)) -> 原木・施設栽培 | G72: =IF(ISNUMBER(VLOOKUP(ROW()-8,[1]データ入力!$C:$W,18,FALSE)),TEXT(ROUNDDOWN(VLOOKUP(ROW()-8,[1]データ入力!$C:$W,18,FALSE),2-INT(LOG(ABS(VLOOKUP(ROW()-8,[1]データ入力!$C:$W,18,FALSE))))),"0"&IF(LOG(ROUNDDOWN(VLOOKUP(ROW()-8,[1]データ入力!$C:$W,18,FALSE),2-INT(LOG(ABS(VLOOKUP(ROW()-8,[1]データ入力!$C:$W,18,FALSE))))))<2,"."&REPT("0",INT(3-LOG(ROUNDDOWN(VLOOKUP(ROW()-8,[1]データ入力!$C:$W,18,FALSE),2-INT(LOG(ABS(VLOOKUP(ROW()-8,[1]データ入力!$C:$W,18,FALSE)))))))),"")),"検出せず"&CHAR(10)&"(<"&TEXT(ROUNDDOWN(SUBSTITUTE(VLOOKUP(ROW()-8,[1]データ入力!$C:$W,18,FALSE),"<","")*1,2-INT(LOG(ABS(SUBSTITUTE(VLOOKUP(ROW()-8,[1]データ入力!$C:$W,18,FALSE),"<","")*1)))),"0"&IF(LOG(ROUNDDOWN(SUBSTITUTE(VLOOKUP(ROW()-8,[1]データ入力!$C:$W,18,FALSE),"<","")*1,2-INT(LOG(ABS(SUBSTITUTE(VLOOKUP(ROW()-8,[1]データ入力!$C:$W,18,FALSE),"<","")*1)))))<2,"."&REPT("0",INT(3-LOG(ROUNDDOWN(SUBSTITUTE(VLOOKUP(ROW()-8,[1]データ入力!$C:$W,18,FALSE),"<","")*1,2-INT(LOG(ABS(SUBSTITUTE(VLOOKUP(ROW()-8,[1]データ入力!$C:$W,18,FALSE),"<","")*1))))))),""))&")") -> 検出せず (<8.30) | H72: =IF(ISNUMBER(VLOOKUP(ROW()-8,[1]データ入力!$C:$W,19,FALSE)),TEXT(ROUNDDOWN(VLOOKUP(ROW()-8,[1]データ入力!$C:$W,19,FALSE),2-INT(LOG(ABS(VLOOKUP(ROW()-8,[1]データ入力!$C:$W,19,FALSE))))),"0"&IF(LOG(ROUNDDOWN(VLOOKUP(ROW()-8,[1]データ入力!$C:$W,19,FALSE),2-INT(LOG(ABS(VLOOKUP(ROW()-8,[1]データ入力!$C:$W,19,FALSE))))))<2,"."&REPT("0",INT(3-LOG(ROUNDDOWN(VLOOKUP(ROW()-8,[1]データ入力!$C:$W,19,FALSE),2-INT(LOG(ABS(VLOOKUP(ROW()-8,[1]データ入力!$C:$W,19,FALSE)))))))),"")),"検出せず"&CHAR(10)&"(<"&TEXT(ROUNDDOWN(SUBSTITUTE(VLOOKUP(ROW()-8,[1]データ入力!$C:$W,19,FALSE),"<","")*1,2-INT(LOG(ABS(SUBSTITUTE(VLOOKUP(ROW()-8,[1]データ入力!$C:$W,19,FALSE),"<","")*1)))),"0"&IF(LOG(ROUNDDOWN(SUBSTITUTE(VLOOKUP(ROW()-8,[1]データ入力!$C:$W,19,FALSE),"<","")*1,2-INT(LOG(ABS(SUBSTITUTE(VLOOKUP(ROW()-8,[1]データ入力!$C:$W,19,FALSE),"<","")*1)))))<2,"."&REPT("0",INT(3-LOG(ROUNDDOWN(SUBSTITUTE(VLOOKUP(ROW()-8,[1]データ入力!$C:$W,19,FALSE),"<","")*1,2-INT(LOG(ABS(SUBSTITUTE(VLOOKUP(ROW()-8,[1]データ入力!$C:$W,19,FALSE),"<","")*1))))))),""))&")") -> 16.9 | I72: =IF(ISNUMBER(VLOOKUP(ROW()-8,[1]データ入力!$C:$W,20,FALSE)),TEXT(ROUND(VLOOKUP(ROW()-8,[1]データ入力!$C:$W,20,FALSE),1-INT(LOG(ABS(VLOOKUP(ROW()-8,[1]データ入力!$C:$W,20,FALSE))))),"0"&IF(LOG(ROUND(VLOOKUP(ROW()-8,[1]データ入力!$C:$W,20,FALSE),1-INT(LOG(ABS(VLOOKUP(ROW()-8,[1]データ入力!$C:$W,20,FALSE))))))<1,"."&REPT("0",INT(2-LOG(ABS(VLOOKUP(ROW()-8,[1]データ入力!$C:$W,20,FALSE))))),"")),"-") -> 17 | J72: =VLOOKUP(ROW()-8,[1]データ入力!$C:$W,15,FALSE) -> Ge | K72: =VLOOKUP(ROW()-8,[1]データ入力!$C:$W,13,FALSE) -> 制限なし
A73: =VLOOKUP(ROW()-8,[1]データ入力!$C:$W,17,FALSE) -> 46190 | B73: =VLOOKUP(ROW()-8,[1]データ入力!$C:$W,6,FALSE) -> 沼田市 | C73: =VLOOKUP(ROW()-8,[1]データ入力!$C:$W,21,FALSE) -> 山菜類（野生） | D73: =VLOOKUP(ROW()-8,[1]データ入力!$C:$W,10,FALSE) -> たけのこ(マダケ) | E73: =IF(ISBLANK(VLOOKUP(ROW()-8,[1]データ入力!$C:$W,11,FALSE)),"",VLOOKUP(ROW()-8,[1]データ入力!$C:$W,11,FALSE)) -> 野生 | F73: =IF(ISBLANK(VLOOKUP(ROW()-8,[1]データ入力!$C:$W,12,FALSE)),"",VLOOKUP(ROW()-8,[1]データ入力!$C:$W,12,FALSE)) -> － | G73: =IF(ISNUMBER(VLOOKUP(ROW()-8,[1]データ入力!$C:$W,18,FALSE)),TEXT(ROUNDDOWN(VLOOKUP(ROW()-8,[1]データ入力!$C:$W,18,FALSE),2-INT(LOG(ABS(VLOOKUP(ROW()-8,[1]データ入力!$C:$W,18,FALSE))))),"0"&IF(LOG(ROUNDDOWN(VLOOKUP(ROW()-8,[1]データ入力!$C:$W,18,FALSE),2-INT(LOG(ABS(VLOOKUP(ROW()-8,[1]データ入力!$C:$W,18,FALSE))))))<2,"."&REPT("0",INT(3-LOG(ROUNDDOWN(VLOOKUP(ROW()-8,[1]データ入力!$C:$W,18,FALSE),2-INT(LOG(ABS(VLOOKUP(ROW()-8,[1]データ入力!$C:$W,18,FALSE)))))))),"")),"検出せず"&CHAR(10)&"(<"&TEXT(ROUNDDOWN(SUBSTITUTE(VLOOKUP(ROW()-8,[1]データ入力!$C:$W,18,FALSE),"<","")*1,2-INT(LOG(ABS(SUBSTITUTE(VLOOKUP(ROW()-8,[1]データ入力!$C:$W,18,FALSE),"<","")*1)))),"0"&IF(LOG(ROUNDDOWN(SUBSTITUTE(VLOOKUP(ROW()-8,[1]データ入力!$C:$W,18,FALSE),"<","")*1,2-INT(LOG(ABS(SUBSTITUTE(VLOOKUP(ROW()-8,[1]データ入力!$C:$W,18,FALSE),"<","")*1)))))<2,"."&REPT("0",INT(3-LOG(ROUNDDOWN(SUBSTITUTE(VLOOKUP(ROW()-8,[1]データ入力!$C:$W,18,FALSE),"<","")*1,2-INT(LOG(ABS(SUBSTITUTE(VLOOKUP(ROW()-8,[1]データ入力!$C:$W,18,FALSE),"<","")*1))))))),""))&")") -> 検出せず (<9.63) | H73: =IF(ISNUMBER(VLOOKUP(ROW()-8,[1]データ入力!$C:$W,19,FALSE)),TEXT(ROUNDDOWN(VLOOKUP(ROW()-8,[1]データ入力!$C:$W,19,FALSE),2-INT(LOG(ABS(VLOOKUP(ROW()-8,[1]データ入力!$C:$W,19,FALSE))))),"0"&IF(LOG(ROUNDDOWN(VLOOKUP(ROW()-8,[1]データ入力!$C:$W,19,FALSE),2-INT(LOG(ABS(VLOOKUP(ROW()-8,[1]データ入力!$C:$W,19,FALSE))))))<2,"."&REPT("0",INT(3-LOG(ROUNDDOWN(VLOOKUP(ROW()-8,[1]データ入力!$C:$W,19,FALSE),2-INT(LOG(ABS(VLOOKUP(ROW()-8,[1]データ入力!$C:$W,19,FALSE)))))))),"")),"検出せず"&CHAR(10)&"(<"&TEXT(ROUNDDOWN(SUBSTITUTE(VLOOKUP(ROW()-8,[1]データ入力!$C:$W,19,FALSE),"<","")*1,2-INT(LOG(ABS(SUBSTITUTE(VLOOKUP(ROW()-8,[1]データ入力!$C:$W,19,FALSE),"<","")*1)))),"0"&IF(LOG(ROUNDDOWN(SUBSTITUTE(VLOOKUP(ROW()-8,[1]データ入力!$C:$W,19,FALSE),"<","")*1,2-INT(LOG(ABS(SUBSTITUTE(VLOOKUP(ROW()-8,[1]データ入力!$C:$W,19,FALSE),"<","")*1)))))<2,"."&REPT("0",INT(3-LOG(ROUNDDOWN(SUBSTITUTE(VLOOKUP(ROW()-8,[1]データ入力!$C:$W,19,FALSE),"<","")*1,2-INT(LOG(ABS(SUBSTITUTE(VLOOKUP(ROW()-8,[1]データ入力!$C:$W,19,FALSE),"<","")*1))))))),""))&")") -> 検出せず (<6.82) | I73: =IF(ISNUMBER(VLOOKUP(ROW()-8,[1]データ入力!$C:$W,20,FALSE)),TEXT(ROUND(VLOOKUP(ROW()-8,[1]データ入力!$C:$W,20,FALSE),1-INT(LOG(ABS(VLOOKUP(ROW()-8,[1]データ入力!$C:$W,20,FALSE))))),"0"&IF(LOG(ROUND(VLOOKUP(ROW()-8,[1]データ入力!$C:$W,20,FALSE),1-INT(LOG(ABS(VLOOKUP(ROW()-8,[1]データ入力!$C:$W,20,FALSE))))))<1,"."&REPT("0",INT(2-LOG(ABS(VLOOKUP(ROW()-8,[1]データ入力!$C:$W,20,FALSE))))),"")),"-") -> - | J73: =VLOOKUP(ROW()-8,[1]データ入力!$C:$W,15,FALSE) -> Ge | K73: =VLOOKUP(ROW()-8,[1]データ入力!$C:$W,13,FALSE) -> 制限なし
A74: =VLOOKUP(ROW()-8,[1]データ入力!$C:$W,17,FALSE) -> 46190 | B74: =VLOOKUP(ROW()-8,[1]データ入力!$C:$W,6,FALSE) -> 渋川市 | C74: =VLOOKUP(ROW()-8,[1]データ入力!$C:$W,21,FALSE) -> きのこ類（栽培） | D74: =VLOOKUP(ROW()-8,[1]データ入力!$C:$W,10,FALSE) -> 生しいたけ | E74: =IF(ISBLANK(VLOOKUP(ROW()-8,[1]データ入力!$C:$W,11,FALSE)),"",VLOOKUP(ROW()-8,[1]データ入力!$C:$W,11,FALSE)) -> 栽培 | F74: =IF(ISBLANK(VLOOKUP(ROW()-8,[1]データ入力!$C:$W,12,FALSE)),"",VLOOKUP(ROW()-8,[1]データ入力!$C:$W,12,FALSE)) -> 原木・施設栽培 | G74: =IF(ISNUMBER(VLOOKUP(ROW()-8,[1]データ入力!$C:$W,18,FALSE)),TEXT(ROUNDDOWN(VLOOKUP(ROW()-8,[1]データ入力!$C:$W,18,FALSE),2-INT(LOG(ABS(VLOOKUP(ROW()-8,[1]データ入力!$C:$W,18,FALSE))))),"0"&IF(LOG(ROUNDDOWN(VLOOKUP(ROW()-8,[1]データ入力!$C:$W,18,FALSE),2-INT(LOG(ABS(VLOOKUP(ROW()-8,[1]データ入力!$C:$W,18,FALSE))))))<2,"."&REPT("0",INT(3-LOG(ROUNDDOWN(VLOOKUP(ROW()-8,[1]データ入力!$C:$W,18,FALSE),2-INT(LOG(ABS(VLOOKUP(ROW()-8,[1]データ入力!$C:$W,18,FALSE)))))))),"")),"検出せず"&CHAR(10)&"(<"&TEXT(ROUNDDOWN(SUBSTITUTE(VLOOKUP(ROW()-8,[1]データ入力!$C:$W,18,FALSE),"<","")*1,2-INT(LOG(ABS(SUBSTITUTE(VLOOKUP(ROW()-8,[1]データ入力!$C:$W,18,FALSE),"<","")*1)))),"0"&IF(LOG(ROUNDDOWN(SUBSTITUTE(VLOOKUP(ROW()-8,[1]データ入力!$C:$W,18,FALSE),"<","")*1,2-INT(LOG(ABS(SUBSTITUTE(VLOOKUP(ROW()-8,[1]データ入力!$C:$W,18,FALSE),"<","")*1)))))<2,"."&REPT("0",INT(3-LOG(ROUNDDOWN(SUBSTITUTE(VLOOKUP(ROW()-8,[1]データ入力!$C:$W,18,FALSE),"<","")*1,2-INT(LOG(ABS(SUBSTITUTE(VLOOKUP(ROW()-8,[1]データ入力!$C:$W,18,FALSE),"<","")*1))))))),""))&")") -> 検出せず (<9.31) | H74: =IF(ISNUMBER(VLOOKUP(ROW()-8,[1]データ入力!$C:$W,19,FALSE)),TEXT(ROUNDDOWN(VLOOKUP(ROW()-8,[1]データ入力!$C:$W,19,FALSE),2-INT(LOG(ABS(VLOOKUP(ROW()-8,[1]データ入力!$C:$W,19,FALSE))))),"0"&IF(LOG(ROUNDDOWN(VLOOKUP(ROW()-8,[1]データ入力!$C:$W,19,FALSE),2-INT(LOG(ABS(VLOOKUP(ROW()-8,[1]データ入力!$C:$W,19,FALSE))))))<2,"."&REPT("0",INT(3-LOG(ROUNDDOWN(VLOOKUP(ROW()-8,[1]データ入力!$C:$W,19,FALSE),2-INT(LOG(ABS(VLOOKUP(ROW()-8,[1]データ入力!$C:$W,19,FALSE)))))))),"")),"検出せず"&CHAR(10)&"(<"&TEXT(ROUNDDOWN(SUBSTITUTE(VLOOKUP(ROW()-8,[1]データ入力!$C:$W,19,FALSE),"<","")*1,2-INT(LOG(ABS(SUBSTITUTE(VLOOKUP(ROW()-8,[1]データ入力!$C:$W,19,FALSE),"<","")*1)))),"0"&IF(LOG(ROUNDDOWN(SUBSTITUTE(VLOOKUP(ROW()-8,[1]データ入力!$C:$W,19,FALSE),"<","")*1,2-INT(LOG(ABS(SUBSTITUTE(VLOOKUP(ROW()-8,[1]データ入力!$C:$W,19,FALSE),"<","")*1)))))<2,"."&REPT("0",INT(3-LOG(ROUNDDOWN(SUBSTITUTE(VLOOKUP(ROW()-8,[1]データ入力!$C:$W,19,FALSE),"<","")*1,2-INT(LOG(ABS(SUBSTITUTE(VLOOKUP(ROW()-8,[1]データ入力!$C:$W,19,FALSE),"<","")*1))))))),""))&")") -> 8.39 | I74: =IF(ISNUMBER(VLOOKUP(ROW()-8,[1]データ入力!$C:$W,20,FALSE)),TEXT(ROUND(VLOOKUP(ROW()-8,[1]データ入力!$C:$W,20,FALSE),1-INT(LOG(ABS(VLOOKUP(ROW()-8,[1]データ入力!$C:$W,20,FALSE))))),"0"&IF(LOG(ROUND(VLOOKUP(ROW()-8,[1]データ入力!$C:$W,20,FALSE),1-INT(LOG(ABS(VLOOKUP(ROW()-8,[1]データ入力!$C:$W,20,FALSE))))))<1,"."&REPT("0",INT(2-LOG(ABS(VLOOKUP(ROW()-8,[1]データ入力!$C:$W,20,FALSE))))),"")),"-") -> 8.4 | J74: =VLOOKUP(ROW()-8,[1]データ入力!$C:$W,15,FALSE) -> Ge | K74: =VLOOKUP(ROW()-8,[1]データ入力!$C:$W,13,FALSE) -> 制限なし
... A97: =VLOOKUP(ROW()-8,[1]データ入力!$C:$W,17,FALSE) -> 46218 | B97: =VLOOKUP(ROW()-8,[1]データ入力!$C:$W,6,FALSE) -> 前橋市 | C97: =VLOOKUP(ROW()-8,[1]データ入力!$C:$W,21,FALSE) -> 麦 | D97: =VLOOKUP(ROW()-8,[1]データ入力!$C:$W,10,FALSE) -> 小麦 | E97: =IF(ISBLANK(VLOOKUP(ROW()-8,[1]データ入力!$C:$W,11,FALSE)),"",VLOOKUP(ROW()-8,[1]データ入力!$C:$W,11,FALSE)) -> 栽培 | F97: =IF(ISBLANK(VLOOKUP(ROW()-8,[1]データ入力!$C:$W,12,FALSE)),"",VLOOKUP(ROW()-8,[1]データ入力!$C:$W,12,FALSE)) -> 露地栽培 | G97: =IF(ISNUMBER(VLOOKUP(ROW()-8,[1]データ入力!$C:$W,18,FALSE)),TEXT(ROUNDDOWN(VLOOKUP(ROW()-8,[1]データ入力!$C:$W,18,FALSE),2-INT(LOG(ABS(VLOOKUP(ROW()-8,[1]データ入力!$C:$W,18,FALSE))))),"0"&IF(LOG(ROUNDDOWN(VLOOKUP(ROW()-8,[1]データ入力!$C:$W,18,FALSE),2-INT(LOG(ABS(VLOOKUP(ROW()-8,[1]データ入力!$C:$W,18,FALSE))))))<2,"."&REPT("0",INT(3-LOG(ROUNDDOWN(VLOOKUP(ROW()-8,[1]データ入力!$C:$W,18,FALSE),2-INT(LOG(ABS(VLOOKUP(ROW()-8,[1]データ入力!$C:$W,18,FALSE)))))))),"")),"検出せず"&CHAR(10)&"(<"&TEXT(ROUNDDOWN(SUBSTITUTE(VLOOKUP(ROW()-8,[1]データ入力!$C:$W,18,FALSE),"<","")*1,2-INT(LOG(ABS(SUBSTITUTE(VLOOKUP(ROW()-8,[1]データ入力!$C:$W,18,FALSE),"<","")*1)))),"0"&IF(LOG(ROUNDDOWN(SUBSTITUTE(VLOOKUP(ROW()-8,[1]データ入力!$C:$W,18,FALSE),"<","")*1,2-INT(LOG(ABS(SUBSTITUTE(VLOOKUP(ROW()-8,[1]データ入力!$C:$W,18,FALSE),"<","")*1)))))<2,"."&REPT("0",INT(3-LOG(ROUNDDOWN(SUBSTITUTE(VLOOKUP(ROW()-8,[1]データ入力!$C:$W,18,FALSE),"<","")*1,2-INT(LOG(ABS(SUBSTITUTE(VLOOKUP(ROW()-8,[1]データ入力!$C:$W,18,FALSE),"<","")*1))))))),""))&")") -> 検出せず (<1.90) | H97: =IF(ISNUMBER(VLOOKUP(ROW()-8,[1]データ入力!$C:$W,19,FALSE)),TEXT(ROUNDDOWN(VLOOKUP(ROW()-8,[1]データ入力!$C:$W,19,FALSE),2-INT(LOG(ABS(VLOOKUP(ROW()-8,[1]データ入力!$C:$W,19,FALSE))))),"0"&IF(LOG(ROUNDDOWN(VLOOKUP(ROW()-8,[1]データ入力!$C:$W,19,FALSE),2-INT(LOG(ABS(VLOOKUP(ROW()-8,[1]データ入力!$C:$W,19,FALSE))))))<2,"."&REPT("0",INT(3-LOG(ROUNDDOWN(VLOOKUP(ROW()-8,[1]データ入力!$C:$W,19,FALSE),2-INT(LOG(ABS(VLOOKUP(ROW()-8,[1]データ入力!$C:$W,19,FALSE)))))))),"")),"検出せず"&CHAR(10)&"(<"&TEXT(ROUNDDOWN(SUBSTITUTE(VLOOKUP(ROW()-8,[1]データ入力!$C:$W,19,FALSE),"<","")*1,2-INT(LOG(ABS(SUBSTITUTE(VLOOKUP(ROW()-8,[1]データ入力!$C:$W,19,FALSE),"<","")*1)))),"0"&IF(LOG(ROUNDDOWN(SUBSTITUTE(VLOOKUP(ROW()-8,[1]データ入力!$C:$W,19,FALSE),"<","")*1,2-INT(LOG(ABS(SUBSTITUTE(VLOOKUP(ROW()-8,[1]データ入力!$C:$W,19,FALSE),"<","")*1)))))<2,"."&REPT("0",INT(3-LOG(ROUNDDOWN(SUBSTITUTE(VLOOKUP(ROW()-8,[1]データ入力!$C:$W,19,FALSE),"<","")*1,2-INT(LOG(ABS(SUBSTITUTE(VLOOKUP(ROW()-8,[1]データ入力!$C:$W,19,FALSE),"<","")*1))))))),""))&")") -> 検出せず (<1.80) | I97: =IF(ISNUMBER(VLOOKUP(ROW()-8,[1]データ入力!$C:$W,20,FALSE)),TEXT(ROUND(VLOOKUP(ROW()-8,[1]データ入力!$C:$W,20,FALSE),1-INT(LOG(ABS(VLOOKUP(ROW()-8,[1]データ入力!$C:$W,20,FALSE))))),"0"&IF(LOG(ROUND(VLOOKUP(ROW()-8,[1]データ入力!$C:$W,20,FALSE),1-INT(LOG(ABS(VLOOKUP(ROW()-8,[1]データ入力!$C:$W,20,FALSE))))))<1,"."&REPT("0",INT(2-LOG(ABS(VLOOKUP(ROW()-8,[1]データ入力!$C:$W,20,FALSE))))),"")),"-") -> - | J97: =VLOOKUP(ROW()-8,[1]データ入力!$C:$W,15,FALSE) -> Ｇｅ | K97: =VLOOKUP(ROW()-8,[1]データ入力!$C:$W,13,FALSE) -> 制限なし
